BEGIN:VCALENDAR
VERSION:2.0
PRODID:-//Familienzentrum Hochrhein - ECPv6.15.16//NONSGML v1.0//EN
CALSCALE:GREGORIAN
METHOD:PUBLISH
X-ORIGINAL-URL:https://faz-hochrhein.de
X-WR-CALDESC:Veranstaltungen für Familienzentrum Hochrhein
REFRESH-INTERVAL;VALUE=DURATION:PT1H
X-Robots-Tag:noindex
X-PUBLISHED-TTL:PT1H
BEGIN:VTIMEZONE
TZID:Europe/Berlin
BEGIN:DAYLIGHT
TZOFFSETFROM:+0100
TZOFFSETTO:+0200
TZNAME:CEST
DTSTART:20250330T010000
END:DAYLIGHT
BEGIN:STANDARD
TZOFFSETFROM:+0200
TZOFFSETTO:+0100
TZNAME:CET
DTSTART:20251026T010000
END:STANDARD
BEGIN:DAYLIGHT
TZOFFSETFROM:+0100
TZOFFSETTO:+0200
TZNAME:CEST
DTSTART:20260329T010000
END:DAYLIGHT
BEGIN:STANDARD
TZOFFSETFROM:+0200
TZOFFSETTO:+0100
TZNAME:CET
DTSTART:20261025T010000
END:STANDARD
BEGIN:DAYLIGHT
TZOFFSETFROM:+0100
TZOFFSETTO:+0200
TZNAME:CEST
DTSTART:20270328T010000
END:DAYLIGHT
BEGIN:STANDARD
TZOFFSETFROM:+0200
TZOFFSETTO:+0100
TZNAME:CET
DTSTART:20271031T010000
END:STANDARD
END:VTIMEZONE
BEGIN:VEVENT
DTSTART;TZID=Europe/Berlin:20260428T143000
DTEND;TZID=Europe/Berlin:20260428T170000
DTSTAMP:20260420T110219
CREATED:20260204T081527Z
LAST-MODIFIED:20260204T081527Z
UID:10009393-1777386600-1777395600@faz-hochrhein.de
SUMMARY:Backgammon-Spiel-Treff
DESCRIPTION:Wir freuen uns über neue Mitspieler!
URL:https://faz-hochrhein.de/veranstaltung/backgammon-spiel-treff-5/2026-04-28/
LOCATION:Familienzentrum Hochrhein\, Bertold-Schmidt-Platz 7\, Lauchringen\, 79787
CATEGORIES:Caféteria
GEO:47.629312;8.3022713
X-APPLE-STRUCTURED-LOCATION;VALUE=URI;X-ADDRESS=Familienzentrum Hochrhein Bertold-Schmidt-Platz 7 Lauchringen 79787;X-APPLE-RADIUS=500;X-TITLE=Bertold-Schmidt-Platz 7:geo:8.3022713,47.629312
END:VEVENT
BEGIN:VEVENT
DTSTART;TZID=Europe/Berlin:20260428T180000
DTEND;TZID=Europe/Berlin:20260428T200000
DTSTAMP:20260420T110219
CREATED:20260413T083403Z
LAST-MODIFIED:20260413T083403Z
UID:10010649-1777399200-1777406400@faz-hochrhein.de
SUMMARY:Nähplausch
DESCRIPTION:kreativ nähen\, Ideen teilen und Zeit miteinander verbringen \n7€ mit Kaffee\, Tee und Gebäck
URL:https://faz-hochrhein.de/veranstaltung/naehplausch-2/
LOCATION:Familienzentrum Hochrhein\, Bertold-Schmidt-Platz 7\, Lauchringen\, 79787
CATEGORIES:Caféteria
GEO:47.629312;8.3022713
X-APPLE-STRUCTURED-LOCATION;VALUE=URI;X-ADDRESS=Familienzentrum Hochrhein Bertold-Schmidt-Platz 7 Lauchringen 79787;X-APPLE-RADIUS=500;X-TITLE=Bertold-Schmidt-Platz 7:geo:8.3022713,47.629312
END:VEVENT
BEGIN:VEVENT
DTSTART;TZID=Europe/Berlin:20260429T093000
DTEND;TZID=Europe/Berlin:20260429T110000
DTSTAMP:20260420T110219
CREATED:20260206T082744Z
LAST-MODIFIED:20260206T082744Z
UID:10009846-1777455000-1777460400@faz-hochrhein.de
SUMMARY:Eltern-Treff für Kinder von 1 - 3 Jahren
DESCRIPTION:pädagogisch geleitete Eltern-Kind-Gruppe \nWir bitten jeweils um eine Spende von 3 Euro \nInformationen: Marion Dickmann\, m.dickmann@dw-hochrhein.de\, Tel. 07751–83040
URL:https://faz-hochrhein.de/veranstaltung/eltern-treff-fuer-kinder-von-1-3-jahren-5/2026-04-29/
LOCATION:Familienzentrum Hochrhein\, Bertold-Schmidt-Platz 7\, Lauchringen\, 79787
CATEGORIES:Kleinkinder
GEO:47.629312;8.3022713
X-APPLE-STRUCTURED-LOCATION;VALUE=URI;X-ADDRESS=Familienzentrum Hochrhein Bertold-Schmidt-Platz 7 Lauchringen 79787;X-APPLE-RADIUS=500;X-TITLE=Bertold-Schmidt-Platz 7:geo:8.3022713,47.629312
END:VEVENT
BEGIN:VEVENT
DTSTART;TZID=Europe/Berlin:20260429T093000
DTEND;TZID=Europe/Berlin:20260429T110000
DTSTAMP:20260420T110219
CREATED:20260209T091241Z
LAST-MODIFIED:20260209T092915Z
UID:10010269-1777455000-1777460400@faz-hochrhein.de
SUMMARY:Der-die-das-Kurs für Anfänger
DESCRIPTION:Kosten: 1 €/Tag \n  \nReferentin: Hanne Breinig\, pensionierte Lehrerin \n 
URL:https://faz-hochrhein.de/veranstaltung/der-die-das-kurs-fuer-anfaenger/2026-04-29/
LOCATION:Familienzentrum Hochrhein\, Bertold-Schmidt-Platz 7\, Lauchringen\, 79787
CATEGORIES:Erwachsene & Senioren
GEO:47.629312;8.3022713
X-APPLE-STRUCTURED-LOCATION;VALUE=URI;X-ADDRESS=Familienzentrum Hochrhein Bertold-Schmidt-Platz 7 Lauchringen 79787;X-APPLE-RADIUS=500;X-TITLE=Bertold-Schmidt-Platz 7:geo:8.3022713,47.629312
END:VEVENT
BEGIN:VEVENT
DTSTART;TZID=Europe/Berlin:20260430T090000
DTEND;TZID=Europe/Berlin:20260430T120000
DTSTAMP:20260420T110219
CREATED:20260206T072231Z
LAST-MODIFIED:20260206T072231Z
UID:10009643-1777539600-1777550400@faz-hochrhein.de
SUMMARY:PC- und Handy-Hilfe
DESCRIPTION:kostenlos und individuell \nValentin Ruch hilft euch weiter! \nBitte im FaZ anmelden \n 
URL:https://faz-hochrhein.de/veranstaltung/pc-und-handy-hilfe-2/2026-04-30/
LOCATION:Familienzentrum Hochrhein\, Bertold-Schmidt-Platz 7\, Lauchringen\, 79787
CATEGORIES:Caféteria
GEO:47.629312;8.3022713
X-APPLE-STRUCTURED-LOCATION;VALUE=URI;X-ADDRESS=Familienzentrum Hochrhein Bertold-Schmidt-Platz 7 Lauchringen 79787;X-APPLE-RADIUS=500;X-TITLE=Bertold-Schmidt-Platz 7:geo:8.3022713,47.629312
END:VEVENT
BEGIN:VEVENT
DTSTART;TZID=Europe/Berlin:20260430T090000
DTEND;TZID=Europe/Berlin:20260430T120000
DTSTAMP:20260420T110219
CREATED:20260206T085858Z
LAST-MODIFIED:20260206T085858Z
UID:10010028-1777539600-1777550400@faz-hochrhein.de
SUMMARY:Sonnenkäfer
DESCRIPTION:Die Kinder lernen in liebevoller Begleitung erste Reifeschritte für den Kindergarten. \nLeitung: Stephanie Lohrmann\, Tel. 07746/657697 oder im FaZ. \n 
URL:https://faz-hochrhein.de/veranstaltung/sonnenkaefer-2/2026-04-30/
LOCATION:Familienzentrum Hochrhein\, Bertold-Schmidt-Platz 7\, Lauchringen\, 79787
CATEGORIES:Kleinkinder
GEO:47.629312;8.3022713
X-APPLE-STRUCTURED-LOCATION;VALUE=URI;X-ADDRESS=Familienzentrum Hochrhein Bertold-Schmidt-Platz 7 Lauchringen 79787;X-APPLE-RADIUS=500;X-TITLE=Bertold-Schmidt-Platz 7:geo:8.3022713,47.629312
END:VEVENT
BEGIN:VEVENT
DTSTART;TZID=Europe/Berlin:20260430T093000
DTEND;TZID=Europe/Berlin:20260430T103000
DTSTAMP:20260420T110219
CREATED:20260204T083441Z
LAST-MODIFIED:20260204T083441Z
UID:10009511-1777541400-1777545000@faz-hochrhein.de
SUMMARY:English Conversation Treff - Anfänger
DESCRIPTION:mit native speaker Patricia Sherry\, EFL/ESL-Lehrerin \nkostenlos \nDer Kurs ist aktuell ausgebucht!
URL:https://faz-hochrhein.de/veranstaltung/english-conversation-treff-anfaenger/2026-04-30/
LOCATION:Familienzentrum Hochrhein\, Bertold-Schmidt-Platz 7\, Lauchringen\, 79787
CATEGORIES:Caféteria
GEO:47.629312;8.3022713
X-APPLE-STRUCTURED-LOCATION;VALUE=URI;X-ADDRESS=Familienzentrum Hochrhein Bertold-Schmidt-Platz 7 Lauchringen 79787;X-APPLE-RADIUS=500;X-TITLE=Bertold-Schmidt-Platz 7:geo:8.3022713,47.629312
END:VEVENT
BEGIN:VEVENT
DTSTART;TZID=Europe/Berlin:20260430T093000
DTEND;TZID=Europe/Berlin:20260430T110000
DTSTAMP:20260420T110219
CREATED:20260206T083940Z
LAST-MODIFIED:20260211T094246Z
UID:10009925-1777541400-1777546800@faz-hochrhein.de
SUMMARY:Eltern-Treff für Kinder von 1 - 3 Jahre im Abenteuerland
DESCRIPTION:pädagogisch geleitete Eltern-Kind-Gruppe \nWir bitten jeweils um eine Spende von 3 Euro \nInformationen: Marion Dickmann\, m.dickmann@dw-hochrhein.de\, Tel. 07751–83040
URL:https://faz-hochrhein.de/veranstaltung/eltern-treff-fuer-kinder-von-1-3-jahre-im-abenteuerland/2026-04-30/
LOCATION:Familienzentrum Hochrhein\, Bertold-Schmidt-Platz 7\, Lauchringen\, 79787
CATEGORIES:Kleinkinder
GEO:47.629312;8.3022713
X-APPLE-STRUCTURED-LOCATION;VALUE=URI;X-ADDRESS=Familienzentrum Hochrhein Bertold-Schmidt-Platz 7 Lauchringen 79787;X-APPLE-RADIUS=500;X-TITLE=Bertold-Schmidt-Platz 7:geo:8.3022713,47.629312
END:VEVENT
BEGIN:VEVENT
DTSTART;TZID=Europe/Berlin:20260430T093000
DTEND;TZID=Europe/Berlin:20260430T110000
DTSTAMP:20260420T110219
CREATED:20260209T091457Z
LAST-MODIFIED:20260209T092557Z
UID:10010182-1777541400-1777546800@faz-hochrhein.de
SUMMARY:Der-die-das-Kurs für mittlere Kenntnisse
DESCRIPTION:Kosten: 1 €/Tag \n  \nReferentin: Hanne Breinig\, pensionierte Lehrerin \n 
URL:https://faz-hochrhein.de/veranstaltung/der-die-das-kurs-fuer-mittlere-kenntnisse/2026-04-30/
LOCATION:Familienzentrum Hochrhein\, Bertold-Schmidt-Platz 7\, Lauchringen\, 79787
CATEGORIES:Erwachsene & Senioren
GEO:47.629312;8.3022713
X-APPLE-STRUCTURED-LOCATION;VALUE=URI;X-ADDRESS=Familienzentrum Hochrhein Bertold-Schmidt-Platz 7 Lauchringen 79787;X-APPLE-RADIUS=500;X-TITLE=Bertold-Schmidt-Platz 7:geo:8.3022713,47.629312
END:VEVENT
BEGIN:VEVENT
DTSTART;TZID=Europe/Berlin:20260430T110000
DTEND;TZID=Europe/Berlin:20260430T120000
DTSTAMP:20260420T110219
CREATED:20260204T083857Z
LAST-MODIFIED:20260211T094504Z
UID:10009551-1777546800-1777550400@faz-hochrhein.de
SUMMARY:English Conversation Treff - Fortgeschrittene
DESCRIPTION:mit native speaker Patricia Sherry\, EFL/ESL-Lehrerin \nkostenlos \nDer Kurs ist aktuell ausgebucht!
URL:https://faz-hochrhein.de/veranstaltung/english-conversation-treff-fortgeschrittene/2026-04-30/
LOCATION:Familienzentrum Hochrhein\, Bertold-Schmidt-Platz 7\, Lauchringen\, 79787
CATEGORIES:Caféteria
GEO:47.629312;8.3022713
X-APPLE-STRUCTURED-LOCATION;VALUE=URI;X-ADDRESS=Familienzentrum Hochrhein Bertold-Schmidt-Platz 7 Lauchringen 79787;X-APPLE-RADIUS=500;X-TITLE=Bertold-Schmidt-Platz 7:geo:8.3022713,47.629312
END:VEVENT
BEGIN:VEVENT
DTSTART;TZID=Europe/Berlin:20260430T150000
DTEND;TZID=Europe/Berlin:20260430T163000
DTSTAMP:20260420T110219
CREATED:20260206T085104Z
LAST-MODIFIED:20260206T085104Z
UID:10009965-1777561200-1777566600@faz-hochrhein.de
SUMMARY:Krabbel-Café
DESCRIPTION:
URL:https://faz-hochrhein.de/veranstaltung/krabbel-cafe-4/2026-04-30/
LOCATION:Familienzentrum Hochrhein\, Bertold-Schmidt-Platz 7\, Lauchringen\, 79787
CATEGORIES:Kleinkinder
GEO:47.629312;8.3022713
X-APPLE-STRUCTURED-LOCATION;VALUE=URI;X-ADDRESS=Familienzentrum Hochrhein Bertold-Schmidt-Platz 7 Lauchringen 79787;X-APPLE-RADIUS=500;X-TITLE=Bertold-Schmidt-Platz 7:geo:8.3022713,47.629312
END:VEVENT
BEGIN:VEVENT
DTSTART;TZID=Europe/Berlin:20260430T153000
DTEND;TZID=Europe/Berlin:20260430T163000
DTSTAMP:20260420T110219
CREATED:20260206T072746Z
LAST-MODIFIED:20260206T072746Z
UID:10009683-1777563000-1777566600@faz-hochrhein.de
SUMMARY:PC- und Handy-Hilfe
DESCRIPTION:kostenlos und individuell \nValentin Ruch hilft euch weiter! \nBitte im FaZ anmelden \n 
URL:https://faz-hochrhein.de/veranstaltung/pc-und-handy-hilfe-3/2026-04-30/
LOCATION:Familienzentrum Hochrhein\, Bertold-Schmidt-Platz 7\, Lauchringen\, 79787
CATEGORIES:Caféteria
GEO:47.629312;8.3022713
X-APPLE-STRUCTURED-LOCATION;VALUE=URI;X-ADDRESS=Familienzentrum Hochrhein Bertold-Schmidt-Platz 7 Lauchringen 79787;X-APPLE-RADIUS=500;X-TITLE=Bertold-Schmidt-Platz 7:geo:8.3022713,47.629312
END:VEVENT
BEGIN:VEVENT
DTSTART;TZID=Europe/Berlin:20260430T154500
DTEND;TZID=Europe/Berlin:20260430T170000
DTSTAMP:20260420T110219
CREATED:20260206T083237Z
LAST-MODIFIED:20260206T083237Z
UID:10009887-1777563900-1777568400@faz-hochrhein.de
SUMMARY:Eltern-Treff für Kinder von 1 - 3 Jahren
DESCRIPTION:pädagogisch geleitete Eltern-Kind-Gruppe \nWir bitten jeweils um eine Spende von 3 Euro \nInformationen: Marion Dickmann\, m.dickmann@dw-hochrhein.de\, Tel. 07751–83040
URL:https://faz-hochrhein.de/veranstaltung/eltern-treff-fuer-kinder-von-1-3-jahren-6/2026-04-30/
LOCATION:Familienzentrum Hochrhein\, Bertold-Schmidt-Platz 7\, Lauchringen\, 79787
CATEGORIES:Kleinkinder
GEO:47.629312;8.3022713
X-APPLE-STRUCTURED-LOCATION;VALUE=URI;X-ADDRESS=Familienzentrum Hochrhein Bertold-Schmidt-Platz 7 Lauchringen 79787;X-APPLE-RADIUS=500;X-TITLE=Bertold-Schmidt-Platz 7:geo:8.3022713,47.629312
END:VEVENT
BEGIN:VEVENT
DTSTART;VALUE=DATE:20260501
DTEND;VALUE=DATE:20260502
DTSTAMP:20260420T110219
CREATED:20260210T081953Z
LAST-MODIFIED:20260210T081953Z
UID:10010545-1777622400-1777654800@faz-hochrhein.de
SUMMARY:FaZ und Abenteuerland geschlossen
DESCRIPTION:
URL:https://faz-hochrhein.de/veranstaltung/faz-und-abenteuerland-geschlossen-2/
LOCATION:Familienzentrum Hochrhein\, Bertold-Schmidt-Platz 7\, Lauchringen\, 79787
CATEGORIES:Allgemein
GEO:47.629312;8.3022713
X-APPLE-STRUCTURED-LOCATION;VALUE=URI;X-ADDRESS=Familienzentrum Hochrhein Bertold-Schmidt-Platz 7 Lauchringen 79787;X-APPLE-RADIUS=500;X-TITLE=Bertold-Schmidt-Platz 7:geo:8.3022713,47.629312
END:VEVENT
BEGIN:VEVENT
DTSTART;TZID=Europe/Berlin:20260501T200000
DTEND;TZID=Europe/Berlin:20260501T233000
DTSTAMP:20260420T110219
CREATED:20260204T082250Z
LAST-MODIFIED:20260204T082250Z
UID:10009482-1777665600-1777678200@faz-hochrhein.de
SUMMARY:Brettspiele-Treff
DESCRIPTION:Lust auf gemeinsames Spielen in netter Runde? Neue Karten- und Brettspiele kennen lernen? \nIn geselligem Beisammensein werden Familienspiele\, Kennerspiele und Expertenspiele angeboten und erklärt. Es ist für jeden etwas dabei. \nFür Spiele\, Getränke und Knabberzeug ist gesorgt. \nMitbringen solltet ihr: Interesse\, Neugier und Spaß \nInfos:  Johannes und Max\, Mobil: 0176–40539430 \n 
URL:https://faz-hochrhein.de/veranstaltung/brettspiele-treff/2026-05-01/
LOCATION:Familienzentrum Hochrhein\, Bertold-Schmidt-Platz 7\, Lauchringen\, 79787
CATEGORIES:Caféteria
GEO:47.629312;8.3022713
X-APPLE-STRUCTURED-LOCATION;VALUE=URI;X-ADDRESS=Familienzentrum Hochrhein Bertold-Schmidt-Platz 7 Lauchringen 79787;X-APPLE-RADIUS=500;X-TITLE=Bertold-Schmidt-Platz 7:geo:8.3022713,47.629312
END:VEVENT
BEGIN:VEVENT
DTSTART;TZID=Europe/Berlin:20260502T090000
DTEND;TZID=Europe/Berlin:20260502T140000
DTSTAMP:20260420T110219
CREATED:20260226T101527Z
LAST-MODIFIED:20260226T101527Z
UID:10010601-1777712400-1777730400@faz-hochrhein.de
SUMMARY:MIA - Migrantinnen stark im Alltag
DESCRIPTION:
URL:https://faz-hochrhein.de/veranstaltung/mia-migrantinnen-stark-im-alltag/2026-05-02/
LOCATION:Familienzentrum Hochrhein\, Bertold-Schmidt-Platz 7\, Lauchringen\, 79787
CATEGORIES:Erwachsene & Senioren
GEO:47.629312;8.3022713
X-APPLE-STRUCTURED-LOCATION;VALUE=URI;X-ADDRESS=Familienzentrum Hochrhein Bertold-Schmidt-Platz 7 Lauchringen 79787;X-APPLE-RADIUS=500;X-TITLE=Bertold-Schmidt-Platz 7:geo:8.3022713,47.629312
END:VEVENT
BEGIN:VEVENT
DTSTART;TZID=Europe/Berlin:20260503T101500
DTEND;TZID=Europe/Berlin:20260503T114500
DTSTAMP:20260420T110219
CREATED:20260325T064427Z
LAST-MODIFIED:20260325T064427Z
UID:10010647-1777803300-1777808700@faz-hochrhein.de
SUMMARY:Väter-Treff
DESCRIPTION:Väter aufgepasst!\nDu hast ein Kind unter 3 Jahren und Lust auf Austausch\, Spiel & Spaß mit anderen Vätern? Dann komm vorbei! \n⏰ 10:15 – 11:45 Uhr\n📍 Familienzentrum Hochrhein\n💛 Einstieg jederzeit möglich – einfach reinschnuppern! \nMelde dich gerne an:\n📧 familienpaten@dw-hochrhein.de \nWir freuen uns auf dich und dein Kind!
URL:https://faz-hochrhein.de/veranstaltung/vaeter-treff/2026-05-03/
LOCATION:Familienzentrum Hochrhein\, Bertold-Schmidt-Platz 7\, Lauchringen\, 79787
CATEGORIES:Kleinkinder
GEO:47.629312;8.3022713
X-APPLE-STRUCTURED-LOCATION;VALUE=URI;X-ADDRESS=Familienzentrum Hochrhein Bertold-Schmidt-Platz 7 Lauchringen 79787;X-APPLE-RADIUS=500;X-TITLE=Bertold-Schmidt-Platz 7:geo:8.3022713,47.629312
END:VEVENT
BEGIN:VEVENT
DTSTART;TZID=Europe/Berlin:20260503T150000
DTEND;TZID=Europe/Berlin:20260503T170000
DTSTAMP:20260420T110219
CREATED:20260204T074806Z
LAST-MODIFIED:20260204T074806Z
UID:10009375-1777820400-1777827600@faz-hochrhein.de
SUMMARY:Seniorenplausch
DESCRIPTION:Unser Team lädt euch herzlich ein: neben einem kleinen Programm erwartet euch leckerer Kuchen und Kaffee! \nKosten 7 Euro \nFahrdienst mit dem FaZ-Bus: Wir holen euch zu Hause ab und bringen euch hinterher wieder zurück. Gerne im FaZ anmelden.
URL:https://faz-hochrhein.de/veranstaltung/seniorenplausch-2/2026-05-03/
LOCATION:Familienzentrum Hochrhein\, Bertold-Schmidt-Platz 7\, Lauchringen\, 79787
CATEGORIES:Caféteria
GEO:47.629312;8.3022713
X-APPLE-STRUCTURED-LOCATION;VALUE=URI;X-ADDRESS=Familienzentrum Hochrhein Bertold-Schmidt-Platz 7 Lauchringen 79787;X-APPLE-RADIUS=500;X-TITLE=Bertold-Schmidt-Platz 7:geo:8.3022713,47.629312
END:VEVENT
BEGIN:VEVENT
DTSTART;TZID=Europe/Berlin:20260504T093000
DTEND;TZID=Europe/Berlin:20260504T110000
DTSTAMP:20260420T110219
CREATED:20260206T081836Z
LAST-MODIFIED:20260206T081836Z
UID:10009764-1777887000-1777892400@faz-hochrhein.de
SUMMARY:Eltern-Treff für Kinder von 1 - 3 Jahren
DESCRIPTION:pädagogisch geleitete Eltern-Kind-Gruppe \nWir bitten jeweils um eine Spende von 3 Euro \nInformationen: Marion Dickmann\, m.dickmann@dw-hochrhein.de\, Tel. 07751–83040 \n 
URL:https://faz-hochrhein.de/veranstaltung/eltern-treff-fuer-kinder-von-1-3-jahren-4/2026-05-04/
LOCATION:Familienzentrum Hochrhein\, Bertold-Schmidt-Platz 7\, Lauchringen\, 79787
CATEGORIES:Kleinkinder
GEO:47.629312;8.3022713
X-APPLE-STRUCTURED-LOCATION;VALUE=URI;X-ADDRESS=Familienzentrum Hochrhein Bertold-Schmidt-Platz 7 Lauchringen 79787;X-APPLE-RADIUS=500;X-TITLE=Bertold-Schmidt-Platz 7:geo:8.3022713,47.629312
END:VEVENT
BEGIN:VEVENT
DTSTART;TZID=Europe/Berlin:20260504T180000
DTEND;TZID=Europe/Berlin:20260504T200000
DTSTAMP:20260420T110219
CREATED:20260206T075448Z
LAST-MODIFIED:20260206T075448Z
UID:10009742-1777917600-1777924800@faz-hochrhein.de
SUMMARY:Hoffnungs-Treff
DESCRIPTION:
URL:https://faz-hochrhein.de/veranstaltung/hoffnungs-treff-4/2026-05-04/
LOCATION:Familienzentrum Hochrhein\, Bertold-Schmidt-Platz 7\, Lauchringen\, 79787
CATEGORIES:Selbsthilfegruppen
GEO:47.629312;8.3022713
X-APPLE-STRUCTURED-LOCATION;VALUE=URI;X-ADDRESS=Familienzentrum Hochrhein Bertold-Schmidt-Platz 7 Lauchringen 79787;X-APPLE-RADIUS=500;X-TITLE=Bertold-Schmidt-Platz 7:geo:8.3022713,47.629312
END:VEVENT
BEGIN:VEVENT
DTSTART;TZID=Europe/Berlin:20260505T080000
DTEND;TZID=Europe/Berlin:20260505T154500
DTSTAMP:20260420T110219
CREATED:20260209T093350Z
LAST-MODIFIED:20260209T093350Z
UID:10010299-1777968000-1777995900@faz-hochrhein.de
SUMMARY:Pflege-Unterstützer Ausbildung
DESCRIPTION:Teilnahme ist kostenlos \nAnmeldung:  Ursula Kramm\, telefonisch im FaZ oder\n                     per mail: u.kramm@faz-hochrhein.de\n\nKursleiterin: Elisabeth Kaiser\, e.kaiser@faz-hochrhein\n 
URL:https://faz-hochrhein.de/veranstaltung/pflege-unterstuetzer-ausbildung-3/2026-05-05/
LOCATION:Familienzentrum Hochrhein\, Bertold-Schmidt-Platz 7\, Lauchringen\, 79787
CATEGORIES:Erwachsene & Senioren
GEO:47.629312;8.3022713
X-APPLE-STRUCTURED-LOCATION;VALUE=URI;X-ADDRESS=Familienzentrum Hochrhein Bertold-Schmidt-Platz 7 Lauchringen 79787;X-APPLE-RADIUS=500;X-TITLE=Bertold-Schmidt-Platz 7:geo:8.3022713,47.629312
END:VEVENT
BEGIN:VEVENT
DTSTART;TZID=Europe/Berlin:20260505T084500
DTEND;TZID=Europe/Berlin:20260505T101500
DTSTAMP:20260420T110219
CREATED:20260209T135550Z
LAST-MODIFIED:20260209T135550Z
UID:10010453-1777970700-1777976100@faz-hochrhein.de
SUMMARY:PEKIP
DESCRIPTION:für Kinder geboren November 2025 — Februar 2026 \nAnmeldung und Informationen bei Marion Brath-Eckert\, marion.brath-eckert@posteo.de\, 07741/8350242
URL:https://faz-hochrhein.de/veranstaltung/pekip-2/2026-05-05/
LOCATION:Familienzentrum Hochrhein\, Bertold-Schmidt-Platz 7\, Lauchringen\, 79787
CATEGORIES:Kleinkinder
GEO:47.629312;8.3022713
X-APPLE-STRUCTURED-LOCATION;VALUE=URI;X-ADDRESS=Familienzentrum Hochrhein Bertold-Schmidt-Platz 7 Lauchringen 79787;X-APPLE-RADIUS=500;X-TITLE=Bertold-Schmidt-Platz 7:geo:8.3022713,47.629312
END:VEVENT
BEGIN:VEVENT
DTSTART;TZID=Europe/Berlin:20260505T090000
DTEND;TZID=Europe/Berlin:20260505T110000
DTSTAMP:20260420T110220
CREATED:20260211T095355Z
LAST-MODIFIED:20260211T095355Z
UID:10010590-1777971600-1777978800@faz-hochrhein.de
SUMMARY:Beratungen des Pflege-Stützpunktes des Landratsamt im FaZ
DESCRIPTION:Der Pflegestützpunkt des Landkreises Waldshut bietet individuelle Beratung und Information rund um das Thema „Pflege“ an. Sie haben hierzu Fragen\, benötigen Unterstützung bei der Beantragung eines Pflegegrades oder bei der Auswahl von Hilfs- und Pflegeangeboten\, dann sind wir gerne für Sie da. \nEine vorherige Terminvereinbarung ist erforderlich.  \nDaniela Roters\, Landratsamt \nTel: 07751–864255\, email: Daniela.Roters@landkreis-waldshut.de \n 
URL:https://faz-hochrhein.de/veranstaltung/beratungen-des-pflege-stuetzpunktes-des-landratsamt-im-faz-4/2026-05-05/
LOCATION:Familienzentrum Hochrhein\, Bertold-Schmidt-Platz 7\, Lauchringen\, 79787
CATEGORIES:Erwachsene & Senioren
GEO:47.629312;8.3022713
X-APPLE-STRUCTURED-LOCATION;VALUE=URI;X-ADDRESS=Familienzentrum Hochrhein Bertold-Schmidt-Platz 7 Lauchringen 79787;X-APPLE-RADIUS=500;X-TITLE=Bertold-Schmidt-Platz 7:geo:8.3022713,47.629312
END:VEVENT
BEGIN:VEVENT
DTSTART;TZID=Europe/Berlin:20260505T090000
DTEND;TZID=Europe/Berlin:20260505T120000
DTSTAMP:20260420T110220
CREATED:20260206T085858Z
LAST-MODIFIED:20260206T085858Z
UID:10010029-1777971600-1777982400@faz-hochrhein.de
SUMMARY:Sonnenkäfer
DESCRIPTION:Die Kinder lernen in liebevoller Begleitung erste Reifeschritte für den Kindergarten. \nLeitung: Stephanie Lohrmann\, Tel. 07746/657697 oder im FaZ. \n 
URL:https://faz-hochrhein.de/veranstaltung/sonnenkaefer-2/2026-05-05/
LOCATION:Familienzentrum Hochrhein\, Bertold-Schmidt-Platz 7\, Lauchringen\, 79787
CATEGORIES:Kleinkinder
GEO:47.629312;8.3022713
X-APPLE-STRUCTURED-LOCATION;VALUE=URI;X-ADDRESS=Familienzentrum Hochrhein Bertold-Schmidt-Platz 7 Lauchringen 79787;X-APPLE-RADIUS=500;X-TITLE=Bertold-Schmidt-Platz 7:geo:8.3022713,47.629312
END:VEVENT
BEGIN:VEVENT
DTSTART;TZID=Europe/Berlin:20260505T093000
DTEND;TZID=Europe/Berlin:20260505T110000
DTSTAMP:20260420T110220
CREATED:20260206T082229Z
LAST-MODIFIED:20260206T082229Z
UID:10009805-1777973400-1777978800@faz-hochrhein.de
SUMMARY:Eltern-Treff für Kinder von 0 - 1 Jahre
DESCRIPTION:pädagogisch geleitete Eltern-Kind-Gruppe \nWir bitten jeweils um eine Spende von 3 Euro \nInformationen: Marion Dickmann\, m.dickmann@dw-hochrhein.de\, Tel. 07751–83040
URL:https://faz-hochrhein.de/veranstaltung/eltern-treff-fuer-kinder-von-0-1-jahre/2026-05-05/
LOCATION:Familienzentrum Hochrhein\, Bertold-Schmidt-Platz 7\, Lauchringen\, 79787
CATEGORIES:Kleinkinder
GEO:47.629312;8.3022713
X-APPLE-STRUCTURED-LOCATION;VALUE=URI;X-ADDRESS=Familienzentrum Hochrhein Bertold-Schmidt-Platz 7 Lauchringen 79787;X-APPLE-RADIUS=500;X-TITLE=Bertold-Schmidt-Platz 7:geo:8.3022713,47.629312
END:VEVENT
BEGIN:VEVENT
DTSTART;TZID=Europe/Berlin:20260505T103000
DTEND;TZID=Europe/Berlin:20260505T120000
DTSTAMP:20260420T110220
CREATED:20260209T135743Z
LAST-MODIFIED:20260209T135812Z
UID:10010464-1777977000-1777982400@faz-hochrhein.de
SUMMARY:PEKIP
DESCRIPTION:für Kinder geboren Mai 2025 — Oktober 2025 \nAnmeldung und Informationen bei Marion Brath-Eckert\, marion.brath-eckert@posteo.de\, 07741/8350242
URL:https://faz-hochrhein.de/veranstaltung/pekip-3/2026-05-05/
LOCATION:Familienzentrum Hochrhein\, Bertold-Schmidt-Platz 7\, Lauchringen\, 79787
CATEGORIES:Kleinkinder
GEO:47.629312;8.3022713
X-APPLE-STRUCTURED-LOCATION;VALUE=URI;X-ADDRESS=Familienzentrum Hochrhein Bertold-Schmidt-Platz 7 Lauchringen 79787;X-APPLE-RADIUS=500;X-TITLE=Bertold-Schmidt-Platz 7:geo:8.3022713,47.629312
END:VEVENT
BEGIN:VEVENT
DTSTART;TZID=Europe/Berlin:20260505T143000
DTEND;TZID=Europe/Berlin:20260505T170000
DTSTAMP:20260420T110220
CREATED:20260204T081527Z
LAST-MODIFIED:20260204T081527Z
UID:10009394-1777991400-1778000400@faz-hochrhein.de
SUMMARY:Backgammon-Spiel-Treff
DESCRIPTION:Wir freuen uns über neue Mitspieler!
URL:https://faz-hochrhein.de/veranstaltung/backgammon-spiel-treff-5/2026-05-05/
LOCATION:Familienzentrum Hochrhein\, Bertold-Schmidt-Platz 7\, Lauchringen\, 79787
CATEGORIES:Caféteria
GEO:47.629312;8.3022713
X-APPLE-STRUCTURED-LOCATION;VALUE=URI;X-ADDRESS=Familienzentrum Hochrhein Bertold-Schmidt-Platz 7 Lauchringen 79787;X-APPLE-RADIUS=500;X-TITLE=Bertold-Schmidt-Platz 7:geo:8.3022713,47.629312
END:VEVENT
BEGIN:VEVENT
DTSTART;TZID=Europe/Berlin:20260506T083000
DTEND;TZID=Europe/Berlin:20260506T113000
DTSTAMP:20260420T110220
CREATED:20260226T101527Z
LAST-MODIFIED:20260226T101527Z
UID:10010602-1778056200-1778067000@faz-hochrhein.de
SUMMARY:MIA - Migrantinnen stark im Alltag
DESCRIPTION:
URL:https://faz-hochrhein.de/veranstaltung/mia-migrantinnen-stark-im-alltag/2026-05-06/
LOCATION:Familienzentrum Hochrhein\, Bertold-Schmidt-Platz 7\, Lauchringen\, 79787
CATEGORIES:Erwachsene & Senioren
GEO:47.629312;8.3022713
X-APPLE-STRUCTURED-LOCATION;VALUE=URI;X-ADDRESS=Familienzentrum Hochrhein Bertold-Schmidt-Platz 7 Lauchringen 79787;X-APPLE-RADIUS=500;X-TITLE=Bertold-Schmidt-Platz 7:geo:8.3022713,47.629312
END:VEVENT
BEGIN:VEVENT
DTSTART;TZID=Europe/Berlin:20260506T093000
DTEND;TZID=Europe/Berlin:20260506T110000
DTSTAMP:20260420T110220
CREATED:20260206T082744Z
LAST-MODIFIED:20260206T082744Z
UID:10009847-1778059800-1778065200@faz-hochrhein.de
SUMMARY:Eltern-Treff für Kinder von 1 - 3 Jahren
DESCRIPTION:pädagogisch geleitete Eltern-Kind-Gruppe \nWir bitten jeweils um eine Spende von 3 Euro \nInformationen: Marion Dickmann\, m.dickmann@dw-hochrhein.de\, Tel. 07751–83040
URL:https://faz-hochrhein.de/veranstaltung/eltern-treff-fuer-kinder-von-1-3-jahren-5/2026-05-06/
LOCATION:Familienzentrum Hochrhein\, Bertold-Schmidt-Platz 7\, Lauchringen\, 79787
CATEGORIES:Kleinkinder
GEO:47.629312;8.3022713
X-APPLE-STRUCTURED-LOCATION;VALUE=URI;X-ADDRESS=Familienzentrum Hochrhein Bertold-Schmidt-Platz 7 Lauchringen 79787;X-APPLE-RADIUS=500;X-TITLE=Bertold-Schmidt-Platz 7:geo:8.3022713,47.629312
END:VEVENT
BEGIN:VEVENT
DTSTART;TZID=Europe/Berlin:20260506T093000
DTEND;TZID=Europe/Berlin:20260506T110000
DTSTAMP:20260420T110220
CREATED:20260209T091241Z
LAST-MODIFIED:20260209T092915Z
UID:10010270-1778059800-1778065200@faz-hochrhein.de
SUMMARY:Der-die-das-Kurs für Anfänger
DESCRIPTION:Kosten: 1 €/Tag \n  \nReferentin: Hanne Breinig\, pensionierte Lehrerin \n 
URL:https://faz-hochrhein.de/veranstaltung/der-die-das-kurs-fuer-anfaenger/2026-05-06/
LOCATION:Familienzentrum Hochrhein\, Bertold-Schmidt-Platz 7\, Lauchringen\, 79787
CATEGORIES:Erwachsene & Senioren
GEO:47.629312;8.3022713
X-APPLE-STRUCTURED-LOCATION;VALUE=URI;X-ADDRESS=Familienzentrum Hochrhein Bertold-Schmidt-Platz 7 Lauchringen 79787;X-APPLE-RADIUS=500;X-TITLE=Bertold-Schmidt-Platz 7:geo:8.3022713,47.629312
END:VEVENT
END:VCALENDAR