BEGIN:VCALENDAR
VERSION:2.0
PRODID:-//Familienzentrum Hochrhein - ECPv6.15.16//NONSGML v1.0//EN
CALSCALE:GREGORIAN
METHOD:PUBLISH
X-WR-CALNAME:Familienzentrum Hochrhein
X-ORIGINAL-URL:https://faz-hochrhein.de
X-WR-CALDESC:Veranstaltungen für Familienzentrum Hochrhein
REFRESH-INTERVAL;VALUE=DURATION:PT1H
X-Robots-Tag:noindex
X-PUBLISHED-TTL:PT1H
BEGIN:VTIMEZONE
TZID:Europe/Berlin
BEGIN:DAYLIGHT
TZOFFSETFROM:+0100
TZOFFSETTO:+0200
TZNAME:CEST
DTSTART:20250330T010000
END:DAYLIGHT
BEGIN:STANDARD
TZOFFSETFROM:+0200
TZOFFSETTO:+0100
TZNAME:CET
DTSTART:20251026T010000
END:STANDARD
BEGIN:DAYLIGHT
TZOFFSETFROM:+0100
TZOFFSETTO:+0200
TZNAME:CEST
DTSTART:20260329T010000
END:DAYLIGHT
BEGIN:STANDARD
TZOFFSETFROM:+0200
TZOFFSETTO:+0100
TZNAME:CET
DTSTART:20261025T010000
END:STANDARD
BEGIN:DAYLIGHT
TZOFFSETFROM:+0100
TZOFFSETTO:+0200
TZNAME:CEST
DTSTART:20270328T010000
END:DAYLIGHT
BEGIN:STANDARD
TZOFFSETFROM:+0200
TZOFFSETTO:+0100
TZNAME:CET
DTSTART:20271031T010000
END:STANDARD
END:VTIMEZONE
BEGIN:VEVENT
DTSTART;TZID=Europe/Berlin:20260511T083000
DTEND;TZID=Europe/Berlin:20260511T113000
DTSTAMP:20260421T165219
CREATED:20260226T101527Z
LAST-MODIFIED:20260226T101527Z
UID:10010603-1778488200-1778499000@faz-hochrhein.de
SUMMARY:MIA - Migrantinnen stark im Alltag
DESCRIPTION:
URL:https://faz-hochrhein.de/veranstaltung/mia-migrantinnen-stark-im-alltag/2026-05-11/
LOCATION:Familienzentrum Hochrhein\, Bertold-Schmidt-Platz 7\, Lauchringen\, 79787
CATEGORIES:Erwachsene & Senioren
GEO:47.629312;8.3022713
X-APPLE-STRUCTURED-LOCATION;VALUE=URI;X-ADDRESS=Familienzentrum Hochrhein Bertold-Schmidt-Platz 7 Lauchringen 79787;X-APPLE-RADIUS=500;X-TITLE=Bertold-Schmidt-Platz 7:geo:8.3022713,47.629312
END:VEVENT
BEGIN:VEVENT
DTSTART;TZID=Europe/Berlin:20260511T093000
DTEND;TZID=Europe/Berlin:20260511T110000
DTSTAMP:20260421T165219
CREATED:20260206T081836Z
LAST-MODIFIED:20260206T081836Z
UID:10009765-1778491800-1778497200@faz-hochrhein.de
SUMMARY:Eltern-Treff für Kinder von 1 - 3 Jahren
DESCRIPTION:pädagogisch geleitete Eltern-Kind-Gruppe \nWir bitten jeweils um eine Spende von 3 Euro \nInformationen: Marion Dickmann\, m.dickmann@dw-hochrhein.de\, Tel. 07751–83040 \n 
URL:https://faz-hochrhein.de/veranstaltung/eltern-treff-fuer-kinder-von-1-3-jahren-4/2026-05-11/
LOCATION:Familienzentrum Hochrhein\, Bertold-Schmidt-Platz 7\, Lauchringen\, 79787
CATEGORIES:Kleinkinder
GEO:47.629312;8.3022713
X-APPLE-STRUCTURED-LOCATION;VALUE=URI;X-ADDRESS=Familienzentrum Hochrhein Bertold-Schmidt-Platz 7 Lauchringen 79787;X-APPLE-RADIUS=500;X-TITLE=Bertold-Schmidt-Platz 7:geo:8.3022713,47.629312
END:VEVENT
BEGIN:VEVENT
DTSTART;TZID=Europe/Berlin:20260511T180000
DTEND;TZID=Europe/Berlin:20260511T200000
DTSTAMP:20260421T165219
CREATED:20260206T074049Z
LAST-MODIFIED:20260206T074049Z
UID:10009724-1778522400-1778529600@faz-hochrhein.de
SUMMARY:Selbsthilfegruppe MOMO für Essstörungen
DESCRIPTION:Informationen: maier_katharina@web.de \n 
URL:https://faz-hochrhein.de/veranstaltung/selbsthilfegruppe-momo-fuer-essstoerungen-4/2026-05-11/
LOCATION:Familienzentrum Hochrhein\, Bertold-Schmidt-Platz 7\, Lauchringen\, 79787
CATEGORIES:Selbsthilfegruppen
GEO:47.629312;8.3022713
X-APPLE-STRUCTURED-LOCATION;VALUE=URI;X-ADDRESS=Familienzentrum Hochrhein Bertold-Schmidt-Platz 7 Lauchringen 79787;X-APPLE-RADIUS=500;X-TITLE=Bertold-Schmidt-Platz 7:geo:8.3022713,47.629312
END:VEVENT
BEGIN:VEVENT
DTSTART;TZID=Europe/Berlin:20260512T080000
DTEND;TZID=Europe/Berlin:20260512T120000
DTSTAMP:20260421T165219
CREATED:20260209T095234Z
LAST-MODIFIED:20260210T085006Z
UID:10010342-1778572800-1778587200@faz-hochrhein.de
SUMMARY:Grashüpfer
DESCRIPTION:Naturgruppe im Abenteuerland  \n  \nfür 1\,5 bis 3‑jährige \n  \nDie Kinder lernen in liebevoller Begleitung erste Reifeschritte für den Kindergarten. \n  \nInfos: r.cafararo@faz-hochrhein.de \n 
URL:https://faz-hochrhein.de/veranstaltung/grashuepfer-9/2026-05-12/
LOCATION:Abenteuerland\, Lauchringerstr. 22\, Lauchringen
CATEGORIES:Kleinkinder
GEO:47.623038;8.3152684
X-APPLE-STRUCTURED-LOCATION;VALUE=URI;X-ADDRESS=Abenteuerland Lauchringerstr. 22 Lauchringen;X-APPLE-RADIUS=500;X-TITLE=Lauchringerstr. 22:geo:8.3152684,47.623038
END:VEVENT
BEGIN:VEVENT
DTSTART;TZID=Europe/Berlin:20260512T084500
DTEND;TZID=Europe/Berlin:20260512T101500
DTSTAMP:20260421T165219
CREATED:20260209T135550Z
LAST-MODIFIED:20260209T135550Z
UID:10010454-1778575500-1778580900@faz-hochrhein.de
SUMMARY:PEKIP
DESCRIPTION:für Kinder geboren November 2025 — Februar 2026 \nAnmeldung und Informationen bei Marion Brath-Eckert\, marion.brath-eckert@posteo.de\, 07741/8350242
URL:https://faz-hochrhein.de/veranstaltung/pekip-2/2026-05-12/
LOCATION:Familienzentrum Hochrhein\, Bertold-Schmidt-Platz 7\, Lauchringen\, 79787
CATEGORIES:Kleinkinder
GEO:47.629312;8.3022713
X-APPLE-STRUCTURED-LOCATION;VALUE=URI;X-ADDRESS=Familienzentrum Hochrhein Bertold-Schmidt-Platz 7 Lauchringen 79787;X-APPLE-RADIUS=500;X-TITLE=Bertold-Schmidt-Platz 7:geo:8.3022713,47.629312
END:VEVENT
BEGIN:VEVENT
DTSTART;TZID=Europe/Berlin:20260512T090000
DTEND;TZID=Europe/Berlin:20260512T120000
DTSTAMP:20260421T165219
CREATED:20260206T085858Z
LAST-MODIFIED:20260206T085858Z
UID:10010032-1778576400-1778587200@faz-hochrhein.de
SUMMARY:Sonnenkäfer
DESCRIPTION:Die Kinder lernen in liebevoller Begleitung erste Reifeschritte für den Kindergarten. \nLeitung: Stephanie Lohrmann\, Tel. 07746/657697 oder im FaZ. \n 
URL:https://faz-hochrhein.de/veranstaltung/sonnenkaefer-2/2026-05-12/
LOCATION:Familienzentrum Hochrhein\, Bertold-Schmidt-Platz 7\, Lauchringen\, 79787
CATEGORIES:Kleinkinder
GEO:47.629312;8.3022713
X-APPLE-STRUCTURED-LOCATION;VALUE=URI;X-ADDRESS=Familienzentrum Hochrhein Bertold-Schmidt-Platz 7 Lauchringen 79787;X-APPLE-RADIUS=500;X-TITLE=Bertold-Schmidt-Platz 7:geo:8.3022713,47.629312
END:VEVENT
BEGIN:VEVENT
DTSTART;TZID=Europe/Berlin:20260512T093000
DTEND;TZID=Europe/Berlin:20260512T110000
DTSTAMP:20260421T165219
CREATED:20260206T082229Z
LAST-MODIFIED:20260206T082229Z
UID:10009806-1778578200-1778583600@faz-hochrhein.de
SUMMARY:Eltern-Treff für Kinder von 0 - 1 Jahre
DESCRIPTION:pädagogisch geleitete Eltern-Kind-Gruppe \nWir bitten jeweils um eine Spende von 3 Euro \nInformationen: Marion Dickmann\, m.dickmann@dw-hochrhein.de\, Tel. 07751–83040
URL:https://faz-hochrhein.de/veranstaltung/eltern-treff-fuer-kinder-von-0-1-jahre/2026-05-12/
LOCATION:Familienzentrum Hochrhein\, Bertold-Schmidt-Platz 7\, Lauchringen\, 79787
CATEGORIES:Kleinkinder
GEO:47.629312;8.3022713
X-APPLE-STRUCTURED-LOCATION;VALUE=URI;X-ADDRESS=Familienzentrum Hochrhein Bertold-Schmidt-Platz 7 Lauchringen 79787;X-APPLE-RADIUS=500;X-TITLE=Bertold-Schmidt-Platz 7:geo:8.3022713,47.629312
END:VEVENT
BEGIN:VEVENT
DTSTART;TZID=Europe/Berlin:20260512T103000
DTEND;TZID=Europe/Berlin:20260512T120000
DTSTAMP:20260421T165219
CREATED:20260209T135743Z
LAST-MODIFIED:20260209T135812Z
UID:10010465-1778581800-1778587200@faz-hochrhein.de
SUMMARY:PEKIP
DESCRIPTION:für Kinder geboren Mai 2025 — Oktober 2025 \nAnmeldung und Informationen bei Marion Brath-Eckert\, marion.brath-eckert@posteo.de\, 07741/8350242
URL:https://faz-hochrhein.de/veranstaltung/pekip-3/2026-05-12/
LOCATION:Familienzentrum Hochrhein\, Bertold-Schmidt-Platz 7\, Lauchringen\, 79787
CATEGORIES:Kleinkinder
GEO:47.629312;8.3022713
X-APPLE-STRUCTURED-LOCATION;VALUE=URI;X-ADDRESS=Familienzentrum Hochrhein Bertold-Schmidt-Platz 7 Lauchringen 79787;X-APPLE-RADIUS=500;X-TITLE=Bertold-Schmidt-Platz 7:geo:8.3022713,47.629312
END:VEVENT
BEGIN:VEVENT
DTSTART;TZID=Europe/Berlin:20260512T143000
DTEND;TZID=Europe/Berlin:20260512T170000
DTSTAMP:20260421T165219
CREATED:20260204T081527Z
LAST-MODIFIED:20260204T081527Z
UID:10009395-1778596200-1778605200@faz-hochrhein.de
SUMMARY:Backgammon-Spiel-Treff
DESCRIPTION:Wir freuen uns über neue Mitspieler!
URL:https://faz-hochrhein.de/veranstaltung/backgammon-spiel-treff-5/2026-05-12/
LOCATION:Familienzentrum Hochrhein\, Bertold-Schmidt-Platz 7\, Lauchringen\, 79787
CATEGORIES:Caféteria
GEO:47.629312;8.3022713
X-APPLE-STRUCTURED-LOCATION;VALUE=URI;X-ADDRESS=Familienzentrum Hochrhein Bertold-Schmidt-Platz 7 Lauchringen 79787;X-APPLE-RADIUS=500;X-TITLE=Bertold-Schmidt-Platz 7:geo:8.3022713,47.629312
END:VEVENT
BEGIN:VEVENT
DTSTART;TZID=Europe/Berlin:20260512T200000
DTEND;TZID=Europe/Berlin:20260512T220000
DTSTAMP:20260421T165219
CREATED:20260206T074400Z
LAST-MODIFIED:20260206T074400Z
UID:10009734-1778616000-1778623200@faz-hochrhein.de
SUMMARY:Selbsthilfegruppe CED Morbus Crohn / Colitis Ulcerosa
DESCRIPTION:Informationen: cedselbsthilfewt@gmail.com \n 
URL:https://faz-hochrhein.de/veranstaltung/selbsthilfegruppe-ced-morbus-crohn-colitis-ulcerosa-3/2026-05-12/
LOCATION:Familienzentrum Hochrhein\, Bertold-Schmidt-Platz 7\, Lauchringen\, 79787
CATEGORIES:Selbsthilfegruppen
GEO:47.629312;8.3022713
X-APPLE-STRUCTURED-LOCATION;VALUE=URI;X-ADDRESS=Familienzentrum Hochrhein Bertold-Schmidt-Platz 7 Lauchringen 79787;X-APPLE-RADIUS=500;X-TITLE=Bertold-Schmidt-Platz 7:geo:8.3022713,47.629312
END:VEVENT
BEGIN:VEVENT
DTSTART;TZID=Europe/Berlin:20260513T080000
DTEND;TZID=Europe/Berlin:20260513T120000
DTSTAMP:20260421T165219
CREATED:20260209T095234Z
LAST-MODIFIED:20260210T085006Z
UID:10010343-1778659200-1778673600@faz-hochrhein.de
SUMMARY:Grashüpfer
DESCRIPTION:Naturgruppe im Abenteuerland  \n  \nfür 1\,5 bis 3‑jährige \n  \nDie Kinder lernen in liebevoller Begleitung erste Reifeschritte für den Kindergarten. \n  \nInfos: r.cafararo@faz-hochrhein.de \n 
URL:https://faz-hochrhein.de/veranstaltung/grashuepfer-9/2026-05-13/
LOCATION:Abenteuerland\, Lauchringerstr. 22\, Lauchringen
CATEGORIES:Kleinkinder
GEO:47.623038;8.3152684
X-APPLE-STRUCTURED-LOCATION;VALUE=URI;X-ADDRESS=Abenteuerland Lauchringerstr. 22 Lauchringen;X-APPLE-RADIUS=500;X-TITLE=Lauchringerstr. 22:geo:8.3152684,47.623038
END:VEVENT
BEGIN:VEVENT
DTSTART;TZID=Europe/Berlin:20260513T093000
DTEND;TZID=Europe/Berlin:20260513T110000
DTSTAMP:20260421T165219
CREATED:20260206T082744Z
LAST-MODIFIED:20260206T082744Z
UID:10009848-1778664600-1778670000@faz-hochrhein.de
SUMMARY:Eltern-Treff für Kinder von 1 - 3 Jahren
DESCRIPTION:pädagogisch geleitete Eltern-Kind-Gruppe \nWir bitten jeweils um eine Spende von 3 Euro \nInformationen: Marion Dickmann\, m.dickmann@dw-hochrhein.de\, Tel. 07751–83040
URL:https://faz-hochrhein.de/veranstaltung/eltern-treff-fuer-kinder-von-1-3-jahren-5/2026-05-13/
LOCATION:Familienzentrum Hochrhein\, Bertold-Schmidt-Platz 7\, Lauchringen\, 79787
CATEGORIES:Kleinkinder
GEO:47.629312;8.3022713
X-APPLE-STRUCTURED-LOCATION;VALUE=URI;X-ADDRESS=Familienzentrum Hochrhein Bertold-Schmidt-Platz 7 Lauchringen 79787;X-APPLE-RADIUS=500;X-TITLE=Bertold-Schmidt-Platz 7:geo:8.3022713,47.629312
END:VEVENT
BEGIN:VEVENT
DTSTART;TZID=Europe/Berlin:20260513T093000
DTEND;TZID=Europe/Berlin:20260513T110000
DTSTAMP:20260421T165219
CREATED:20260209T091241Z
LAST-MODIFIED:20260209T092915Z
UID:10010271-1778664600-1778670000@faz-hochrhein.de
SUMMARY:Der-die-das-Kurs für Anfänger
DESCRIPTION:Kosten: 1 €/Tag \n  \nReferentin: Hanne Breinig\, pensionierte Lehrerin \n 
URL:https://faz-hochrhein.de/veranstaltung/der-die-das-kurs-fuer-anfaenger/2026-05-13/
LOCATION:Familienzentrum Hochrhein\, Bertold-Schmidt-Platz 7\, Lauchringen\, 79787
CATEGORIES:Erwachsene & Senioren
GEO:47.629312;8.3022713
X-APPLE-STRUCTURED-LOCATION;VALUE=URI;X-ADDRESS=Familienzentrum Hochrhein Bertold-Schmidt-Platz 7 Lauchringen 79787;X-APPLE-RADIUS=500;X-TITLE=Bertold-Schmidt-Platz 7:geo:8.3022713,47.629312
END:VEVENT
BEGIN:VEVENT
DTSTART;TZID=Europe/Berlin:20260513T160000
DTEND;TZID=Europe/Berlin:20260513T170000
DTSTAMP:20260421T165219
CREATED:20260421T084612Z
LAST-MODIFIED:20260421T084709Z
UID:10010652-1778688000-1778691600@faz-hochrhein.de
SUMMARY:Englisch-Anfänger-Kurs
DESCRIPTION:mit Trish \nkostenlos\, Anmeldung im FaZ
URL:https://faz-hochrhein.de/veranstaltung/englisch-anfaenger-kurs/2026-05-13/
LOCATION:Familienzentrum Hochrhein\, Bertold-Schmidt-Platz 7\, Lauchringen\, 79787
CATEGORIES:Caféteria
GEO:47.629312;8.3022713
X-APPLE-STRUCTURED-LOCATION;VALUE=URI;X-ADDRESS=Familienzentrum Hochrhein Bertold-Schmidt-Platz 7 Lauchringen 79787;X-APPLE-RADIUS=500;X-TITLE=Bertold-Schmidt-Platz 7:geo:8.3022713,47.629312
END:VEVENT
BEGIN:VEVENT
DTSTART;VALUE=DATE:20260514
DTEND;VALUE=DATE:20260515
DTSTAMP:20260421T165219
CREATED:20260210T082038Z
LAST-MODIFIED:20260210T082038Z
UID:10010546-1778716800-1778803199@faz-hochrhein.de
SUMMARY:FaZ und Abenteuerland geschlossen
DESCRIPTION:
URL:https://faz-hochrhein.de/veranstaltung/faz-und-abenteuerland-geschlossen-4/
LOCATION:Familienzentrum Hochrhein\, Bertold-Schmidt-Platz 7\, Lauchringen\, 79787
CATEGORIES:Allgemein
GEO:47.629312;8.3022713
X-APPLE-STRUCTURED-LOCATION;VALUE=URI;X-ADDRESS=Familienzentrum Hochrhein Bertold-Schmidt-Platz 7 Lauchringen 79787;X-APPLE-RADIUS=500;X-TITLE=Bertold-Schmidt-Platz 7:geo:8.3022713,47.629312
END:VEVENT
BEGIN:VEVENT
DTSTART;TZID=Europe/Berlin:20260515T090000
DTEND;TZID=Europe/Berlin:20260515T120000
DTSTAMP:20260421T165219
CREATED:20260206T085858Z
LAST-MODIFIED:20260206T085858Z
UID:10010033-1778835600-1778846400@faz-hochrhein.de
SUMMARY:Sonnenkäfer
DESCRIPTION:Die Kinder lernen in liebevoller Begleitung erste Reifeschritte für den Kindergarten. \nLeitung: Stephanie Lohrmann\, Tel. 07746/657697 oder im FaZ. \n 
URL:https://faz-hochrhein.de/veranstaltung/sonnenkaefer-2/2026-05-15/
LOCATION:Familienzentrum Hochrhein\, Bertold-Schmidt-Platz 7\, Lauchringen\, 79787
CATEGORIES:Kleinkinder
GEO:47.629312;8.3022713
X-APPLE-STRUCTURED-LOCATION;VALUE=URI;X-ADDRESS=Familienzentrum Hochrhein Bertold-Schmidt-Platz 7 Lauchringen 79787;X-APPLE-RADIUS=500;X-TITLE=Bertold-Schmidt-Platz 7:geo:8.3022713,47.629312
END:VEVENT
BEGIN:VEVENT
DTSTART;TZID=Europe/Berlin:20260515T093000
DTEND;TZID=Europe/Berlin:20260515T103000
DTSTAMP:20260421T165219
CREATED:20260204T084852Z
LAST-MODIFIED:20260204T084852Z
UID:10009592-1778837400-1778841000@faz-hochrhein.de
SUMMARY:English Conversation - bessere Anfänger
DESCRIPTION:mit native speaker Patricia Sherry\, EFL/ESL-Lehrerin \nkostenlos \nDer Kurs ist aktuell ausgebucht!
URL:https://faz-hochrhein.de/veranstaltung/english-conversation-bessere-anfaenger/2026-05-15/
LOCATION:Familienzentrum Hochrhein\, Bertold-Schmidt-Platz 7\, Lauchringen\, 79787
CATEGORIES:Caféteria
GEO:47.629312;8.3022713
X-APPLE-STRUCTURED-LOCATION;VALUE=URI;X-ADDRESS=Familienzentrum Hochrhein Bertold-Schmidt-Platz 7 Lauchringen 79787;X-APPLE-RADIUS=500;X-TITLE=Bertold-Schmidt-Platz 7:geo:8.3022713,47.629312
END:VEVENT
BEGIN:VEVENT
DTSTART;TZID=Europe/Berlin:20260515T200000
DTEND;TZID=Europe/Berlin:20260515T233000
DTSTAMP:20260421T165219
CREATED:20260204T082250Z
LAST-MODIFIED:20260204T082250Z
UID:10009483-1778875200-1778887800@faz-hochrhein.de
SUMMARY:Brettspiele-Treff
DESCRIPTION:Lust auf gemeinsames Spielen in netter Runde? Neue Karten- und Brettspiele kennen lernen? \nIn geselligem Beisammensein werden Familienspiele\, Kennerspiele und Expertenspiele angeboten und erklärt. Es ist für jeden etwas dabei. \nFür Spiele\, Getränke und Knabberzeug ist gesorgt. \nMitbringen solltet ihr: Interesse\, Neugier und Spaß \nInfos:  Johannes und Max\, Mobil: 0176–40539430 \n 
URL:https://faz-hochrhein.de/veranstaltung/brettspiele-treff/2026-05-15/
LOCATION:Familienzentrum Hochrhein\, Bertold-Schmidt-Platz 7\, Lauchringen\, 79787
CATEGORIES:Caféteria
GEO:47.629312;8.3022713
X-APPLE-STRUCTURED-LOCATION;VALUE=URI;X-ADDRESS=Familienzentrum Hochrhein Bertold-Schmidt-Platz 7 Lauchringen 79787;X-APPLE-RADIUS=500;X-TITLE=Bertold-Schmidt-Platz 7:geo:8.3022713,47.629312
END:VEVENT
BEGIN:VEVENT
DTSTART;TZID=Europe/Berlin:20260516T090000
DTEND;TZID=Europe/Berlin:20260516T140000
DTSTAMP:20260421T165219
CREATED:20260226T101527Z
LAST-MODIFIED:20260226T101527Z
UID:10010604-1778922000-1778940000@faz-hochrhein.de
SUMMARY:MIA - Migrantinnen stark im Alltag
DESCRIPTION:
URL:https://faz-hochrhein.de/veranstaltung/mia-migrantinnen-stark-im-alltag/2026-05-16/
LOCATION:Familienzentrum Hochrhein\, Bertold-Schmidt-Platz 7\, Lauchringen\, 79787
CATEGORIES:Erwachsene & Senioren
GEO:47.629312;8.3022713
X-APPLE-STRUCTURED-LOCATION;VALUE=URI;X-ADDRESS=Familienzentrum Hochrhein Bertold-Schmidt-Platz 7 Lauchringen 79787;X-APPLE-RADIUS=500;X-TITLE=Bertold-Schmidt-Platz 7:geo:8.3022713,47.629312
END:VEVENT
BEGIN:VEVENT
DTSTART;TZID=Europe/Berlin:20260518T080000
DTEND;TZID=Europe/Berlin:20260518T154500
DTSTAMP:20260421T165219
CREATED:20260209T093350Z
LAST-MODIFIED:20260421T092917Z
UID:10010709-1779091200-1779119100@faz-hochrhein.de
SUMMARY:Pflege-Unterstützer Ausbildung
DESCRIPTION:Teilnahme ist kostenlos \nAnmeldung:  Ursula Kramm\, telefonisch im FaZ oder\n                     per mail: u.kramm@faz-hochrhein.de\n\nKursleiterin: Elisabeth Kaiser\, e.kaiser@faz-hochrhein\n 
URL:https://faz-hochrhein.de/veranstaltung/pflege-unterstuetzer-ausbildung-3/2026-05-18/
LOCATION:Familienzentrum Hochrhein\, Bertold-Schmidt-Platz 7\, Lauchringen\, 79787
CATEGORIES:Erwachsene & Senioren
GEO:47.629312;8.3022713
X-APPLE-STRUCTURED-LOCATION;VALUE=URI;X-ADDRESS=Familienzentrum Hochrhein Bertold-Schmidt-Platz 7 Lauchringen 79787;X-APPLE-RADIUS=500;X-TITLE=Bertold-Schmidt-Platz 7:geo:8.3022713,47.629312
END:VEVENT
BEGIN:VEVENT
DTSTART;TZID=Europe/Berlin:20260518T093000
DTEND;TZID=Europe/Berlin:20260518T110000
DTSTAMP:20260421T165219
CREATED:20260206T081836Z
LAST-MODIFIED:20260206T081836Z
UID:10009766-1779096600-1779102000@faz-hochrhein.de
SUMMARY:Eltern-Treff für Kinder von 1 - 3 Jahren
DESCRIPTION:pädagogisch geleitete Eltern-Kind-Gruppe \nWir bitten jeweils um eine Spende von 3 Euro \nInformationen: Marion Dickmann\, m.dickmann@dw-hochrhein.de\, Tel. 07751–83040 \n 
URL:https://faz-hochrhein.de/veranstaltung/eltern-treff-fuer-kinder-von-1-3-jahren-4/2026-05-18/
LOCATION:Familienzentrum Hochrhein\, Bertold-Schmidt-Platz 7\, Lauchringen\, 79787
CATEGORIES:Kleinkinder
GEO:47.629312;8.3022713
X-APPLE-STRUCTURED-LOCATION;VALUE=URI;X-ADDRESS=Familienzentrum Hochrhein Bertold-Schmidt-Platz 7 Lauchringen 79787;X-APPLE-RADIUS=500;X-TITLE=Bertold-Schmidt-Platz 7:geo:8.3022713,47.629312
END:VEVENT
BEGIN:VEVENT
DTSTART;TZID=Europe/Berlin:20260519T080000
DTEND;TZID=Europe/Berlin:20260519T120000
DTSTAMP:20260421T165219
CREATED:20260209T095234Z
LAST-MODIFIED:20260210T085006Z
UID:10010344-1779177600-1779192000@faz-hochrhein.de
SUMMARY:Grashüpfer
DESCRIPTION:Naturgruppe im Abenteuerland  \n  \nfür 1\,5 bis 3‑jährige \n  \nDie Kinder lernen in liebevoller Begleitung erste Reifeschritte für den Kindergarten. \n  \nInfos: r.cafararo@faz-hochrhein.de \n 
URL:https://faz-hochrhein.de/veranstaltung/grashuepfer-9/2026-05-19/
LOCATION:Abenteuerland\, Lauchringerstr. 22\, Lauchringen
CATEGORIES:Kleinkinder
GEO:47.623038;8.3152684
X-APPLE-STRUCTURED-LOCATION;VALUE=URI;X-ADDRESS=Abenteuerland Lauchringerstr. 22 Lauchringen;X-APPLE-RADIUS=500;X-TITLE=Lauchringerstr. 22:geo:8.3152684,47.623038
END:VEVENT
BEGIN:VEVENT
DTSTART;TZID=Europe/Berlin:20260519T084500
DTEND;TZID=Europe/Berlin:20260519T101500
DTSTAMP:20260421T165219
CREATED:20260209T135550Z
LAST-MODIFIED:20260209T135550Z
UID:10010455-1779180300-1779185700@faz-hochrhein.de
SUMMARY:PEKIP
DESCRIPTION:für Kinder geboren November 2025 — Februar 2026 \nAnmeldung und Informationen bei Marion Brath-Eckert\, marion.brath-eckert@posteo.de\, 07741/8350242
URL:https://faz-hochrhein.de/veranstaltung/pekip-2/2026-05-19/
LOCATION:Familienzentrum Hochrhein\, Bertold-Schmidt-Platz 7\, Lauchringen\, 79787
CATEGORIES:Kleinkinder
GEO:47.629312;8.3022713
X-APPLE-STRUCTURED-LOCATION;VALUE=URI;X-ADDRESS=Familienzentrum Hochrhein Bertold-Schmidt-Platz 7 Lauchringen 79787;X-APPLE-RADIUS=500;X-TITLE=Bertold-Schmidt-Platz 7:geo:8.3022713,47.629312
END:VEVENT
BEGIN:VEVENT
DTSTART;TZID=Europe/Berlin:20260519T090000
DTEND;TZID=Europe/Berlin:20260519T110000
DTSTAMP:20260421T165219
CREATED:20260128T080302Z
LAST-MODIFIED:20260128T080302Z
UID:10009348-1779181200-1779188400@faz-hochrhein.de
SUMMARY:Frauenfrühstück
DESCRIPTION:„Starke Frauen in der Bibel und Heute“ \nEin Vortrag zur Hoffnung\, Stärke und Würde von Frauen in biblischer und   heutiger Zeit. Die Frauen jener Zeit waren mutig\, hatten Freude und doch waren sie auch mit widersprüchlichem Schicksal konfrontiert – genau so wie die Frauen von heute. \n  \nReferentin:  Martina Dinner\, Evangelische Schuldekanin am Hochrhein \n  \nFrühstücksbuffet: 11\,00 Euro \n  \nWir bitten um Anmeldung! \n  \n 
URL:https://faz-hochrhein.de/veranstaltung/frauenfruehstueck-7/
LOCATION:Familienzentrum Hochrhein\, Bertold-Schmidt-Platz 7\, Lauchringen\, 79787
CATEGORIES:Caféteria
GEO:47.629312;8.3022713
X-APPLE-STRUCTURED-LOCATION;VALUE=URI;X-ADDRESS=Familienzentrum Hochrhein Bertold-Schmidt-Platz 7 Lauchringen 79787;X-APPLE-RADIUS=500;X-TITLE=Bertold-Schmidt-Platz 7:geo:8.3022713,47.629312
END:VEVENT
BEGIN:VEVENT
DTSTART;TZID=Europe/Berlin:20260519T090000
DTEND;TZID=Europe/Berlin:20260519T120000
DTSTAMP:20260421T165219
CREATED:20260206T085858Z
LAST-MODIFIED:20260206T085858Z
UID:10010034-1779181200-1779192000@faz-hochrhein.de
SUMMARY:Sonnenkäfer
DESCRIPTION:Die Kinder lernen in liebevoller Begleitung erste Reifeschritte für den Kindergarten. \nLeitung: Stephanie Lohrmann\, Tel. 07746/657697 oder im FaZ. \n 
URL:https://faz-hochrhein.de/veranstaltung/sonnenkaefer-2/2026-05-19/
LOCATION:Familienzentrum Hochrhein\, Bertold-Schmidt-Platz 7\, Lauchringen\, 79787
CATEGORIES:Kleinkinder
GEO:47.629312;8.3022713
X-APPLE-STRUCTURED-LOCATION;VALUE=URI;X-ADDRESS=Familienzentrum Hochrhein Bertold-Schmidt-Platz 7 Lauchringen 79787;X-APPLE-RADIUS=500;X-TITLE=Bertold-Schmidt-Platz 7:geo:8.3022713,47.629312
END:VEVENT
BEGIN:VEVENT
DTSTART;TZID=Europe/Berlin:20260519T093000
DTEND;TZID=Europe/Berlin:20260519T110000
DTSTAMP:20260421T165219
CREATED:20260206T082229Z
LAST-MODIFIED:20260206T082229Z
UID:10009807-1779183000-1779188400@faz-hochrhein.de
SUMMARY:Eltern-Treff für Kinder von 0 - 1 Jahre
DESCRIPTION:pädagogisch geleitete Eltern-Kind-Gruppe \nWir bitten jeweils um eine Spende von 3 Euro \nInformationen: Marion Dickmann\, m.dickmann@dw-hochrhein.de\, Tel. 07751–83040
URL:https://faz-hochrhein.de/veranstaltung/eltern-treff-fuer-kinder-von-0-1-jahre/2026-05-19/
LOCATION:Familienzentrum Hochrhein\, Bertold-Schmidt-Platz 7\, Lauchringen\, 79787
CATEGORIES:Kleinkinder
GEO:47.629312;8.3022713
X-APPLE-STRUCTURED-LOCATION;VALUE=URI;X-ADDRESS=Familienzentrum Hochrhein Bertold-Schmidt-Platz 7 Lauchringen 79787;X-APPLE-RADIUS=500;X-TITLE=Bertold-Schmidt-Platz 7:geo:8.3022713,47.629312
END:VEVENT
BEGIN:VEVENT
DTSTART;TZID=Europe/Berlin:20260519T103000
DTEND;TZID=Europe/Berlin:20260519T120000
DTSTAMP:20260421T165219
CREATED:20260209T135743Z
LAST-MODIFIED:20260209T135812Z
UID:10010466-1779186600-1779192000@faz-hochrhein.de
SUMMARY:PEKIP
DESCRIPTION:für Kinder geboren Mai 2025 — Oktober 2025 \nAnmeldung und Informationen bei Marion Brath-Eckert\, marion.brath-eckert@posteo.de\, 07741/8350242
URL:https://faz-hochrhein.de/veranstaltung/pekip-3/2026-05-19/
LOCATION:Familienzentrum Hochrhein\, Bertold-Schmidt-Platz 7\, Lauchringen\, 79787
CATEGORIES:Kleinkinder
GEO:47.629312;8.3022713
X-APPLE-STRUCTURED-LOCATION;VALUE=URI;X-ADDRESS=Familienzentrum Hochrhein Bertold-Schmidt-Platz 7 Lauchringen 79787;X-APPLE-RADIUS=500;X-TITLE=Bertold-Schmidt-Platz 7:geo:8.3022713,47.629312
END:VEVENT
BEGIN:VEVENT
DTSTART;TZID=Europe/Berlin:20260519T143000
DTEND;TZID=Europe/Berlin:20260519T170000
DTSTAMP:20260421T165219
CREATED:20260204T081527Z
LAST-MODIFIED:20260204T081527Z
UID:10009396-1779201000-1779210000@faz-hochrhein.de
SUMMARY:Backgammon-Spiel-Treff
DESCRIPTION:Wir freuen uns über neue Mitspieler!
URL:https://faz-hochrhein.de/veranstaltung/backgammon-spiel-treff-5/2026-05-19/
LOCATION:Familienzentrum Hochrhein\, Bertold-Schmidt-Platz 7\, Lauchringen\, 79787
CATEGORIES:Caféteria
GEO:47.629312;8.3022713
X-APPLE-STRUCTURED-LOCATION;VALUE=URI;X-ADDRESS=Familienzentrum Hochrhein Bertold-Schmidt-Platz 7 Lauchringen 79787;X-APPLE-RADIUS=500;X-TITLE=Bertold-Schmidt-Platz 7:geo:8.3022713,47.629312
END:VEVENT
BEGIN:VEVENT
DTSTART;TZID=Europe/Berlin:20260520T080000
DTEND;TZID=Europe/Berlin:20260520T120000
DTSTAMP:20260421T165219
CREATED:20260209T095234Z
LAST-MODIFIED:20260210T085006Z
UID:10010345-1779264000-1779278400@faz-hochrhein.de
SUMMARY:Grashüpfer
DESCRIPTION:Naturgruppe im Abenteuerland  \n  \nfür 1\,5 bis 3‑jährige \n  \nDie Kinder lernen in liebevoller Begleitung erste Reifeschritte für den Kindergarten. \n  \nInfos: r.cafararo@faz-hochrhein.de \n 
URL:https://faz-hochrhein.de/veranstaltung/grashuepfer-9/2026-05-20/
LOCATION:Abenteuerland\, Lauchringerstr. 22\, Lauchringen
CATEGORIES:Kleinkinder
GEO:47.623038;8.3152684
X-APPLE-STRUCTURED-LOCATION;VALUE=URI;X-ADDRESS=Abenteuerland Lauchringerstr. 22 Lauchringen;X-APPLE-RADIUS=500;X-TITLE=Lauchringerstr. 22:geo:8.3152684,47.623038
END:VEVENT
BEGIN:VEVENT
DTSTART;TZID=Europe/Berlin:20260520T093000
DTEND;TZID=Europe/Berlin:20260520T110000
DTSTAMP:20260421T165219
CREATED:20260206T082744Z
LAST-MODIFIED:20260206T082744Z
UID:10009849-1779269400-1779274800@faz-hochrhein.de
SUMMARY:Eltern-Treff für Kinder von 1 - 3 Jahren
DESCRIPTION:pädagogisch geleitete Eltern-Kind-Gruppe \nWir bitten jeweils um eine Spende von 3 Euro \nInformationen: Marion Dickmann\, m.dickmann@dw-hochrhein.de\, Tel. 07751–83040
URL:https://faz-hochrhein.de/veranstaltung/eltern-treff-fuer-kinder-von-1-3-jahren-5/2026-05-20/
LOCATION:Familienzentrum Hochrhein\, Bertold-Schmidt-Platz 7\, Lauchringen\, 79787
CATEGORIES:Kleinkinder
GEO:47.629312;8.3022713
X-APPLE-STRUCTURED-LOCATION;VALUE=URI;X-ADDRESS=Familienzentrum Hochrhein Bertold-Schmidt-Platz 7 Lauchringen 79787;X-APPLE-RADIUS=500;X-TITLE=Bertold-Schmidt-Platz 7:geo:8.3022713,47.629312
END:VEVENT
END:VCALENDAR