BEGIN:VCALENDAR
VERSION:2.0
PRODID:-//Familienzentrum Hochrhein - ECPv6.15.16//NONSGML v1.0//EN
CALSCALE:GREGORIAN
METHOD:PUBLISH
X-WR-CALNAME:Familienzentrum Hochrhein
X-ORIGINAL-URL:https://faz-hochrhein.de
X-WR-CALDESC:Veranstaltungen für Familienzentrum Hochrhein
REFRESH-INTERVAL;VALUE=DURATION:PT1H
X-Robots-Tag:noindex
X-PUBLISHED-TTL:PT1H
BEGIN:VTIMEZONE
TZID:Europe/Berlin
BEGIN:DAYLIGHT
TZOFFSETFROM:+0100
TZOFFSETTO:+0200
TZNAME:CEST
DTSTART:20250330T010000
END:DAYLIGHT
BEGIN:STANDARD
TZOFFSETFROM:+0200
TZOFFSETTO:+0100
TZNAME:CET
DTSTART:20251026T010000
END:STANDARD
BEGIN:DAYLIGHT
TZOFFSETFROM:+0100
TZOFFSETTO:+0200
TZNAME:CEST
DTSTART:20260329T010000
END:DAYLIGHT
BEGIN:STANDARD
TZOFFSETFROM:+0200
TZOFFSETTO:+0100
TZNAME:CET
DTSTART:20261025T010000
END:STANDARD
BEGIN:DAYLIGHT
TZOFFSETFROM:+0100
TZOFFSETTO:+0200
TZNAME:CEST
DTSTART:20270328T010000
END:DAYLIGHT
BEGIN:STANDARD
TZOFFSETFROM:+0200
TZOFFSETTO:+0100
TZNAME:CET
DTSTART:20271031T010000
END:STANDARD
END:VTIMEZONE
BEGIN:VEVENT
DTSTART;TZID=Europe/Berlin:20260504T080000
DTEND;TZID=Europe/Berlin:20260504T154500
DTSTAMP:20260421T123339
CREATED:20260209T093350Z
LAST-MODIFIED:20260421T092917Z
UID:10010707-1777881600-1777909500@faz-hochrhein.de
SUMMARY:Pflege-Unterstützer Ausbildung
DESCRIPTION:Teilnahme ist kostenlos \nAnmeldung:  Ursula Kramm\, telefonisch im FaZ oder\n                     per mail: u.kramm@faz-hochrhein.de\n\nKursleiterin: Elisabeth Kaiser\, e.kaiser@faz-hochrhein\n 
URL:https://faz-hochrhein.de/veranstaltung/pflege-unterstuetzer-ausbildung-3/2026-05-04/
LOCATION:Familienzentrum Hochrhein\, Bertold-Schmidt-Platz 7\, Lauchringen\, 79787
CATEGORIES:Erwachsene & Senioren
GEO:47.629312;8.3022713
X-APPLE-STRUCTURED-LOCATION;VALUE=URI;X-ADDRESS=Familienzentrum Hochrhein Bertold-Schmidt-Platz 7 Lauchringen 79787;X-APPLE-RADIUS=500;X-TITLE=Bertold-Schmidt-Platz 7:geo:8.3022713,47.629312
END:VEVENT
BEGIN:VEVENT
DTSTART;TZID=Europe/Berlin:20260504T093000
DTEND;TZID=Europe/Berlin:20260504T110000
DTSTAMP:20260421T123339
CREATED:20260206T081836Z
LAST-MODIFIED:20260206T081836Z
UID:10009764-1777887000-1777892400@faz-hochrhein.de
SUMMARY:Eltern-Treff für Kinder von 1 - 3 Jahren
DESCRIPTION:pädagogisch geleitete Eltern-Kind-Gruppe \nWir bitten jeweils um eine Spende von 3 Euro \nInformationen: Marion Dickmann\, m.dickmann@dw-hochrhein.de\, Tel. 07751–83040 \n 
URL:https://faz-hochrhein.de/veranstaltung/eltern-treff-fuer-kinder-von-1-3-jahren-4/2026-05-04/
LOCATION:Familienzentrum Hochrhein\, Bertold-Schmidt-Platz 7\, Lauchringen\, 79787
CATEGORIES:Kleinkinder
GEO:47.629312;8.3022713
X-APPLE-STRUCTURED-LOCATION;VALUE=URI;X-ADDRESS=Familienzentrum Hochrhein Bertold-Schmidt-Platz 7 Lauchringen 79787;X-APPLE-RADIUS=500;X-TITLE=Bertold-Schmidt-Platz 7:geo:8.3022713,47.629312
END:VEVENT
BEGIN:VEVENT
DTSTART;TZID=Europe/Berlin:20260504T180000
DTEND;TZID=Europe/Berlin:20260504T200000
DTSTAMP:20260421T123339
CREATED:20260206T075448Z
LAST-MODIFIED:20260206T075448Z
UID:10009742-1777917600-1777924800@faz-hochrhein.de
SUMMARY:Hoffnungs-Treff
DESCRIPTION:
URL:https://faz-hochrhein.de/veranstaltung/hoffnungs-treff-4/2026-05-04/
LOCATION:Familienzentrum Hochrhein\, Bertold-Schmidt-Platz 7\, Lauchringen\, 79787
CATEGORIES:Selbsthilfegruppen
GEO:47.629312;8.3022713
X-APPLE-STRUCTURED-LOCATION;VALUE=URI;X-ADDRESS=Familienzentrum Hochrhein Bertold-Schmidt-Platz 7 Lauchringen 79787;X-APPLE-RADIUS=500;X-TITLE=Bertold-Schmidt-Platz 7:geo:8.3022713,47.629312
END:VEVENT
BEGIN:VEVENT
DTSTART;TZID=Europe/Berlin:20260505T080000
DTEND;TZID=Europe/Berlin:20260505T120000
DTSTAMP:20260421T123339
CREATED:20260209T095234Z
LAST-MODIFIED:20260210T085006Z
UID:10010339-1777968000-1777982400@faz-hochrhein.de
SUMMARY:Grashüpfer
DESCRIPTION:Naturgruppe im Abenteuerland  \n  \nfür 1\,5 bis 3‑jährige \n  \nDie Kinder lernen in liebevoller Begleitung erste Reifeschritte für den Kindergarten. \n  \nInfos: r.cafararo@faz-hochrhein.de \n 
URL:https://faz-hochrhein.de/veranstaltung/grashuepfer-9/2026-05-05/
LOCATION:Abenteuerland\, Lauchringerstr. 22\, Lauchringen
CATEGORIES:Kleinkinder
GEO:47.623038;8.3152684
X-APPLE-STRUCTURED-LOCATION;VALUE=URI;X-ADDRESS=Abenteuerland Lauchringerstr. 22 Lauchringen;X-APPLE-RADIUS=500;X-TITLE=Lauchringerstr. 22:geo:8.3152684,47.623038
END:VEVENT
BEGIN:VEVENT
DTSTART;TZID=Europe/Berlin:20260505T084500
DTEND;TZID=Europe/Berlin:20260505T101500
DTSTAMP:20260421T123339
CREATED:20260209T135550Z
LAST-MODIFIED:20260209T135550Z
UID:10010453-1777970700-1777976100@faz-hochrhein.de
SUMMARY:PEKIP
DESCRIPTION:für Kinder geboren November 2025 — Februar 2026 \nAnmeldung und Informationen bei Marion Brath-Eckert\, marion.brath-eckert@posteo.de\, 07741/8350242
URL:https://faz-hochrhein.de/veranstaltung/pekip-2/2026-05-05/
LOCATION:Familienzentrum Hochrhein\, Bertold-Schmidt-Platz 7\, Lauchringen\, 79787
CATEGORIES:Kleinkinder
GEO:47.629312;8.3022713
X-APPLE-STRUCTURED-LOCATION;VALUE=URI;X-ADDRESS=Familienzentrum Hochrhein Bertold-Schmidt-Platz 7 Lauchringen 79787;X-APPLE-RADIUS=500;X-TITLE=Bertold-Schmidt-Platz 7:geo:8.3022713,47.629312
END:VEVENT
BEGIN:VEVENT
DTSTART;TZID=Europe/Berlin:20260505T090000
DTEND;TZID=Europe/Berlin:20260505T110000
DTSTAMP:20260421T123339
CREATED:20260211T095355Z
LAST-MODIFIED:20260211T095355Z
UID:10010590-1777971600-1777978800@faz-hochrhein.de
SUMMARY:Beratungen des Pflege-Stützpunktes des Landratsamt im FaZ
DESCRIPTION:Der Pflegestützpunkt des Landkreises Waldshut bietet individuelle Beratung und Information rund um das Thema „Pflege“ an. Sie haben hierzu Fragen\, benötigen Unterstützung bei der Beantragung eines Pflegegrades oder bei der Auswahl von Hilfs- und Pflegeangeboten\, dann sind wir gerne für Sie da. \nEine vorherige Terminvereinbarung ist erforderlich.  \nDaniela Roters\, Landratsamt \nTel: 07751–864255\, email: Daniela.Roters@landkreis-waldshut.de \n 
URL:https://faz-hochrhein.de/veranstaltung/beratungen-des-pflege-stuetzpunktes-des-landratsamt-im-faz-4/2026-05-05/
LOCATION:Familienzentrum Hochrhein\, Bertold-Schmidt-Platz 7\, Lauchringen\, 79787
CATEGORIES:Erwachsene & Senioren
GEO:47.629312;8.3022713
X-APPLE-STRUCTURED-LOCATION;VALUE=URI;X-ADDRESS=Familienzentrum Hochrhein Bertold-Schmidt-Platz 7 Lauchringen 79787;X-APPLE-RADIUS=500;X-TITLE=Bertold-Schmidt-Platz 7:geo:8.3022713,47.629312
END:VEVENT
BEGIN:VEVENT
DTSTART;TZID=Europe/Berlin:20260505T090000
DTEND;TZID=Europe/Berlin:20260505T120000
DTSTAMP:20260421T123339
CREATED:20260206T085858Z
LAST-MODIFIED:20260206T085858Z
UID:10010029-1777971600-1777982400@faz-hochrhein.de
SUMMARY:Sonnenkäfer
DESCRIPTION:Die Kinder lernen in liebevoller Begleitung erste Reifeschritte für den Kindergarten. \nLeitung: Stephanie Lohrmann\, Tel. 07746/657697 oder im FaZ. \n 
URL:https://faz-hochrhein.de/veranstaltung/sonnenkaefer-2/2026-05-05/
LOCATION:Familienzentrum Hochrhein\, Bertold-Schmidt-Platz 7\, Lauchringen\, 79787
CATEGORIES:Kleinkinder
GEO:47.629312;8.3022713
X-APPLE-STRUCTURED-LOCATION;VALUE=URI;X-ADDRESS=Familienzentrum Hochrhein Bertold-Schmidt-Platz 7 Lauchringen 79787;X-APPLE-RADIUS=500;X-TITLE=Bertold-Schmidt-Platz 7:geo:8.3022713,47.629312
END:VEVENT
BEGIN:VEVENT
DTSTART;TZID=Europe/Berlin:20260505T093000
DTEND;TZID=Europe/Berlin:20260505T110000
DTSTAMP:20260421T123339
CREATED:20260206T082229Z
LAST-MODIFIED:20260206T082229Z
UID:10009805-1777973400-1777978800@faz-hochrhein.de
SUMMARY:Eltern-Treff für Kinder von 0 - 1 Jahre
DESCRIPTION:pädagogisch geleitete Eltern-Kind-Gruppe \nWir bitten jeweils um eine Spende von 3 Euro \nInformationen: Marion Dickmann\, m.dickmann@dw-hochrhein.de\, Tel. 07751–83040
URL:https://faz-hochrhein.de/veranstaltung/eltern-treff-fuer-kinder-von-0-1-jahre/2026-05-05/
LOCATION:Familienzentrum Hochrhein\, Bertold-Schmidt-Platz 7\, Lauchringen\, 79787
CATEGORIES:Kleinkinder
GEO:47.629312;8.3022713
X-APPLE-STRUCTURED-LOCATION;VALUE=URI;X-ADDRESS=Familienzentrum Hochrhein Bertold-Schmidt-Platz 7 Lauchringen 79787;X-APPLE-RADIUS=500;X-TITLE=Bertold-Schmidt-Platz 7:geo:8.3022713,47.629312
END:VEVENT
BEGIN:VEVENT
DTSTART;TZID=Europe/Berlin:20260505T103000
DTEND;TZID=Europe/Berlin:20260505T120000
DTSTAMP:20260421T123339
CREATED:20260209T135743Z
LAST-MODIFIED:20260209T135812Z
UID:10010464-1777977000-1777982400@faz-hochrhein.de
SUMMARY:PEKIP
DESCRIPTION:für Kinder geboren Mai 2025 — Oktober 2025 \nAnmeldung und Informationen bei Marion Brath-Eckert\, marion.brath-eckert@posteo.de\, 07741/8350242
URL:https://faz-hochrhein.de/veranstaltung/pekip-3/2026-05-05/
LOCATION:Familienzentrum Hochrhein\, Bertold-Schmidt-Platz 7\, Lauchringen\, 79787
CATEGORIES:Kleinkinder
GEO:47.629312;8.3022713
X-APPLE-STRUCTURED-LOCATION;VALUE=URI;X-ADDRESS=Familienzentrum Hochrhein Bertold-Schmidt-Platz 7 Lauchringen 79787;X-APPLE-RADIUS=500;X-TITLE=Bertold-Schmidt-Platz 7:geo:8.3022713,47.629312
END:VEVENT
BEGIN:VEVENT
DTSTART;TZID=Europe/Berlin:20260505T143000
DTEND;TZID=Europe/Berlin:20260505T170000
DTSTAMP:20260421T123339
CREATED:20260204T081527Z
LAST-MODIFIED:20260204T081527Z
UID:10009394-1777991400-1778000400@faz-hochrhein.de
SUMMARY:Backgammon-Spiel-Treff
DESCRIPTION:Wir freuen uns über neue Mitspieler!
URL:https://faz-hochrhein.de/veranstaltung/backgammon-spiel-treff-5/2026-05-05/
LOCATION:Familienzentrum Hochrhein\, Bertold-Schmidt-Platz 7\, Lauchringen\, 79787
CATEGORIES:Caféteria
GEO:47.629312;8.3022713
X-APPLE-STRUCTURED-LOCATION;VALUE=URI;X-ADDRESS=Familienzentrum Hochrhein Bertold-Schmidt-Platz 7 Lauchringen 79787;X-APPLE-RADIUS=500;X-TITLE=Bertold-Schmidt-Platz 7:geo:8.3022713,47.629312
END:VEVENT
BEGIN:VEVENT
DTSTART;TZID=Europe/Berlin:20260506T080000
DTEND;TZID=Europe/Berlin:20260506T120000
DTSTAMP:20260421T123339
CREATED:20260209T095234Z
LAST-MODIFIED:20260210T085006Z
UID:10010340-1778054400-1778068800@faz-hochrhein.de
SUMMARY:Grashüpfer
DESCRIPTION:Naturgruppe im Abenteuerland  \n  \nfür 1\,5 bis 3‑jährige \n  \nDie Kinder lernen in liebevoller Begleitung erste Reifeschritte für den Kindergarten. \n  \nInfos: r.cafararo@faz-hochrhein.de \n 
URL:https://faz-hochrhein.de/veranstaltung/grashuepfer-9/2026-05-06/
LOCATION:Abenteuerland\, Lauchringerstr. 22\, Lauchringen
CATEGORIES:Kleinkinder
GEO:47.623038;8.3152684
X-APPLE-STRUCTURED-LOCATION;VALUE=URI;X-ADDRESS=Abenteuerland Lauchringerstr. 22 Lauchringen;X-APPLE-RADIUS=500;X-TITLE=Lauchringerstr. 22:geo:8.3152684,47.623038
END:VEVENT
BEGIN:VEVENT
DTSTART;TZID=Europe/Berlin:20260506T083000
DTEND;TZID=Europe/Berlin:20260506T113000
DTSTAMP:20260421T123339
CREATED:20260226T101527Z
LAST-MODIFIED:20260226T101527Z
UID:10010602-1778056200-1778067000@faz-hochrhein.de
SUMMARY:MIA - Migrantinnen stark im Alltag
DESCRIPTION:
URL:https://faz-hochrhein.de/veranstaltung/mia-migrantinnen-stark-im-alltag/2026-05-06/
LOCATION:Familienzentrum Hochrhein\, Bertold-Schmidt-Platz 7\, Lauchringen\, 79787
CATEGORIES:Erwachsene & Senioren
GEO:47.629312;8.3022713
X-APPLE-STRUCTURED-LOCATION;VALUE=URI;X-ADDRESS=Familienzentrum Hochrhein Bertold-Schmidt-Platz 7 Lauchringen 79787;X-APPLE-RADIUS=500;X-TITLE=Bertold-Schmidt-Platz 7:geo:8.3022713,47.629312
END:VEVENT
BEGIN:VEVENT
DTSTART;TZID=Europe/Berlin:20260506T093000
DTEND;TZID=Europe/Berlin:20260506T110000
DTSTAMP:20260421T123339
CREATED:20260206T082744Z
LAST-MODIFIED:20260206T082744Z
UID:10009847-1778059800-1778065200@faz-hochrhein.de
SUMMARY:Eltern-Treff für Kinder von 1 - 3 Jahren
DESCRIPTION:pädagogisch geleitete Eltern-Kind-Gruppe \nWir bitten jeweils um eine Spende von 3 Euro \nInformationen: Marion Dickmann\, m.dickmann@dw-hochrhein.de\, Tel. 07751–83040
URL:https://faz-hochrhein.de/veranstaltung/eltern-treff-fuer-kinder-von-1-3-jahren-5/2026-05-06/
LOCATION:Familienzentrum Hochrhein\, Bertold-Schmidt-Platz 7\, Lauchringen\, 79787
CATEGORIES:Kleinkinder
GEO:47.629312;8.3022713
X-APPLE-STRUCTURED-LOCATION;VALUE=URI;X-ADDRESS=Familienzentrum Hochrhein Bertold-Schmidt-Platz 7 Lauchringen 79787;X-APPLE-RADIUS=500;X-TITLE=Bertold-Schmidt-Platz 7:geo:8.3022713,47.629312
END:VEVENT
BEGIN:VEVENT
DTSTART;TZID=Europe/Berlin:20260506T093000
DTEND;TZID=Europe/Berlin:20260506T110000
DTSTAMP:20260421T123339
CREATED:20260209T091241Z
LAST-MODIFIED:20260209T092915Z
UID:10010270-1778059800-1778065200@faz-hochrhein.de
SUMMARY:Der-die-das-Kurs für Anfänger
DESCRIPTION:Kosten: 1 €/Tag \n  \nReferentin: Hanne Breinig\, pensionierte Lehrerin \n 
URL:https://faz-hochrhein.de/veranstaltung/der-die-das-kurs-fuer-anfaenger/2026-05-06/
LOCATION:Familienzentrum Hochrhein\, Bertold-Schmidt-Platz 7\, Lauchringen\, 79787
CATEGORIES:Erwachsene & Senioren
GEO:47.629312;8.3022713
X-APPLE-STRUCTURED-LOCATION;VALUE=URI;X-ADDRESS=Familienzentrum Hochrhein Bertold-Schmidt-Platz 7 Lauchringen 79787;X-APPLE-RADIUS=500;X-TITLE=Bertold-Schmidt-Platz 7:geo:8.3022713,47.629312
END:VEVENT
BEGIN:VEVENT
DTSTART;TZID=Europe/Berlin:20260506T160000
DTEND;TZID=Europe/Berlin:20260506T170000
DTSTAMP:20260421T123339
CREATED:20260421T084612Z
LAST-MODIFIED:20260421T084709Z
UID:10010651-1778083200-1778086800@faz-hochrhein.de
SUMMARY:Englisch-Anfänger-Kurs
DESCRIPTION:mit Trish \nkostenlos\, Anmeldung im FaZ
URL:https://faz-hochrhein.de/veranstaltung/englisch-anfaenger-kurs/2026-05-06/
LOCATION:Familienzentrum Hochrhein\, Bertold-Schmidt-Platz 7\, Lauchringen\, 79787
CATEGORIES:Caféteria
GEO:47.629312;8.3022713
X-APPLE-STRUCTURED-LOCATION;VALUE=URI;X-ADDRESS=Familienzentrum Hochrhein Bertold-Schmidt-Platz 7 Lauchringen 79787;X-APPLE-RADIUS=500;X-TITLE=Bertold-Schmidt-Platz 7:geo:8.3022713,47.629312
END:VEVENT
BEGIN:VEVENT
DTSTART;TZID=Europe/Berlin:20260507T080000
DTEND;TZID=Europe/Berlin:20260507T120000
DTSTAMP:20260421T123339
CREATED:20260209T095234Z
LAST-MODIFIED:20260210T085006Z
UID:10010341-1778140800-1778155200@faz-hochrhein.de
SUMMARY:Grashüpfer
DESCRIPTION:Naturgruppe im Abenteuerland  \n  \nfür 1\,5 bis 3‑jährige \n  \nDie Kinder lernen in liebevoller Begleitung erste Reifeschritte für den Kindergarten. \n  \nInfos: r.cafararo@faz-hochrhein.de \n 
URL:https://faz-hochrhein.de/veranstaltung/grashuepfer-9/2026-05-07/
LOCATION:Abenteuerland\, Lauchringerstr. 22\, Lauchringen
CATEGORIES:Kleinkinder
GEO:47.623038;8.3152684
X-APPLE-STRUCTURED-LOCATION;VALUE=URI;X-ADDRESS=Abenteuerland Lauchringerstr. 22 Lauchringen;X-APPLE-RADIUS=500;X-TITLE=Lauchringerstr. 22:geo:8.3152684,47.623038
END:VEVENT
BEGIN:VEVENT
DTSTART;TZID=Europe/Berlin:20260507T090000
DTEND;TZID=Europe/Berlin:20260507T120000
DTSTAMP:20260421T123339
CREATED:20260206T072231Z
LAST-MODIFIED:20260206T072231Z
UID:10009644-1778144400-1778155200@faz-hochrhein.de
SUMMARY:PC- und Handy-Hilfe
DESCRIPTION:kostenlos und individuell \nValentin Ruch hilft euch weiter! \nBitte im FaZ anmelden \n 
URL:https://faz-hochrhein.de/veranstaltung/pc-und-handy-hilfe-2/2026-05-07/
LOCATION:Familienzentrum Hochrhein\, Bertold-Schmidt-Platz 7\, Lauchringen\, 79787
CATEGORIES:Caféteria
GEO:47.629312;8.3022713
X-APPLE-STRUCTURED-LOCATION;VALUE=URI;X-ADDRESS=Familienzentrum Hochrhein Bertold-Schmidt-Platz 7 Lauchringen 79787;X-APPLE-RADIUS=500;X-TITLE=Bertold-Schmidt-Platz 7:geo:8.3022713,47.629312
END:VEVENT
BEGIN:VEVENT
DTSTART;TZID=Europe/Berlin:20260507T090000
DTEND;TZID=Europe/Berlin:20260507T120000
DTSTAMP:20260421T123339
CREATED:20260206T085858Z
LAST-MODIFIED:20260206T085858Z
UID:10010030-1778144400-1778155200@faz-hochrhein.de
SUMMARY:Sonnenkäfer
DESCRIPTION:Die Kinder lernen in liebevoller Begleitung erste Reifeschritte für den Kindergarten. \nLeitung: Stephanie Lohrmann\, Tel. 07746/657697 oder im FaZ. \n 
URL:https://faz-hochrhein.de/veranstaltung/sonnenkaefer-2/2026-05-07/
LOCATION:Familienzentrum Hochrhein\, Bertold-Schmidt-Platz 7\, Lauchringen\, 79787
CATEGORIES:Kleinkinder
GEO:47.629312;8.3022713
X-APPLE-STRUCTURED-LOCATION;VALUE=URI;X-ADDRESS=Familienzentrum Hochrhein Bertold-Schmidt-Platz 7 Lauchringen 79787;X-APPLE-RADIUS=500;X-TITLE=Bertold-Schmidt-Platz 7:geo:8.3022713,47.629312
END:VEVENT
BEGIN:VEVENT
DTSTART;TZID=Europe/Berlin:20260507T093000
DTEND;TZID=Europe/Berlin:20260507T103000
DTSTAMP:20260421T123339
CREATED:20260204T083441Z
LAST-MODIFIED:20260204T083441Z
UID:10009512-1778146200-1778149800@faz-hochrhein.de
SUMMARY:English Conversation Treff - Anfänger
DESCRIPTION:mit native speaker Patricia Sherry\, EFL/ESL-Lehrerin \nkostenlos \nDer Kurs ist aktuell ausgebucht!
URL:https://faz-hochrhein.de/veranstaltung/english-conversation-treff-anfaenger/2026-05-07/
LOCATION:Familienzentrum Hochrhein\, Bertold-Schmidt-Platz 7\, Lauchringen\, 79787
CATEGORIES:Caféteria
GEO:47.629312;8.3022713
X-APPLE-STRUCTURED-LOCATION;VALUE=URI;X-ADDRESS=Familienzentrum Hochrhein Bertold-Schmidt-Platz 7 Lauchringen 79787;X-APPLE-RADIUS=500;X-TITLE=Bertold-Schmidt-Platz 7:geo:8.3022713,47.629312
END:VEVENT
BEGIN:VEVENT
DTSTART;TZID=Europe/Berlin:20260507T093000
DTEND;TZID=Europe/Berlin:20260507T110000
DTSTAMP:20260421T123339
CREATED:20260206T083940Z
LAST-MODIFIED:20260211T094246Z
UID:10009926-1778146200-1778151600@faz-hochrhein.de
SUMMARY:Eltern-Treff für Kinder von 1 - 3 Jahre im Abenteuerland
DESCRIPTION:pädagogisch geleitete Eltern-Kind-Gruppe \nWir bitten jeweils um eine Spende von 3 Euro \nInformationen: Marion Dickmann\, m.dickmann@dw-hochrhein.de\, Tel. 07751–83040
URL:https://faz-hochrhein.de/veranstaltung/eltern-treff-fuer-kinder-von-1-3-jahre-im-abenteuerland/2026-05-07/
LOCATION:Familienzentrum Hochrhein\, Bertold-Schmidt-Platz 7\, Lauchringen\, 79787
CATEGORIES:Kleinkinder
GEO:47.629312;8.3022713
X-APPLE-STRUCTURED-LOCATION;VALUE=URI;X-ADDRESS=Familienzentrum Hochrhein Bertold-Schmidt-Platz 7 Lauchringen 79787;X-APPLE-RADIUS=500;X-TITLE=Bertold-Schmidt-Platz 7:geo:8.3022713,47.629312
END:VEVENT
BEGIN:VEVENT
DTSTART;TZID=Europe/Berlin:20260507T093000
DTEND;TZID=Europe/Berlin:20260507T110000
DTSTAMP:20260421T123339
CREATED:20260209T091457Z
LAST-MODIFIED:20260209T092557Z
UID:10010183-1778146200-1778151600@faz-hochrhein.de
SUMMARY:Der-die-das-Kurs für mittlere Kenntnisse
DESCRIPTION:Kosten: 1 €/Tag \n  \nReferentin: Hanne Breinig\, pensionierte Lehrerin \n 
URL:https://faz-hochrhein.de/veranstaltung/der-die-das-kurs-fuer-mittlere-kenntnisse/2026-05-07/
LOCATION:Familienzentrum Hochrhein\, Bertold-Schmidt-Platz 7\, Lauchringen\, 79787
CATEGORIES:Erwachsene & Senioren
GEO:47.629312;8.3022713
X-APPLE-STRUCTURED-LOCATION;VALUE=URI;X-ADDRESS=Familienzentrum Hochrhein Bertold-Schmidt-Platz 7 Lauchringen 79787;X-APPLE-RADIUS=500;X-TITLE=Bertold-Schmidt-Platz 7:geo:8.3022713,47.629312
END:VEVENT
BEGIN:VEVENT
DTSTART;TZID=Europe/Berlin:20260507T110000
DTEND;TZID=Europe/Berlin:20260507T120000
DTSTAMP:20260421T123339
CREATED:20260204T083857Z
LAST-MODIFIED:20260211T094504Z
UID:10009552-1778151600-1778155200@faz-hochrhein.de
SUMMARY:English Conversation Treff - Fortgeschrittene
DESCRIPTION:mit native speaker Patricia Sherry\, EFL/ESL-Lehrerin \nkostenlos \nDer Kurs ist aktuell ausgebucht!
URL:https://faz-hochrhein.de/veranstaltung/english-conversation-treff-fortgeschrittene/2026-05-07/
LOCATION:Familienzentrum Hochrhein\, Bertold-Schmidt-Platz 7\, Lauchringen\, 79787
CATEGORIES:Caféteria
GEO:47.629312;8.3022713
X-APPLE-STRUCTURED-LOCATION;VALUE=URI;X-ADDRESS=Familienzentrum Hochrhein Bertold-Schmidt-Platz 7 Lauchringen 79787;X-APPLE-RADIUS=500;X-TITLE=Bertold-Schmidt-Platz 7:geo:8.3022713,47.629312
END:VEVENT
BEGIN:VEVENT
DTSTART;TZID=Europe/Berlin:20260507T150000
DTEND;TZID=Europe/Berlin:20260507T163000
DTSTAMP:20260421T123339
CREATED:20260206T085104Z
LAST-MODIFIED:20260206T085104Z
UID:10009966-1778166000-1778171400@faz-hochrhein.de
SUMMARY:Krabbel-Café
DESCRIPTION:
URL:https://faz-hochrhein.de/veranstaltung/krabbel-cafe-4/2026-05-07/
LOCATION:Familienzentrum Hochrhein\, Bertold-Schmidt-Platz 7\, Lauchringen\, 79787
CATEGORIES:Kleinkinder
GEO:47.629312;8.3022713
X-APPLE-STRUCTURED-LOCATION;VALUE=URI;X-ADDRESS=Familienzentrum Hochrhein Bertold-Schmidt-Platz 7 Lauchringen 79787;X-APPLE-RADIUS=500;X-TITLE=Bertold-Schmidt-Platz 7:geo:8.3022713,47.629312
END:VEVENT
BEGIN:VEVENT
DTSTART;TZID=Europe/Berlin:20260507T153000
DTEND;TZID=Europe/Berlin:20260507T163000
DTSTAMP:20260421T123339
CREATED:20260206T072746Z
LAST-MODIFIED:20260206T072746Z
UID:10009684-1778167800-1778171400@faz-hochrhein.de
SUMMARY:PC- und Handy-Hilfe
DESCRIPTION:kostenlos und individuell \nValentin Ruch hilft euch weiter! \nBitte im FaZ anmelden \n 
URL:https://faz-hochrhein.de/veranstaltung/pc-und-handy-hilfe-3/2026-05-07/
LOCATION:Familienzentrum Hochrhein\, Bertold-Schmidt-Platz 7\, Lauchringen\, 79787
CATEGORIES:Caféteria
GEO:47.629312;8.3022713
X-APPLE-STRUCTURED-LOCATION;VALUE=URI;X-ADDRESS=Familienzentrum Hochrhein Bertold-Schmidt-Platz 7 Lauchringen 79787;X-APPLE-RADIUS=500;X-TITLE=Bertold-Schmidt-Platz 7:geo:8.3022713,47.629312
END:VEVENT
BEGIN:VEVENT
DTSTART;TZID=Europe/Berlin:20260507T154500
DTEND;TZID=Europe/Berlin:20260507T170000
DTSTAMP:20260421T123339
CREATED:20260206T083237Z
LAST-MODIFIED:20260206T083237Z
UID:10009888-1778168700-1778173200@faz-hochrhein.de
SUMMARY:Eltern-Treff für Kinder von 1 - 3 Jahren
DESCRIPTION:pädagogisch geleitete Eltern-Kind-Gruppe \nWir bitten jeweils um eine Spende von 3 Euro \nInformationen: Marion Dickmann\, m.dickmann@dw-hochrhein.de\, Tel. 07751–83040
URL:https://faz-hochrhein.de/veranstaltung/eltern-treff-fuer-kinder-von-1-3-jahren-6/2026-05-07/
LOCATION:Familienzentrum Hochrhein\, Bertold-Schmidt-Platz 7\, Lauchringen\, 79787
CATEGORIES:Kleinkinder
GEO:47.629312;8.3022713
X-APPLE-STRUCTURED-LOCATION;VALUE=URI;X-ADDRESS=Familienzentrum Hochrhein Bertold-Schmidt-Platz 7 Lauchringen 79787;X-APPLE-RADIUS=500;X-TITLE=Bertold-Schmidt-Platz 7:geo:8.3022713,47.629312
END:VEVENT
BEGIN:VEVENT
DTSTART;TZID=Europe/Berlin:20260508T090000
DTEND;TZID=Europe/Berlin:20260508T120000
DTSTAMP:20260421T123339
CREATED:20260206T085858Z
LAST-MODIFIED:20260206T085858Z
UID:10010031-1778230800-1778241600@faz-hochrhein.de
SUMMARY:Sonnenkäfer
DESCRIPTION:Die Kinder lernen in liebevoller Begleitung erste Reifeschritte für den Kindergarten. \nLeitung: Stephanie Lohrmann\, Tel. 07746/657697 oder im FaZ. \n 
URL:https://faz-hochrhein.de/veranstaltung/sonnenkaefer-2/2026-05-08/
LOCATION:Familienzentrum Hochrhein\, Bertold-Schmidt-Platz 7\, Lauchringen\, 79787
CATEGORIES:Kleinkinder
GEO:47.629312;8.3022713
X-APPLE-STRUCTURED-LOCATION;VALUE=URI;X-ADDRESS=Familienzentrum Hochrhein Bertold-Schmidt-Platz 7 Lauchringen 79787;X-APPLE-RADIUS=500;X-TITLE=Bertold-Schmidt-Platz 7:geo:8.3022713,47.629312
END:VEVENT
BEGIN:VEVENT
DTSTART;TZID=Europe/Berlin:20260508T093000
DTEND;TZID=Europe/Berlin:20260508T103000
DTSTAMP:20260421T123339
CREATED:20260204T084852Z
LAST-MODIFIED:20260204T084852Z
UID:10009591-1778232600-1778236200@faz-hochrhein.de
SUMMARY:English Conversation - bessere Anfänger
DESCRIPTION:mit native speaker Patricia Sherry\, EFL/ESL-Lehrerin \nkostenlos \nDer Kurs ist aktuell ausgebucht!
URL:https://faz-hochrhein.de/veranstaltung/english-conversation-bessere-anfaenger/2026-05-08/
LOCATION:Familienzentrum Hochrhein\, Bertold-Schmidt-Platz 7\, Lauchringen\, 79787
CATEGORIES:Caféteria
GEO:47.629312;8.3022713
X-APPLE-STRUCTURED-LOCATION;VALUE=URI;X-ADDRESS=Familienzentrum Hochrhein Bertold-Schmidt-Platz 7 Lauchringen 79787;X-APPLE-RADIUS=500;X-TITLE=Bertold-Schmidt-Platz 7:geo:8.3022713,47.629312
END:VEVENT
BEGIN:VEVENT
DTSTART;TZID=Europe/Berlin:20260509T093000
DTEND;TZID=Europe/Berlin:20260509T163000
DTSTAMP:20260421T123339
CREATED:20260209T143914Z
LAST-MODIFIED:20260209T143914Z
UID:10010539-1778319000-1778344200@faz-hochrhein.de
SUMMARY:FasZination
DESCRIPTION:
URL:https://faz-hochrhein.de/veranstaltung/faszination-5/2026-05-09/
LOCATION:Abenteuerland\, Lauchringerstr. 22\, Lauchringen
CATEGORIES:FasZination
GEO:47.623038;8.3152684
X-APPLE-STRUCTURED-LOCATION;VALUE=URI;X-ADDRESS=Abenteuerland Lauchringerstr. 22 Lauchringen;X-APPLE-RADIUS=500;X-TITLE=Lauchringerstr. 22:geo:8.3152684,47.623038
END:VEVENT
BEGIN:VEVENT
DTSTART;TZID=Europe/Berlin:20260509T143000
DTEND;TZID=Europe/Berlin:20260509T163000
DTSTAMP:20260421T123340
CREATED:20260206T073253Z
LAST-MODIFIED:20260318T082431Z
UID:10009714-1778337000-1778344200@faz-hochrhein.de
SUMMARY:CRPS Selbsthilfegruppe Hochrhein
DESCRIPTION:Informationen und Anmeldung: sabine.meier@crpsnetzwerk.org \n01621674670 (auch via WhatsApp erreichbar) \n 
URL:https://faz-hochrhein.de/veranstaltung/crps-selbsthilfegruppe-hochrhein/2026-05-09/
LOCATION:Familienzentrum Hochrhein\, Bertold-Schmidt-Platz 7\, Lauchringen\, 79787
CATEGORIES:Selbsthilfegruppen
GEO:47.629312;8.3022713
X-APPLE-STRUCTURED-LOCATION;VALUE=URI;X-ADDRESS=Familienzentrum Hochrhein Bertold-Schmidt-Platz 7 Lauchringen 79787;X-APPLE-RADIUS=500;X-TITLE=Bertold-Schmidt-Platz 7:geo:8.3022713,47.629312
END:VEVENT
BEGIN:VEVENT
DTSTART;TZID=Europe/Berlin:20260511T080000
DTEND;TZID=Europe/Berlin:20260511T154500
DTSTAMP:20260421T123340
CREATED:20260209T093350Z
LAST-MODIFIED:20260421T092917Z
UID:10010708-1778486400-1778514300@faz-hochrhein.de
SUMMARY:Pflege-Unterstützer Ausbildung
DESCRIPTION:Teilnahme ist kostenlos \nAnmeldung:  Ursula Kramm\, telefonisch im FaZ oder\n                     per mail: u.kramm@faz-hochrhein.de\n\nKursleiterin: Elisabeth Kaiser\, e.kaiser@faz-hochrhein\n 
URL:https://faz-hochrhein.de/veranstaltung/pflege-unterstuetzer-ausbildung-3/2026-05-11/
LOCATION:Familienzentrum Hochrhein\, Bertold-Schmidt-Platz 7\, Lauchringen\, 79787
CATEGORIES:Erwachsene & Senioren
GEO:47.629312;8.3022713
X-APPLE-STRUCTURED-LOCATION;VALUE=URI;X-ADDRESS=Familienzentrum Hochrhein Bertold-Schmidt-Platz 7 Lauchringen 79787;X-APPLE-RADIUS=500;X-TITLE=Bertold-Schmidt-Platz 7:geo:8.3022713,47.629312
END:VEVENT
END:VCALENDAR