BEGIN:VCALENDAR
VERSION:2.0
PRODID:-//Familienzentrum Hochrhein - ECPv6.15.16//NONSGML v1.0//EN
CALSCALE:GREGORIAN
METHOD:PUBLISH
X-WR-CALNAME:Familienzentrum Hochrhein
X-ORIGINAL-URL:https://faz-hochrhein.de
X-WR-CALDESC:Veranstaltungen für Familienzentrum Hochrhein
REFRESH-INTERVAL;VALUE=DURATION:PT1H
X-Robots-Tag:noindex
X-PUBLISHED-TTL:PT1H
BEGIN:VTIMEZONE
TZID:Europe/Berlin
BEGIN:DAYLIGHT
TZOFFSETFROM:+0100
TZOFFSETTO:+0200
TZNAME:CEST
DTSTART:20250330T010000
END:DAYLIGHT
BEGIN:STANDARD
TZOFFSETFROM:+0200
TZOFFSETTO:+0100
TZNAME:CET
DTSTART:20251026T010000
END:STANDARD
BEGIN:DAYLIGHT
TZOFFSETFROM:+0100
TZOFFSETTO:+0200
TZNAME:CEST
DTSTART:20260329T010000
END:DAYLIGHT
BEGIN:STANDARD
TZOFFSETFROM:+0200
TZOFFSETTO:+0100
TZNAME:CET
DTSTART:20261025T010000
END:STANDARD
BEGIN:DAYLIGHT
TZOFFSETFROM:+0100
TZOFFSETTO:+0200
TZNAME:CEST
DTSTART:20270328T010000
END:DAYLIGHT
BEGIN:STANDARD
TZOFFSETFROM:+0200
TZOFFSETTO:+0100
TZNAME:CET
DTSTART:20271031T010000
END:STANDARD
END:VTIMEZONE
BEGIN:VEVENT
DTSTART;TZID=Europe/Berlin:20260209T093000
DTEND;TZID=Europe/Berlin:20260209T110000
DTSTAMP:20260422T143142
CREATED:20260206T081836Z
LAST-MODIFIED:20260206T081836Z
UID:10009753-1770629400-1770634800@faz-hochrhein.de
SUMMARY:Eltern-Treff für Kinder von 1 - 3 Jahren
DESCRIPTION:pädagogisch geleitete Eltern-Kind-Gruppe \nWir bitten jeweils um eine Spende von 3 Euro \nInformationen: Marion Dickmann\, m.dickmann@dw-hochrhein.de\, Tel. 07751–83040 \n 
URL:https://faz-hochrhein.de/veranstaltung/eltern-treff-fuer-kinder-von-1-3-jahren-4/2026-02-09/
LOCATION:Familienzentrum Hochrhein\, Bertold-Schmidt-Platz 7\, Lauchringen\, 79787
CATEGORIES:Kleinkinder
GEO:47.629312;8.3022713
X-APPLE-STRUCTURED-LOCATION;VALUE=URI;X-ADDRESS=Familienzentrum Hochrhein Bertold-Schmidt-Platz 7 Lauchringen 79787;X-APPLE-RADIUS=500;X-TITLE=Bertold-Schmidt-Platz 7:geo:8.3022713,47.629312
END:VEVENT
BEGIN:VEVENT
DTSTART;TZID=Europe/Berlin:20260209T180000
DTEND;TZID=Europe/Berlin:20260209T200000
DTSTAMP:20260422T143142
CREATED:20260206T074049Z
LAST-MODIFIED:20260206T074049Z
UID:10009718-1770660000-1770667200@faz-hochrhein.de
SUMMARY:Selbsthilfegruppe MOMO für Essstörungen
DESCRIPTION:Informationen: maier_katharina@web.de \n 
URL:https://faz-hochrhein.de/veranstaltung/selbsthilfegruppe-momo-fuer-essstoerungen-4/2026-02-09/
LOCATION:Familienzentrum Hochrhein\, Bertold-Schmidt-Platz 7\, Lauchringen\, 79787
CATEGORIES:Selbsthilfegruppen
GEO:47.629312;8.3022713
X-APPLE-STRUCTURED-LOCATION;VALUE=URI;X-ADDRESS=Familienzentrum Hochrhein Bertold-Schmidt-Platz 7 Lauchringen 79787;X-APPLE-RADIUS=500;X-TITLE=Bertold-Schmidt-Platz 7:geo:8.3022713,47.629312
END:VEVENT
BEGIN:VEVENT
DTSTART;TZID=Europe/Berlin:20260210T080000
DTEND;TZID=Europe/Berlin:20260210T120000
DTSTAMP:20260422T143142
CREATED:20260209T095234Z
LAST-MODIFIED:20260210T085006Z
UID:10010310-1770710400-1770724800@faz-hochrhein.de
SUMMARY:Grashüpfer
DESCRIPTION:Naturgruppe im Abenteuerland  \n  \nfür 1\,5 bis 3‑jährige \n  \nDie Kinder lernen in liebevoller Begleitung erste Reifeschritte für den Kindergarten. \n  \nInfos: r.cafararo@faz-hochrhein.de \n 
URL:https://faz-hochrhein.de/veranstaltung/grashuepfer-9/2026-02-10/
LOCATION:Abenteuerland\, Lauchringerstr. 22\, Lauchringen
CATEGORIES:Kleinkinder
GEO:47.623038;8.3152684
X-APPLE-STRUCTURED-LOCATION;VALUE=URI;X-ADDRESS=Abenteuerland Lauchringerstr. 22 Lauchringen;X-APPLE-RADIUS=500;X-TITLE=Lauchringerstr. 22:geo:8.3152684,47.623038
END:VEVENT
BEGIN:VEVENT
DTSTART;TZID=Europe/Berlin:20260210T090000
DTEND;TZID=Europe/Berlin:20260210T110000
DTSTAMP:20260422T143142
CREATED:20260128T073907Z
LAST-MODIFIED:20260128T073921Z
UID:10009345-1770714000-1770721200@faz-hochrhein.de
SUMMARY:Frauenfrühstück
DESCRIPTION:„Fasnacht—mit Spaß und Frauenpower“ \nIm Programm sind lustige und närrische Beiträge mit viel Fasnachtsmusik. \n  \nFrühstücksbuffet: 11\,00 Euro \n  \nWir bitten um Anmeldung! \n 
URL:https://faz-hochrhein.de/veranstaltung/frauenfruehstueck-4/
LOCATION:Familienzentrum Hochrhein\, Bertold-Schmidt-Platz 7\, Lauchringen\, 79787
CATEGORIES:Caféteria
GEO:47.629312;8.3022713
X-APPLE-STRUCTURED-LOCATION;VALUE=URI;X-ADDRESS=Familienzentrum Hochrhein Bertold-Schmidt-Platz 7 Lauchringen 79787;X-APPLE-RADIUS=500;X-TITLE=Bertold-Schmidt-Platz 7:geo:8.3022713,47.629312
END:VEVENT
BEGIN:VEVENT
DTSTART;TZID=Europe/Berlin:20260210T090000
DTEND;TZID=Europe/Berlin:20260210T120000
DTSTAMP:20260422T143142
CREATED:20260206T085858Z
LAST-MODIFIED:20260206T085858Z
UID:10009998-1770714000-1770724800@faz-hochrhein.de
SUMMARY:Sonnenkäfer
DESCRIPTION:Die Kinder lernen in liebevoller Begleitung erste Reifeschritte für den Kindergarten. \nLeitung: Stephanie Lohrmann\, Tel. 07746/657697 oder im FaZ. \n 
URL:https://faz-hochrhein.de/veranstaltung/sonnenkaefer-2/2026-02-10/
LOCATION:Familienzentrum Hochrhein\, Bertold-Schmidt-Platz 7\, Lauchringen\, 79787
CATEGORIES:Kleinkinder
GEO:47.629312;8.3022713
X-APPLE-STRUCTURED-LOCATION;VALUE=URI;X-ADDRESS=Familienzentrum Hochrhein Bertold-Schmidt-Platz 7 Lauchringen 79787;X-APPLE-RADIUS=500;X-TITLE=Bertold-Schmidt-Platz 7:geo:8.3022713,47.629312
END:VEVENT
BEGIN:VEVENT
DTSTART;TZID=Europe/Berlin:20260210T093000
DTEND;TZID=Europe/Berlin:20260210T110000
DTSTAMP:20260422T143142
CREATED:20260206T082229Z
LAST-MODIFIED:20260206T082229Z
UID:10009794-1770715800-1770721200@faz-hochrhein.de
SUMMARY:Eltern-Treff für Kinder von 0 - 1 Jahre
DESCRIPTION:pädagogisch geleitete Eltern-Kind-Gruppe \nWir bitten jeweils um eine Spende von 3 Euro \nInformationen: Marion Dickmann\, m.dickmann@dw-hochrhein.de\, Tel. 07751–83040
URL:https://faz-hochrhein.de/veranstaltung/eltern-treff-fuer-kinder-von-0-1-jahre/2026-02-10/
LOCATION:Familienzentrum Hochrhein\, Bertold-Schmidt-Platz 7\, Lauchringen\, 79787
CATEGORIES:Kleinkinder
GEO:47.629312;8.3022713
X-APPLE-STRUCTURED-LOCATION;VALUE=URI;X-ADDRESS=Familienzentrum Hochrhein Bertold-Schmidt-Platz 7 Lauchringen 79787;X-APPLE-RADIUS=500;X-TITLE=Bertold-Schmidt-Platz 7:geo:8.3022713,47.629312
END:VEVENT
BEGIN:VEVENT
DTSTART;TZID=Europe/Berlin:20260210T143000
DTEND;TZID=Europe/Berlin:20260210T170000
DTSTAMP:20260422T143142
CREATED:20260204T081527Z
LAST-MODIFIED:20260204T081527Z
UID:10009384-1770733800-1770742800@faz-hochrhein.de
SUMMARY:Backgammon-Spiel-Treff
DESCRIPTION:Wir freuen uns über neue Mitspieler!
URL:https://faz-hochrhein.de/veranstaltung/backgammon-spiel-treff-5/2026-02-10/
LOCATION:Familienzentrum Hochrhein\, Bertold-Schmidt-Platz 7\, Lauchringen\, 79787
CATEGORIES:Caféteria
GEO:47.629312;8.3022713
X-APPLE-STRUCTURED-LOCATION;VALUE=URI;X-ADDRESS=Familienzentrum Hochrhein Bertold-Schmidt-Platz 7 Lauchringen 79787;X-APPLE-RADIUS=500;X-TITLE=Bertold-Schmidt-Platz 7:geo:8.3022713,47.629312
END:VEVENT
BEGIN:VEVENT
DTSTART;TZID=Europe/Berlin:20260211T080000
DTEND;TZID=Europe/Berlin:20260211T120000
DTSTAMP:20260422T143142
CREATED:20260209T095234Z
LAST-MODIFIED:20260210T085006Z
UID:10010311-1770796800-1770811200@faz-hochrhein.de
SUMMARY:Grashüpfer
DESCRIPTION:Naturgruppe im Abenteuerland  \n  \nfür 1\,5 bis 3‑jährige \n  \nDie Kinder lernen in liebevoller Begleitung erste Reifeschritte für den Kindergarten. \n  \nInfos: r.cafararo@faz-hochrhein.de \n 
URL:https://faz-hochrhein.de/veranstaltung/grashuepfer-9/2026-02-11/
LOCATION:Abenteuerland\, Lauchringerstr. 22\, Lauchringen
CATEGORIES:Kleinkinder
GEO:47.623038;8.3152684
X-APPLE-STRUCTURED-LOCATION;VALUE=URI;X-ADDRESS=Abenteuerland Lauchringerstr. 22 Lauchringen;X-APPLE-RADIUS=500;X-TITLE=Lauchringerstr. 22:geo:8.3152684,47.623038
END:VEVENT
BEGIN:VEVENT
DTSTART;TZID=Europe/Berlin:20260211T093000
DTEND;TZID=Europe/Berlin:20260211T110000
DTSTAMP:20260422T143142
CREATED:20260206T082744Z
LAST-MODIFIED:20260206T082744Z
UID:10009836-1770802200-1770807600@faz-hochrhein.de
SUMMARY:Eltern-Treff für Kinder von 1 - 3 Jahren
DESCRIPTION:pädagogisch geleitete Eltern-Kind-Gruppe \nWir bitten jeweils um eine Spende von 3 Euro \nInformationen: Marion Dickmann\, m.dickmann@dw-hochrhein.de\, Tel. 07751–83040
URL:https://faz-hochrhein.de/veranstaltung/eltern-treff-fuer-kinder-von-1-3-jahren-5/2026-02-11/
LOCATION:Familienzentrum Hochrhein\, Bertold-Schmidt-Platz 7\, Lauchringen\, 79787
CATEGORIES:Kleinkinder
GEO:47.629312;8.3022713
X-APPLE-STRUCTURED-LOCATION;VALUE=URI;X-ADDRESS=Familienzentrum Hochrhein Bertold-Schmidt-Platz 7 Lauchringen 79787;X-APPLE-RADIUS=500;X-TITLE=Bertold-Schmidt-Platz 7:geo:8.3022713,47.629312
END:VEVENT
BEGIN:VEVENT
DTSTART;TZID=Europe/Berlin:20260211T093000
DTEND;TZID=Europe/Berlin:20260211T110000
DTSTAMP:20260422T143142
CREATED:20260209T091241Z
LAST-MODIFIED:20260209T092915Z
UID:10010259-1770802200-1770807600@faz-hochrhein.de
SUMMARY:Der-die-das-Kurs für Anfänger
DESCRIPTION:Kosten: 1 €/Tag \n  \nReferentin: Hanne Breinig\, pensionierte Lehrerin \n 
URL:https://faz-hochrhein.de/veranstaltung/der-die-das-kurs-fuer-anfaenger/2026-02-11/
LOCATION:Familienzentrum Hochrhein\, Bertold-Schmidt-Platz 7\, Lauchringen\, 79787
CATEGORIES:Erwachsene & Senioren
GEO:47.629312;8.3022713
X-APPLE-STRUCTURED-LOCATION;VALUE=URI;X-ADDRESS=Familienzentrum Hochrhein Bertold-Schmidt-Platz 7 Lauchringen 79787;X-APPLE-RADIUS=500;X-TITLE=Bertold-Schmidt-Platz 7:geo:8.3022713,47.629312
END:VEVENT
BEGIN:VEVENT
DTSTART;TZID=Europe/Berlin:20260211T150000
DTEND;TZID=Europe/Berlin:20260211T170000
DTSTAMP:20260422T143142
CREATED:20260128T081506Z
LAST-MODIFIED:20260128T081506Z
UID:10009351-1770822000-1770829200@faz-hochrhein.de
SUMMARY:Tanz-Treff
DESCRIPTION:mit Duo Heinz
URL:https://faz-hochrhein.de/veranstaltung/tanz-treff-3/
LOCATION:Familienzentrum Hochrhein\, Bertold-Schmidt-Platz 7\, Lauchringen\, 79787
CATEGORIES:Caféteria
GEO:47.629312;8.3022713
X-APPLE-STRUCTURED-LOCATION;VALUE=URI;X-ADDRESS=Familienzentrum Hochrhein Bertold-Schmidt-Platz 7 Lauchringen 79787;X-APPLE-RADIUS=500;X-TITLE=Bertold-Schmidt-Platz 7:geo:8.3022713,47.629312
END:VEVENT
BEGIN:VEVENT
DTSTART;TZID=Europe/Berlin:20260211T190000
DTEND;TZID=Europe/Berlin:20260211T204500
DTSTAMP:20260422T143142
CREATED:20260105T065634Z
LAST-MODIFIED:20260105T065634Z
UID:10009341-1770836400-1770842700@faz-hochrhein.de
SUMMARY:Naturheilkunde für Kinder - ein Praxiskurs für Eltern\, Großeltern und Interessierte
DESCRIPTION:Warum sind die ersten Lebensjahre so entscheidend für eine stabile Grundgesundheit?\nWelchen biologischen Sinn haben die häufig auftretenden Infekte der Kinder?\nWie sieht eine naturgemäße Behandlung dieser Infekte aus?\nWelche Rolle spielen Bewegung und Ernährung?\nUnd soll man nun impfen oder doch lieber nicht? \nDiese und zahlreiche weitere Fragen werden in diesem Praxiskurs beantwortet — leicht verständlich\, fachlich fundiert und systematisch aufbauend. Das im Kurs vermittelte Verständnis für Krankheitsursachen und die konkreten Anleitungen zu deren naturgemäßen Behandlung (homöopathisch\, pflanzlich u.a.) macht Eltern zu Experten für die Gesundheit ihrer Kinder. \nBesprochen werden die häufigsten Krankheiten des Kindesalters\n• Infekte (Fieber\, Schnupfen\, Husten\, Ohrenschmerzen)\n• Fehlregulationen des Immunsystems (Infektanfälligkeit\, Allergien)\n• Konstitutionelle Belastungskrankheiten (Neurodermitis\, vergrößerte Mandeln\, chronische Krankheitsbelastungen\, Verdauungs- und Entwicklungsstörungen) \nDer Kurs wird durchgeführt von Susanne Alber-Jansohn. \nSie ist Heilpraktikerin mit langjähriger Praxiserfahrung in der Behandlung von Kindern und Jugendlichen\, sowie Autorin des Praxisbuches Naturheilkunde für Kinder (erschienen 2024 im Bacopa Verlag). \nKosten: 45\,-€\n\n\nAnmeldung: susanne@alber-jansohn.de\n\nAnmeldeschluss ist am 28. Januar 2026. Die Teilnehmerzahl ist begrenzt\, es wird um eine frühzeitige Anmeldung  gebeten
URL:https://faz-hochrhein.de/veranstaltung/naturheilkunde-fuer-kinder-ein-praxiskurs-fuer-eltern-grosseltern-und-interessierte-2/
LOCATION:Familienzentrum Hochrhein\, Bertold-Schmidt-Platz 7\, Lauchringen\, 79787
CATEGORIES:Erwachsene & Senioren
GEO:47.629312;8.3022713
X-APPLE-STRUCTURED-LOCATION;VALUE=URI;X-ADDRESS=Familienzentrum Hochrhein Bertold-Schmidt-Platz 7 Lauchringen 79787;X-APPLE-RADIUS=500;X-TITLE=Bertold-Schmidt-Platz 7:geo:8.3022713,47.629312
END:VEVENT
BEGIN:VEVENT
DTSTART;VALUE=DATE:20260212
DTEND;VALUE=DATE:20260223
DTSTAMP:20260422T143142
CREATED:20260202T152640Z
LAST-MODIFIED:20260202T152640Z
UID:10008578-1770854400-1771804799@faz-hochrhein.de
SUMMARY:Abenteuerland geschlossen
DESCRIPTION:
URL:https://faz-hochrhein.de/veranstaltung/abenteuerland-geschlossen/
LOCATION:Abenteuerland\, Lauchringerstr. 22\, Lauchringen
CATEGORIES:Allgemein
GEO:47.623038;8.3152684
X-APPLE-STRUCTURED-LOCATION;VALUE=URI;X-ADDRESS=Abenteuerland Lauchringerstr. 22 Lauchringen;X-APPLE-RADIUS=500;X-TITLE=Lauchringerstr. 22:geo:8.3152684,47.623038
END:VEVENT
BEGIN:VEVENT
DTSTART;TZID=Europe/Berlin:20260212T090000
DTEND;TZID=Europe/Berlin:20260212T120000
DTSTAMP:20260422T143142
CREATED:20260206T072231Z
LAST-MODIFIED:20260206T072231Z
UID:10009633-1770886800-1770897600@faz-hochrhein.de
SUMMARY:PC- und Handy-Hilfe
DESCRIPTION:kostenlos und individuell \nValentin Ruch hilft euch weiter! \nBitte im FaZ anmelden \n 
URL:https://faz-hochrhein.de/veranstaltung/pc-und-handy-hilfe-2/2026-02-12/
LOCATION:Familienzentrum Hochrhein\, Bertold-Schmidt-Platz 7\, Lauchringen\, 79787
CATEGORIES:Caféteria
GEO:47.629312;8.3022713
X-APPLE-STRUCTURED-LOCATION;VALUE=URI;X-ADDRESS=Familienzentrum Hochrhein Bertold-Schmidt-Platz 7 Lauchringen 79787;X-APPLE-RADIUS=500;X-TITLE=Bertold-Schmidt-Platz 7:geo:8.3022713,47.629312
END:VEVENT
BEGIN:VEVENT
DTSTART;TZID=Europe/Berlin:20260212T090000
DTEND;TZID=Europe/Berlin:20260212T120000
DTSTAMP:20260422T143142
CREATED:20260206T085858Z
LAST-MODIFIED:20260206T085858Z
UID:10009999-1770886800-1770897600@faz-hochrhein.de
SUMMARY:Sonnenkäfer
DESCRIPTION:Die Kinder lernen in liebevoller Begleitung erste Reifeschritte für den Kindergarten. \nLeitung: Stephanie Lohrmann\, Tel. 07746/657697 oder im FaZ. \n 
URL:https://faz-hochrhein.de/veranstaltung/sonnenkaefer-2/2026-02-12/
LOCATION:Familienzentrum Hochrhein\, Bertold-Schmidt-Platz 7\, Lauchringen\, 79787
CATEGORIES:Kleinkinder
GEO:47.629312;8.3022713
X-APPLE-STRUCTURED-LOCATION;VALUE=URI;X-ADDRESS=Familienzentrum Hochrhein Bertold-Schmidt-Platz 7 Lauchringen 79787;X-APPLE-RADIUS=500;X-TITLE=Bertold-Schmidt-Platz 7:geo:8.3022713,47.629312
END:VEVENT
BEGIN:VEVENT
DTSTART;TZID=Europe/Berlin:20260212T093000
DTEND;TZID=Europe/Berlin:20260212T103000
DTSTAMP:20260422T143142
CREATED:20260204T083441Z
LAST-MODIFIED:20260204T083441Z
UID:10009501-1770888600-1770892200@faz-hochrhein.de
SUMMARY:English Conversation Treff - Anfänger
DESCRIPTION:mit native speaker Patricia Sherry\, EFL/ESL-Lehrerin \nkostenlos \nDer Kurs ist aktuell ausgebucht!
URL:https://faz-hochrhein.de/veranstaltung/english-conversation-treff-anfaenger/2026-02-12/
LOCATION:Familienzentrum Hochrhein\, Bertold-Schmidt-Platz 7\, Lauchringen\, 79787
CATEGORIES:Caféteria
GEO:47.629312;8.3022713
X-APPLE-STRUCTURED-LOCATION;VALUE=URI;X-ADDRESS=Familienzentrum Hochrhein Bertold-Schmidt-Platz 7 Lauchringen 79787;X-APPLE-RADIUS=500;X-TITLE=Bertold-Schmidt-Platz 7:geo:8.3022713,47.629312
END:VEVENT
BEGIN:VEVENT
DTSTART;TZID=Europe/Berlin:20260212T093000
DTEND;TZID=Europe/Berlin:20260212T110000
DTSTAMP:20260422T143142
CREATED:20260206T083940Z
LAST-MODIFIED:20260211T094246Z
UID:10009917-1770888600-1770894000@faz-hochrhein.de
SUMMARY:Eltern-Treff für Kinder von 1 - 3 Jahre im Abenteuerland
DESCRIPTION:pädagogisch geleitete Eltern-Kind-Gruppe \nWir bitten jeweils um eine Spende von 3 Euro \nInformationen: Marion Dickmann\, m.dickmann@dw-hochrhein.de\, Tel. 07751–83040
URL:https://faz-hochrhein.de/veranstaltung/eltern-treff-fuer-kinder-von-1-3-jahre-im-abenteuerland/2026-02-12/
LOCATION:Familienzentrum Hochrhein\, Bertold-Schmidt-Platz 7\, Lauchringen\, 79787
CATEGORIES:Kleinkinder
GEO:47.629312;8.3022713
X-APPLE-STRUCTURED-LOCATION;VALUE=URI;X-ADDRESS=Familienzentrum Hochrhein Bertold-Schmidt-Platz 7 Lauchringen 79787;X-APPLE-RADIUS=500;X-TITLE=Bertold-Schmidt-Platz 7:geo:8.3022713,47.629312
END:VEVENT
BEGIN:VEVENT
DTSTART;TZID=Europe/Berlin:20260212T093000
DTEND;TZID=Europe/Berlin:20260212T110000
DTSTAMP:20260422T143142
CREATED:20260209T091457Z
LAST-MODIFIED:20260209T092557Z
UID:10010171-1770888600-1770894000@faz-hochrhein.de
SUMMARY:Der-die-das-Kurs für mittlere Kenntnisse
DESCRIPTION:Kosten: 1 €/Tag \n  \nReferentin: Hanne Breinig\, pensionierte Lehrerin \n 
URL:https://faz-hochrhein.de/veranstaltung/der-die-das-kurs-fuer-mittlere-kenntnisse/2026-02-12/
LOCATION:Familienzentrum Hochrhein\, Bertold-Schmidt-Platz 7\, Lauchringen\, 79787
CATEGORIES:Erwachsene & Senioren
GEO:47.629312;8.3022713
X-APPLE-STRUCTURED-LOCATION;VALUE=URI;X-ADDRESS=Familienzentrum Hochrhein Bertold-Schmidt-Platz 7 Lauchringen 79787;X-APPLE-RADIUS=500;X-TITLE=Bertold-Schmidt-Platz 7:geo:8.3022713,47.629312
END:VEVENT
BEGIN:VEVENT
DTSTART;TZID=Europe/Berlin:20260212T110000
DTEND;TZID=Europe/Berlin:20260212T120000
DTSTAMP:20260422T143142
CREATED:20260204T083857Z
LAST-MODIFIED:20260211T094504Z
UID:10009541-1770894000-1770897600@faz-hochrhein.de
SUMMARY:English Conversation Treff - Fortgeschrittene
DESCRIPTION:mit native speaker Patricia Sherry\, EFL/ESL-Lehrerin \nkostenlos \nDer Kurs ist aktuell ausgebucht!
URL:https://faz-hochrhein.de/veranstaltung/english-conversation-treff-fortgeschrittene/2026-02-12/
LOCATION:Familienzentrum Hochrhein\, Bertold-Schmidt-Platz 7\, Lauchringen\, 79787
CATEGORIES:Caféteria
GEO:47.629312;8.3022713
X-APPLE-STRUCTURED-LOCATION;VALUE=URI;X-ADDRESS=Familienzentrum Hochrhein Bertold-Schmidt-Platz 7 Lauchringen 79787;X-APPLE-RADIUS=500;X-TITLE=Bertold-Schmidt-Platz 7:geo:8.3022713,47.629312
END:VEVENT
BEGIN:VEVENT
DTSTART;TZID=Europe/Berlin:20260212T150000
DTEND;TZID=Europe/Berlin:20260212T163000
DTSTAMP:20260422T143142
CREATED:20260206T085104Z
LAST-MODIFIED:20260206T085104Z
UID:10009955-1770908400-1770913800@faz-hochrhein.de
SUMMARY:Krabbel-Café
DESCRIPTION:
URL:https://faz-hochrhein.de/veranstaltung/krabbel-cafe-4/2026-02-12/
LOCATION:Familienzentrum Hochrhein\, Bertold-Schmidt-Platz 7\, Lauchringen\, 79787
CATEGORIES:Kleinkinder
GEO:47.629312;8.3022713
X-APPLE-STRUCTURED-LOCATION;VALUE=URI;X-ADDRESS=Familienzentrum Hochrhein Bertold-Schmidt-Platz 7 Lauchringen 79787;X-APPLE-RADIUS=500;X-TITLE=Bertold-Schmidt-Platz 7:geo:8.3022713,47.629312
END:VEVENT
BEGIN:VEVENT
DTSTART;TZID=Europe/Berlin:20260212T153000
DTEND;TZID=Europe/Berlin:20260212T163000
DTSTAMP:20260422T143142
CREATED:20260206T072746Z
LAST-MODIFIED:20260206T072746Z
UID:10009673-1770910200-1770913800@faz-hochrhein.de
SUMMARY:PC- und Handy-Hilfe
DESCRIPTION:kostenlos und individuell \nValentin Ruch hilft euch weiter! \nBitte im FaZ anmelden \n 
URL:https://faz-hochrhein.de/veranstaltung/pc-und-handy-hilfe-3/2026-02-12/
LOCATION:Familienzentrum Hochrhein\, Bertold-Schmidt-Platz 7\, Lauchringen\, 79787
CATEGORIES:Caféteria
GEO:47.629312;8.3022713
X-APPLE-STRUCTURED-LOCATION;VALUE=URI;X-ADDRESS=Familienzentrum Hochrhein Bertold-Schmidt-Platz 7 Lauchringen 79787;X-APPLE-RADIUS=500;X-TITLE=Bertold-Schmidt-Platz 7:geo:8.3022713,47.629312
END:VEVENT
BEGIN:VEVENT
DTSTART;TZID=Europe/Berlin:20260212T154500
DTEND;TZID=Europe/Berlin:20260212T170000
DTSTAMP:20260422T143142
CREATED:20260206T083237Z
LAST-MODIFIED:20260206T083237Z
UID:10009877-1770911100-1770915600@faz-hochrhein.de
SUMMARY:Eltern-Treff für Kinder von 1 - 3 Jahren
DESCRIPTION:pädagogisch geleitete Eltern-Kind-Gruppe \nWir bitten jeweils um eine Spende von 3 Euro \nInformationen: Marion Dickmann\, m.dickmann@dw-hochrhein.de\, Tel. 07751–83040
URL:https://faz-hochrhein.de/veranstaltung/eltern-treff-fuer-kinder-von-1-3-jahren-6/2026-02-12/
LOCATION:Familienzentrum Hochrhein\, Bertold-Schmidt-Platz 7\, Lauchringen\, 79787
CATEGORIES:Kleinkinder
GEO:47.629312;8.3022713
X-APPLE-STRUCTURED-LOCATION;VALUE=URI;X-ADDRESS=Familienzentrum Hochrhein Bertold-Schmidt-Platz 7 Lauchringen 79787;X-APPLE-RADIUS=500;X-TITLE=Bertold-Schmidt-Platz 7:geo:8.3022713,47.629312
END:VEVENT
BEGIN:VEVENT
DTSTART;TZID=Europe/Berlin:20260213T090000
DTEND;TZID=Europe/Berlin:20260213T120000
DTSTAMP:20260422T143142
CREATED:20260206T085858Z
LAST-MODIFIED:20260206T085858Z
UID:10010000-1770973200-1770984000@faz-hochrhein.de
SUMMARY:Sonnenkäfer
DESCRIPTION:Die Kinder lernen in liebevoller Begleitung erste Reifeschritte für den Kindergarten. \nLeitung: Stephanie Lohrmann\, Tel. 07746/657697 oder im FaZ. \n 
URL:https://faz-hochrhein.de/veranstaltung/sonnenkaefer-2/2026-02-13/
LOCATION:Familienzentrum Hochrhein\, Bertold-Schmidt-Platz 7\, Lauchringen\, 79787
CATEGORIES:Kleinkinder
GEO:47.629312;8.3022713
X-APPLE-STRUCTURED-LOCATION;VALUE=URI;X-ADDRESS=Familienzentrum Hochrhein Bertold-Schmidt-Platz 7 Lauchringen 79787;X-APPLE-RADIUS=500;X-TITLE=Bertold-Schmidt-Platz 7:geo:8.3022713,47.629312
END:VEVENT
BEGIN:VEVENT
DTSTART;TZID=Europe/Berlin:20260213T093000
DTEND;TZID=Europe/Berlin:20260213T103000
DTSTAMP:20260422T143142
CREATED:20260204T084852Z
LAST-MODIFIED:20260204T084852Z
UID:10009582-1770975000-1770978600@faz-hochrhein.de
SUMMARY:English Conversation - bessere Anfänger
DESCRIPTION:mit native speaker Patricia Sherry\, EFL/ESL-Lehrerin \nkostenlos \nDer Kurs ist aktuell ausgebucht!
URL:https://faz-hochrhein.de/veranstaltung/english-conversation-bessere-anfaenger/2026-02-13/
LOCATION:Familienzentrum Hochrhein\, Bertold-Schmidt-Platz 7\, Lauchringen\, 79787
CATEGORIES:Caféteria
GEO:47.629312;8.3022713
X-APPLE-STRUCTURED-LOCATION;VALUE=URI;X-ADDRESS=Familienzentrum Hochrhein Bertold-Schmidt-Platz 7 Lauchringen 79787;X-APPLE-RADIUS=500;X-TITLE=Bertold-Schmidt-Platz 7:geo:8.3022713,47.629312
END:VEVENT
END:VCALENDAR