BEGIN:VCALENDAR
VERSION:2.0
PRODID:-//Familienzentrum Hochrhein - ECPv6.15.16//NONSGML v1.0//EN
CALSCALE:GREGORIAN
METHOD:PUBLISH
X-ORIGINAL-URL:https://faz-hochrhein.de
X-WR-CALDESC:Veranstaltungen für Familienzentrum Hochrhein
REFRESH-INTERVAL;VALUE=DURATION:PT1H
X-Robots-Tag:noindex
X-PUBLISHED-TTL:PT1H
BEGIN:VTIMEZONE
TZID:Europe/Berlin
BEGIN:DAYLIGHT
TZOFFSETFROM:+0100
TZOFFSETTO:+0200
TZNAME:CEST
DTSTART:20250330T010000
END:DAYLIGHT
BEGIN:STANDARD
TZOFFSETFROM:+0200
TZOFFSETTO:+0100
TZNAME:CET
DTSTART:20251026T010000
END:STANDARD
BEGIN:DAYLIGHT
TZOFFSETFROM:+0100
TZOFFSETTO:+0200
TZNAME:CEST
DTSTART:20260329T010000
END:DAYLIGHT
BEGIN:STANDARD
TZOFFSETFROM:+0200
TZOFFSETTO:+0100
TZNAME:CET
DTSTART:20261025T010000
END:STANDARD
BEGIN:DAYLIGHT
TZOFFSETFROM:+0100
TZOFFSETTO:+0200
TZNAME:CEST
DTSTART:20270328T010000
END:DAYLIGHT
BEGIN:STANDARD
TZOFFSETFROM:+0200
TZOFFSETTO:+0100
TZNAME:CET
DTSTART:20271031T010000
END:STANDARD
END:VTIMEZONE
BEGIN:VEVENT
DTSTART;TZID=Europe/Berlin:20260112T093000
DTEND;TZID=Europe/Berlin:20260112T103000
DTSTAMP:20260422T211957
CREATED:20250910T075942Z
LAST-MODIFIED:20251015T085005Z
UID:10009189-1768210200-1768213800@faz-hochrhein.de
SUMMARY:Eltern-Treff für Kinder von 1 - 3 Jahren
DESCRIPTION:pädagogisch geleitet \nin den Schulferien geschlossen \nWir bitten um ein Spende von 3 € \nInformationen über die Gruppenleiterin Marion Dickmann\, Hebamme\, Dipl. Sozialpädagogin m.dickmann@dw-hochrhein.de\, Telefon 07751–83040
URL:https://faz-hochrhein.de/veranstaltung/eltern-treff-fuer-kinder-von-1-3-jahren/2026-01-12/
LOCATION:Familienzentrum Hochrhein\, Bertold-Schmidt-Platz 7\, Lauchringen\, 79787
CATEGORIES:Kleinkinder
GEO:47.629312;8.3022713
X-APPLE-STRUCTURED-LOCATION;VALUE=URI;X-ADDRESS=Familienzentrum Hochrhein Bertold-Schmidt-Platz 7 Lauchringen 79787;X-APPLE-RADIUS=500;X-TITLE=Bertold-Schmidt-Platz 7:geo:8.3022713,47.629312
END:VEVENT
BEGIN:VEVENT
DTSTART;TZID=Europe/Berlin:20260112T180000
DTEND;TZID=Europe/Berlin:20260112T200000
DTSTAMP:20260422T211957
CREATED:20260206T075448Z
LAST-MODIFIED:20260206T075448Z
UID:10009738-1768240800-1768248000@faz-hochrhein.de
SUMMARY:Hoffnungs-Treff
DESCRIPTION:
URL:https://faz-hochrhein.de/veranstaltung/hoffnungs-treff-4/2026-01-12/
LOCATION:Familienzentrum Hochrhein\, Bertold-Schmidt-Platz 7\, Lauchringen\, 79787
CATEGORIES:Selbsthilfegruppen
GEO:47.629312;8.3022713
X-APPLE-STRUCTURED-LOCATION;VALUE=URI;X-ADDRESS=Familienzentrum Hochrhein Bertold-Schmidt-Platz 7 Lauchringen 79787;X-APPLE-RADIUS=500;X-TITLE=Bertold-Schmidt-Platz 7:geo:8.3022713,47.629312
END:VEVENT
BEGIN:VEVENT
DTSTART;TZID=Europe/Berlin:20260113T080000
DTEND;TZID=Europe/Berlin:20260113T120000
DTSTAMP:20260422T211957
CREATED:20250910T100039Z
LAST-MODIFIED:20251015T085605Z
UID:10009280-1768291200-1768305600@faz-hochrhein.de
SUMMARY:Grashüpfer
DESCRIPTION:eine Naturgruppe für 1\,5 bis 3‑jährige \nInfos: r.cafararo@faz-hochrhein.de \n 
URL:https://faz-hochrhein.de/veranstaltung/grashuepfer/2026-01-13/
LOCATION:Abenteuerland\, Lauchringerstr. 22\, Lauchringen
CATEGORIES:Kleinkinder
GEO:47.623038;8.3152684
X-APPLE-STRUCTURED-LOCATION;VALUE=URI;X-ADDRESS=Abenteuerland Lauchringerstr. 22 Lauchringen;X-APPLE-RADIUS=500;X-TITLE=Lauchringerstr. 22:geo:8.3152684,47.623038
END:VEVENT
BEGIN:VEVENT
DTSTART;TZID=Europe/Berlin:20260113T090000
DTEND;TZID=Europe/Berlin:20260113T120000
DTSTAMP:20260422T211957
CREATED:20250910T091434Z
LAST-MODIFIED:20251017T065820Z
UID:10008262-1768294800-1768305600@faz-hochrhein.de
SUMMARY:Sonnenkäfer
DESCRIPTION:Die Kinder lernen in liebevoller Begleitung erste Reifeschritte für den Kindergarten. \n Leitung: Stephanie Lohrmann\, Tel. 07746/657697 oder im FaZ. \n 
URL:https://faz-hochrhein.de/veranstaltung/sonnenkaefer/2026-01-13/
LOCATION:Familienzentrum Hochrhein\, Bertold-Schmidt-Platz 7\, Lauchringen\, 79787
CATEGORIES:Kleinkinder
GEO:47.629312;8.3022713
X-APPLE-STRUCTURED-LOCATION;VALUE=URI;X-ADDRESS=Familienzentrum Hochrhein Bertold-Schmidt-Platz 7 Lauchringen 79787;X-APPLE-RADIUS=500;X-TITLE=Bertold-Schmidt-Platz 7:geo:8.3022713,47.629312
END:VEVENT
BEGIN:VEVENT
DTSTART;TZID=Europe/Berlin:20260113T093000
DTEND;TZID=Europe/Berlin:20260113T110000
DTSTAMP:20260422T211957
CREATED:20250910T081339Z
LAST-MODIFIED:20251017T071026Z
UID:10009205-1768296600-1768302000@faz-hochrhein.de
SUMMARY:Eltern-Treff für Kinder von 0 - 1 Jahr
DESCRIPTION:pädagogisch geleitet \nin den Schulferien geschlossen \nWir bitten um ein Spende von 3 € \nInformationen über die Gruppenleiterin Marion Dickmann\, Hebamme\, Dipl. Sozialpädagogin m.dickmann@dw-hochrhein.de\, Telefon 07751–83040
URL:https://faz-hochrhein.de/veranstaltung/eltern-treff-fuer-kinder-von-0-1-jahr/2026-01-13/
LOCATION:Familienzentrum Hochrhein\, Bertold-Schmidt-Platz 7\, Lauchringen\, 79787
CATEGORIES:Kleinkinder
GEO:47.629312;8.3022713
X-APPLE-STRUCTURED-LOCATION;VALUE=URI;X-ADDRESS=Familienzentrum Hochrhein Bertold-Schmidt-Platz 7 Lauchringen 79787;X-APPLE-RADIUS=500;X-TITLE=Bertold-Schmidt-Platz 7:geo:8.3022713,47.629312
END:VEVENT
BEGIN:VEVENT
DTSTART;TZID=Europe/Berlin:20260113T093000
DTEND;TZID=Europe/Berlin:20260113T113000
DTSTAMP:20260422T211957
CREATED:20250909T073849Z
LAST-MODIFIED:20250909T073849Z
UID:10009122-1768296600-1768303800@faz-hochrhein.de
SUMMARY:Frauenfrühstück
DESCRIPTION:„Interessantes und Kurioses rund ums Thema Küssen“ \nHaben Sie sich schon einmal gefragt\, warum die Menschen küssen? Oder ob sich Tiere küssen? Und was für Arten von Küssen es gibt? Beantwortet werden diese und viele andere Fragen; auch werden Küsse in Märchen\, Bildern und Literatur thematisiert. \nReferentin: Adelheid Kummle\, Stoll VITA Stiftung \n  \nWir bitten um Anmeldung! \nFrühstücksbuffet: 11\,00 Euro \n 
URL:https://faz-hochrhein.de/veranstaltung/frauenfruehstueck-9/
LOCATION:Familienzentrum Hochrhein\, Bertold-Schmidt-Platz 7\, Lauchringen\, 79787
CATEGORIES:Caféteria
GEO:47.629312;8.3022713
X-APPLE-STRUCTURED-LOCATION;VALUE=URI;X-ADDRESS=Familienzentrum Hochrhein Bertold-Schmidt-Platz 7 Lauchringen 79787;X-APPLE-RADIUS=500;X-TITLE=Bertold-Schmidt-Platz 7:geo:8.3022713,47.629312
END:VEVENT
BEGIN:VEVENT
DTSTART;TZID=Europe/Berlin:20260113T143000
DTEND;TZID=Europe/Berlin:20260113T170000
DTSTAMP:20260422T211957
CREATED:20250909T074745Z
LAST-MODIFIED:20251017T071355Z
UID:10009139-1768314600-1768323600@faz-hochrhein.de
SUMMARY:Backgammon-Spiel-Treff
DESCRIPTION:Wir freuen uns über weitere MitspielerInnen! \n 
URL:https://faz-hochrhein.de/veranstaltung/backgammon-spiel-treff-4/2026-01-13/
LOCATION:Familienzentrum Hochrhein\, Bertold-Schmidt-Platz 7\, Lauchringen\, 79787
CATEGORIES:Caféteria
GEO:47.629312;8.3022713
X-APPLE-STRUCTURED-LOCATION;VALUE=URI;X-ADDRESS=Familienzentrum Hochrhein Bertold-Schmidt-Platz 7 Lauchringen 79787;X-APPLE-RADIUS=500;X-TITLE=Bertold-Schmidt-Platz 7:geo:8.3022713,47.629312
END:VEVENT
BEGIN:VEVENT
DTSTART;TZID=Europe/Berlin:20260114T080000
DTEND;TZID=Europe/Berlin:20260114T120000
DTSTAMP:20260422T211957
CREATED:20250910T100039Z
LAST-MODIFIED:20251015T085605Z
UID:10009281-1768377600-1768392000@faz-hochrhein.de
SUMMARY:Grashüpfer
DESCRIPTION:eine Naturgruppe für 1\,5 bis 3‑jährige \nInfos: r.cafararo@faz-hochrhein.de \n 
URL:https://faz-hochrhein.de/veranstaltung/grashuepfer/2026-01-14/
LOCATION:Abenteuerland\, Lauchringerstr. 22\, Lauchringen
CATEGORIES:Kleinkinder
GEO:47.623038;8.3152684
X-APPLE-STRUCTURED-LOCATION;VALUE=URI;X-ADDRESS=Abenteuerland Lauchringerstr. 22 Lauchringen;X-APPLE-RADIUS=500;X-TITLE=Lauchringerstr. 22:geo:8.3152684,47.623038
END:VEVENT
BEGIN:VEVENT
DTSTART;TZID=Europe/Berlin:20260114T093000
DTEND;TZID=Europe/Berlin:20260114T110000
DTSTAMP:20260422T211957
CREATED:20250117T064624Z
LAST-MODIFIED:20251017T072449Z
UID:10008842-1768383000-1768388400@faz-hochrhein.de
SUMMARY:der-\, die-\, das-Kurs für ausländische Frauen - Anfänger
DESCRIPTION:Kosten: 1 Euro/Tag \nLeitung: Hanne Breinig\, pensionierte Lehrerin
URL:https://faz-hochrhein.de/veranstaltung/der-die-das-kurse-fuer-auslaendische-frauen-anfaenger-2/2026-01-14/
LOCATION:Familienzentrum Hochrhein\, Bertold-Schmidt-Platz 7\, Lauchringen\, 79787
CATEGORIES:Erwachsene & Senioren
GEO:47.629312;8.3022713
X-APPLE-STRUCTURED-LOCATION;VALUE=URI;X-ADDRESS=Familienzentrum Hochrhein Bertold-Schmidt-Platz 7 Lauchringen 79787;X-APPLE-RADIUS=500;X-TITLE=Bertold-Schmidt-Platz 7:geo:8.3022713,47.629312
END:VEVENT
BEGIN:VEVENT
DTSTART;TZID=Europe/Berlin:20260114T093000
DTEND;TZID=Europe/Berlin:20260114T110000
DTSTAMP:20260422T211957
CREATED:20250910T082245Z
LAST-MODIFIED:20251017T072009Z
UID:10009222-1768383000-1768388400@faz-hochrhein.de
SUMMARY:Eltern-Treff für Kinder von 1 - 3 Jahren
DESCRIPTION:pädagogisch geleitet \nin den Schulferien geschlossen \nWir bitten um ein Spende von 3 € \nInformationen über die Gruppenleiterin Marion Dickmann\, Hebamme\, Dipl. Sozialpädagogin m.dickmann@dw-hochrhein.de\, Telefon 07751–83040
URL:https://faz-hochrhein.de/veranstaltung/eltern-treff-fuer-kinder-von-1-3-jahren-2/2026-01-14/
LOCATION:Familienzentrum Hochrhein\, Bertold-Schmidt-Platz 7\, Lauchringen\, 79787
CATEGORIES:Kleinkinder
GEO:47.629312;8.3022713
X-APPLE-STRUCTURED-LOCATION;VALUE=URI;X-ADDRESS=Familienzentrum Hochrhein Bertold-Schmidt-Platz 7 Lauchringen 79787;X-APPLE-RADIUS=500;X-TITLE=Bertold-Schmidt-Platz 7:geo:8.3022713,47.629312
END:VEVENT
BEGIN:VEVENT
DTSTART;TZID=Europe/Berlin:20260114T150000
DTEND;TZID=Europe/Berlin:20260114T170000
DTSTAMP:20260422T211957
CREATED:20260107T080038Z
LAST-MODIFIED:20260107T080038Z
UID:10009343-1768402800-1768410000@faz-hochrhein.de
SUMMARY:Tanz-Treff mit Benny
DESCRIPTION:
URL:https://faz-hochrhein.de/veranstaltung/tanz-treff-mit-benny-2/
LOCATION:Familienzentrum Hochrhein\, Bertold-Schmidt-Platz 7\, Lauchringen\, 79787
CATEGORIES:Caféteria
GEO:47.629312;8.3022713
X-APPLE-STRUCTURED-LOCATION;VALUE=URI;X-ADDRESS=Familienzentrum Hochrhein Bertold-Schmidt-Platz 7 Lauchringen 79787;X-APPLE-RADIUS=500;X-TITLE=Bertold-Schmidt-Platz 7:geo:8.3022713,47.629312
END:VEVENT
BEGIN:VEVENT
DTSTART;TZID=Europe/Berlin:20260115T080000
DTEND;TZID=Europe/Berlin:20260115T120000
DTSTAMP:20260422T211957
CREATED:20250910T100039Z
LAST-MODIFIED:20251015T085605Z
UID:10009282-1768464000-1768478400@faz-hochrhein.de
SUMMARY:Grashüpfer
DESCRIPTION:eine Naturgruppe für 1\,5 bis 3‑jährige \nInfos: r.cafararo@faz-hochrhein.de \n 
URL:https://faz-hochrhein.de/veranstaltung/grashuepfer/2026-01-15/
LOCATION:Abenteuerland\, Lauchringerstr. 22\, Lauchringen
CATEGORIES:Kleinkinder
GEO:47.623038;8.3152684
X-APPLE-STRUCTURED-LOCATION;VALUE=URI;X-ADDRESS=Abenteuerland Lauchringerstr. 22 Lauchringen;X-APPLE-RADIUS=500;X-TITLE=Lauchringerstr. 22:geo:8.3152684,47.623038
END:VEVENT
BEGIN:VEVENT
DTSTART;TZID=Europe/Berlin:20260115T090000
DTEND;TZID=Europe/Berlin:20260115T120000
DTSTAMP:20260422T211957
CREATED:20250910T091434Z
LAST-MODIFIED:20251017T065820Z
UID:10008263-1768467600-1768478400@faz-hochrhein.de
SUMMARY:Sonnenkäfer
DESCRIPTION:Die Kinder lernen in liebevoller Begleitung erste Reifeschritte für den Kindergarten. \n Leitung: Stephanie Lohrmann\, Tel. 07746/657697 oder im FaZ. \n 
URL:https://faz-hochrhein.de/veranstaltung/sonnenkaefer/2026-01-15/
LOCATION:Familienzentrum Hochrhein\, Bertold-Schmidt-Platz 7\, Lauchringen\, 79787
CATEGORIES:Kleinkinder
GEO:47.629312;8.3022713
X-APPLE-STRUCTURED-LOCATION;VALUE=URI;X-ADDRESS=Familienzentrum Hochrhein Bertold-Schmidt-Platz 7 Lauchringen 79787;X-APPLE-RADIUS=500;X-TITLE=Bertold-Schmidt-Platz 7:geo:8.3022713,47.629312
END:VEVENT
BEGIN:VEVENT
DTSTART;TZID=Europe/Berlin:20260115T093000
DTEND;TZID=Europe/Berlin:20260115T103000
DTSTAMP:20260422T211957
CREATED:20250114T111622Z
LAST-MODIFIED:20251017T074203Z
UID:10006815-1768469400-1768473000@faz-hochrhein.de
SUMMARY:English Conversation für Anfänger
DESCRIPTION:mit native speaker Patricia Sherry \nkostenlos \n 
URL:https://faz-hochrhein.de/veranstaltung/english-conversation-fuer-anfaenger/2026-01-15/
LOCATION:Familienzentrum Hochrhein\, Bertold-Schmidt-Platz 7\, Lauchringen\, 79787
CATEGORIES:Caféteria
GEO:47.629312;8.3022713
X-APPLE-STRUCTURED-LOCATION;VALUE=URI;X-ADDRESS=Familienzentrum Hochrhein Bertold-Schmidt-Platz 7 Lauchringen 79787;X-APPLE-RADIUS=500;X-TITLE=Bertold-Schmidt-Platz 7:geo:8.3022713,47.629312
END:VEVENT
BEGIN:VEVENT
DTSTART;TZID=Europe/Berlin:20260115T093000
DTEND;TZID=Europe/Berlin:20260115T110000
DTSTAMP:20260422T211957
CREATED:20250117T065443Z
LAST-MODIFIED:20251017T074940Z
UID:10008891-1768469400-1768474800@faz-hochrhein.de
SUMMARY:der-\, die-\, das-Kurs für ausländische Frauen - mittlere Kenntnisse
DESCRIPTION:Kosten: 1 Euro/Tag \nLeitung: Hanne Breinig\, pensionierte Lehrerin
URL:https://faz-hochrhein.de/veranstaltung/der-die-das-kurs-fuer-auslaendische-frauen-mittlere-kenntnisse/2026-01-15/
LOCATION:Familienzentrum Hochrhein\, Bertold-Schmidt-Platz 7\, Lauchringen\, 79787
CATEGORIES:Erwachsene & Senioren
GEO:47.629312;8.3022713
X-APPLE-STRUCTURED-LOCATION;VALUE=URI;X-ADDRESS=Familienzentrum Hochrhein Bertold-Schmidt-Platz 7 Lauchringen 79787;X-APPLE-RADIUS=500;X-TITLE=Bertold-Schmidt-Platz 7:geo:8.3022713,47.629312
END:VEVENT
BEGIN:VEVENT
DTSTART;TZID=Europe/Berlin:20260115T093000
DTEND;TZID=Europe/Berlin:20260115T110000
DTSTAMP:20260422T211957
CREATED:20251107T082012Z
LAST-MODIFIED:20251118T085702Z
UID:10008443-1768469400-1768474800@faz-hochrhein.de
SUMMARY:offener Treff im Abenteuerland
DESCRIPTION:Der „offene Treff“ ist eine pädagogisch geleitete Eltern-Kind-Gruppe für Kinder von 0 bis 3 Jahren. Wir bitten jeweils um eine Spende von 3 € — ohne Anmeldung! \nim großen Bewegungsraum = Lauchringer Straße 22\, Lauchringen (gegenüber Freibad/Fußballstadion) \nInformationen bei Marion Dickmann\, m.dickmann@dw-hochrhein.de
URL:https://faz-hochrhein.de/veranstaltung/offener-treff-im-abenteuerland/2026-01-15/
LOCATION:Abenteuerland\, Lauchringerstr. 22\, Lauchringen
CATEGORIES:Abenteuerland,Kleinkinder
GEO:47.623038;8.3152684
X-APPLE-STRUCTURED-LOCATION;VALUE=URI;X-ADDRESS=Abenteuerland Lauchringerstr. 22 Lauchringen;X-APPLE-RADIUS=500;X-TITLE=Lauchringerstr. 22:geo:8.3152684,47.623038
END:VEVENT
BEGIN:VEVENT
DTSTART;TZID=Europe/Berlin:20260115T110000
DTEND;TZID=Europe/Berlin:20260115T120000
DTSTAMP:20260422T211957
CREATED:20250114T112247Z
LAST-MODIFIED:20251017T075524Z
UID:10006868-1768474800-1768478400@faz-hochrhein.de
SUMMARY:English Conversation für Fortgeschrittene
DESCRIPTION:mit native speaker Patricia Sherry \nkostenlos
URL:https://faz-hochrhein.de/veranstaltung/english-conversation-fuer-fortgeschrittene/2026-01-15/
LOCATION:Familienzentrum Hochrhein\, Bertold-Schmidt-Platz 7\, Lauchringen\, 79787
CATEGORIES:Caféteria
GEO:47.629312;8.3022713
X-APPLE-STRUCTURED-LOCATION;VALUE=URI;X-ADDRESS=Familienzentrum Hochrhein Bertold-Schmidt-Platz 7 Lauchringen 79787;X-APPLE-RADIUS=500;X-TITLE=Bertold-Schmidt-Platz 7:geo:8.3022713,47.629312
END:VEVENT
BEGIN:VEVENT
DTSTART;TZID=Europe/Berlin:20260115T150000
DTEND;TZID=Europe/Berlin:20260115T170000
DTSTAMP:20260422T211957
CREATED:20250910T085903Z
LAST-MODIFIED:20251017T075951Z
UID:10008024-1768489200-1768496400@faz-hochrhein.de
SUMMARY:Krabbel-Café
DESCRIPTION:Wir halten zu dieser Zeit die Spielecke für (Groß-)Mütter und Väter\, Tanten und Onkel mit Baby frei. \nBitte im Anschluss alles wieder aufräumen — danke! \nGeschwister sind willkommen — die Aufsicht liegt bei den Erziehungsberechtigten
URL:https://faz-hochrhein.de/veranstaltung/krabbel-cafe-3/2026-01-15/
LOCATION:Familienzentrum Hochrhein\, Bertold-Schmidt-Platz 7\, Lauchringen\, 79787
CATEGORIES:Kleinkinder
GEO:47.629312;8.3022713
X-APPLE-STRUCTURED-LOCATION;VALUE=URI;X-ADDRESS=Familienzentrum Hochrhein Bertold-Schmidt-Platz 7 Lauchringen 79787;X-APPLE-RADIUS=500;X-TITLE=Bertold-Schmidt-Platz 7:geo:8.3022713,47.629312
END:VEVENT
BEGIN:VEVENT
DTSTART;TZID=Europe/Berlin:20260115T154500
DTEND;TZID=Europe/Berlin:20260115T170000
DTSTAMP:20260422T211957
CREATED:20250910T082825Z
LAST-MODIFIED:20251017T080359Z
UID:10007947-1768491900-1768496400@faz-hochrhein.de
SUMMARY:Eltern-Treff für Kinder von 1 - 3 Jahren
DESCRIPTION:pädagogisch geleitet \nin den Schulferien geschlossen \nWir bitten um ein Spende von 3 € \nInformationen über die Gruppenleiterin Marion Dickmann\, Hebamme\, Dipl. Sozialpädagogin m.dickmann@dw-hochrhein.de\, Telefon 07751–83040
URL:https://faz-hochrhein.de/veranstaltung/eltern-treff-fuer-kinder-von-1-3-jahren-3/2026-01-15/
LOCATION:Familienzentrum Hochrhein\, Bertold-Schmidt-Platz 7\, Lauchringen\, 79787
CATEGORIES:Kleinkinder
GEO:47.629312;8.3022713
X-APPLE-STRUCTURED-LOCATION;VALUE=URI;X-ADDRESS=Familienzentrum Hochrhein Bertold-Schmidt-Platz 7 Lauchringen 79787;X-APPLE-RADIUS=500;X-TITLE=Bertold-Schmidt-Platz 7:geo:8.3022713,47.629312
END:VEVENT
BEGIN:VEVENT
DTSTART;TZID=Europe/Berlin:20260115T193000
DTEND;TZID=Europe/Berlin:20260115T210000
DTSTAMP:20260422T211957
CREATED:20260105T064244Z
LAST-MODIFIED:20260105T064244Z
UID:10008534-1768505400-1768510800@faz-hochrhein.de
SUMMARY:Buchvorstellung: Naturheilkunde für Kinder
DESCRIPTION:Die Autorin Susanne Alber-Jansohn\, Heilpraktikerin mit langjähriger Erfahrung in der naturheilkundlichen Behandlung von\nKindern\, stellt ihr umfangreiches Praxisbuch vor. \nIm Mittelpunkt stehen dabei allgemein die Möglichkeiten und Grenzen der Naturheilkunde\, jedoch auch die konkrete\nHerangehensweise bei den Krankheiten des Kindesalters sowie das Wichtigste zu Ernährung und Impfungen. \n- wir bitten um eine Spende - \nAnmeldung bei Marion Dickmann: m.dickmann@dw-hochrhein.de
URL:https://faz-hochrhein.de/veranstaltung/buchvorstellung-naturheilkunde-fuer-kinder-2/
LOCATION:Familienzentrum Hochrhein\, Bertold-Schmidt-Platz 7\, Lauchringen\, 79787
CATEGORIES:Erwachsene & Senioren
GEO:47.629312;8.3022713
X-APPLE-STRUCTURED-LOCATION;VALUE=URI;X-ADDRESS=Familienzentrum Hochrhein Bertold-Schmidt-Platz 7 Lauchringen 79787;X-APPLE-RADIUS=500;X-TITLE=Bertold-Schmidt-Platz 7:geo:8.3022713,47.629312
END:VEVENT
BEGIN:VEVENT
DTSTART;TZID=Europe/Berlin:20260116T080000
DTEND;TZID=Europe/Berlin:20260116T120000
DTSTAMP:20260422T211957
CREATED:20250910T100039Z
LAST-MODIFIED:20251015T085605Z
UID:10009283-1768550400-1768564800@faz-hochrhein.de
SUMMARY:Grashüpfer
DESCRIPTION:eine Naturgruppe für 1\,5 bis 3‑jährige \nInfos: r.cafararo@faz-hochrhein.de \n 
URL:https://faz-hochrhein.de/veranstaltung/grashuepfer/2026-01-16/
LOCATION:Abenteuerland\, Lauchringerstr. 22\, Lauchringen
CATEGORIES:Kleinkinder
GEO:47.623038;8.3152684
X-APPLE-STRUCTURED-LOCATION;VALUE=URI;X-ADDRESS=Abenteuerland Lauchringerstr. 22 Lauchringen;X-APPLE-RADIUS=500;X-TITLE=Lauchringerstr. 22:geo:8.3152684,47.623038
END:VEVENT
BEGIN:VEVENT
DTSTART;TZID=Europe/Berlin:20260116T090000
DTEND;TZID=Europe/Berlin:20260116T120000
DTSTAMP:20260422T211957
CREATED:20250910T091434Z
LAST-MODIFIED:20251017T065820Z
UID:10008264-1768554000-1768564800@faz-hochrhein.de
SUMMARY:Sonnenkäfer
DESCRIPTION:Die Kinder lernen in liebevoller Begleitung erste Reifeschritte für den Kindergarten. \n Leitung: Stephanie Lohrmann\, Tel. 07746/657697 oder im FaZ. \n 
URL:https://faz-hochrhein.de/veranstaltung/sonnenkaefer/2026-01-16/
LOCATION:Familienzentrum Hochrhein\, Bertold-Schmidt-Platz 7\, Lauchringen\, 79787
CATEGORIES:Kleinkinder
GEO:47.629312;8.3022713
X-APPLE-STRUCTURED-LOCATION;VALUE=URI;X-ADDRESS=Familienzentrum Hochrhein Bertold-Schmidt-Platz 7 Lauchringen 79787;X-APPLE-RADIUS=500;X-TITLE=Bertold-Schmidt-Platz 7:geo:8.3022713,47.629312
END:VEVENT
BEGIN:VEVENT
DTSTART;TZID=Europe/Berlin:20260116T093000
DTEND;TZID=Europe/Berlin:20260116T103000
DTSTAMP:20260422T211957
CREATED:20250114T112617Z
LAST-MODIFIED:20251017T080818Z
UID:10007004-1768555800-1768559400@faz-hochrhein.de
SUMMARY:English Conversation für bessere Anfänger
DESCRIPTION:mit native speaker Patricia Sherry \nkostenlos
URL:https://faz-hochrhein.de/veranstaltung/english-conversation-fuer-bessere-anfaenger/2026-01-16/
LOCATION:Familienzentrum Hochrhein\, Bertold-Schmidt-Platz 7\, Lauchringen\, 79787
CATEGORIES:Caféteria
GEO:47.629312;8.3022713
X-APPLE-STRUCTURED-LOCATION;VALUE=URI;X-ADDRESS=Familienzentrum Hochrhein Bertold-Schmidt-Platz 7 Lauchringen 79787;X-APPLE-RADIUS=500;X-TITLE=Bertold-Schmidt-Platz 7:geo:8.3022713,47.629312
END:VEVENT
BEGIN:VEVENT
DTSTART;TZID=Europe/Berlin:20260116T093000
DTEND;TZID=Europe/Berlin:20260116T110000
DTSTAMP:20260422T211957
CREATED:20250117T065838Z
LAST-MODIFIED:20251017T081411Z
UID:10008940-1768555800-1768561200@faz-hochrhein.de
SUMMARY:der-\, die-\, das-Kurs für ausländische Frauen - Fortgeschrittene
DESCRIPTION:Kosten: 1 Euro/Tag \nLeitung: Hanne Breinig\, pensionierte Lehrerin
URL:https://faz-hochrhein.de/veranstaltung/der-die-das-kurs-fuer-auslaendische-frauen-fortgeschrittene/2026-01-16/
LOCATION:Familienzentrum Hochrhein\, Bertold-Schmidt-Platz 7\, Lauchringen\, 79787
CATEGORIES:Erwachsene & Senioren
GEO:47.629312;8.3022713
X-APPLE-STRUCTURED-LOCATION;VALUE=URI;X-ADDRESS=Familienzentrum Hochrhein Bertold-Schmidt-Platz 7 Lauchringen 79787;X-APPLE-RADIUS=500;X-TITLE=Bertold-Schmidt-Platz 7:geo:8.3022713,47.629312
END:VEVENT
BEGIN:VEVENT
DTSTART;TZID=Europe/Berlin:20260117T143000
DTEND;TZID=Europe/Berlin:20260117T163000
DTSTAMP:20260422T211957
CREATED:20260206T073253Z
LAST-MODIFIED:20260318T082431Z
UID:10009712-1768660200-1768667400@faz-hochrhein.de
SUMMARY:CRPS Selbsthilfegruppe Hochrhein
DESCRIPTION:Informationen und Anmeldung: sabine.meier@crpsnetzwerk.org \n01621674670 (auch via WhatsApp erreichbar) \n 
URL:https://faz-hochrhein.de/veranstaltung/crps-selbsthilfegruppe-hochrhein/2026-01-17/
LOCATION:Familienzentrum Hochrhein\, Bertold-Schmidt-Platz 7\, Lauchringen\, 79787
CATEGORIES:Selbsthilfegruppen
GEO:47.629312;8.3022713
X-APPLE-STRUCTURED-LOCATION;VALUE=URI;X-ADDRESS=Familienzentrum Hochrhein Bertold-Schmidt-Platz 7 Lauchringen 79787;X-APPLE-RADIUS=500;X-TITLE=Bertold-Schmidt-Platz 7:geo:8.3022713,47.629312
END:VEVENT
END:VCALENDAR