BEGIN:VCALENDAR
VERSION:2.0
PRODID:-//Familienzentrum Hochrhein - ECPv6.15.16//NONSGML v1.0//EN
CALSCALE:GREGORIAN
METHOD:PUBLISH
X-WR-CALNAME:Familienzentrum Hochrhein
X-ORIGINAL-URL:https://faz-hochrhein.de
X-WR-CALDESC:Veranstaltungen für Familienzentrum Hochrhein
REFRESH-INTERVAL;VALUE=DURATION:PT1H
X-Robots-Tag:noindex
X-PUBLISHED-TTL:PT1H
BEGIN:VTIMEZONE
TZID:Europe/Berlin
BEGIN:DAYLIGHT
TZOFFSETFROM:+0100
TZOFFSETTO:+0200
TZNAME:CEST
DTSTART:20250330T010000
END:DAYLIGHT
BEGIN:STANDARD
TZOFFSETFROM:+0200
TZOFFSETTO:+0100
TZNAME:CET
DTSTART:20251026T010000
END:STANDARD
BEGIN:DAYLIGHT
TZOFFSETFROM:+0100
TZOFFSETTO:+0200
TZNAME:CEST
DTSTART:20260329T010000
END:DAYLIGHT
BEGIN:STANDARD
TZOFFSETFROM:+0200
TZOFFSETTO:+0100
TZNAME:CET
DTSTART:20261025T010000
END:STANDARD
BEGIN:DAYLIGHT
TZOFFSETFROM:+0100
TZOFFSETTO:+0200
TZNAME:CEST
DTSTART:20270328T010000
END:DAYLIGHT
BEGIN:STANDARD
TZOFFSETFROM:+0200
TZOFFSETTO:+0100
TZNAME:CET
DTSTART:20271031T010000
END:STANDARD
END:VTIMEZONE
BEGIN:VEVENT
DTSTART;TZID=Europe/Berlin:20260422T080000
DTEND;TZID=Europe/Berlin:20260422T120000
DTSTAMP:20260422T142404
CREATED:20260209T095234Z
LAST-MODIFIED:20260210T085006Z
UID:10010334-1776844800-1776859200@faz-hochrhein.de
SUMMARY:Grashüpfer
DESCRIPTION:Naturgruppe im Abenteuerland  \n  \nfür 1\,5 bis 3‑jährige \n  \nDie Kinder lernen in liebevoller Begleitung erste Reifeschritte für den Kindergarten. \n  \nInfos: r.cafararo@faz-hochrhein.de \n 
URL:https://faz-hochrhein.de/veranstaltung/grashuepfer-9/2026-04-22/
LOCATION:Abenteuerland\, Lauchringerstr. 22\, Lauchringen
CATEGORIES:Kleinkinder
GEO:47.623038;8.3152684
X-APPLE-STRUCTURED-LOCATION;VALUE=URI;X-ADDRESS=Abenteuerland Lauchringerstr. 22 Lauchringen;X-APPLE-RADIUS=500;X-TITLE=Lauchringerstr. 22:geo:8.3152684,47.623038
END:VEVENT
BEGIN:VEVENT
DTSTART;TZID=Europe/Berlin:20260422T083000
DTEND;TZID=Europe/Berlin:20260422T113000
DTSTAMP:20260422T142404
CREATED:20260226T101527Z
LAST-MODIFIED:20260226T101527Z
UID:10010599-1776846600-1776857400@faz-hochrhein.de
SUMMARY:MIA - Migrantinnen stark im Alltag
DESCRIPTION:
URL:https://faz-hochrhein.de/veranstaltung/mia-migrantinnen-stark-im-alltag/2026-04-22/
LOCATION:Familienzentrum Hochrhein\, Bertold-Schmidt-Platz 7\, Lauchringen\, 79787
CATEGORIES:Erwachsene & Senioren
GEO:47.629312;8.3022713
X-APPLE-STRUCTURED-LOCATION;VALUE=URI;X-ADDRESS=Familienzentrum Hochrhein Bertold-Schmidt-Platz 7 Lauchringen 79787;X-APPLE-RADIUS=500;X-TITLE=Bertold-Schmidt-Platz 7:geo:8.3022713,47.629312
END:VEVENT
BEGIN:VEVENT
DTSTART;TZID=Europe/Berlin:20260422T093000
DTEND;TZID=Europe/Berlin:20260422T110000
DTSTAMP:20260422T142404
CREATED:20260206T082744Z
LAST-MODIFIED:20260206T082744Z
UID:10009845-1776850200-1776855600@faz-hochrhein.de
SUMMARY:Eltern-Treff für Kinder von 1 - 3 Jahren
DESCRIPTION:pädagogisch geleitete Eltern-Kind-Gruppe \nWir bitten jeweils um eine Spende von 3 Euro \nInformationen: Marion Dickmann\, m.dickmann@dw-hochrhein.de\, Tel. 07751–83040
URL:https://faz-hochrhein.de/veranstaltung/eltern-treff-fuer-kinder-von-1-3-jahren-5/2026-04-22/
LOCATION:Familienzentrum Hochrhein\, Bertold-Schmidt-Platz 7\, Lauchringen\, 79787
CATEGORIES:Kleinkinder
GEO:47.629312;8.3022713
X-APPLE-STRUCTURED-LOCATION;VALUE=URI;X-ADDRESS=Familienzentrum Hochrhein Bertold-Schmidt-Platz 7 Lauchringen 79787;X-APPLE-RADIUS=500;X-TITLE=Bertold-Schmidt-Platz 7:geo:8.3022713,47.629312
END:VEVENT
BEGIN:VEVENT
DTSTART;TZID=Europe/Berlin:20260422T093000
DTEND;TZID=Europe/Berlin:20260422T110000
DTSTAMP:20260422T142404
CREATED:20260209T091241Z
LAST-MODIFIED:20260209T092915Z
UID:10010268-1776850200-1776855600@faz-hochrhein.de
SUMMARY:Der-die-das-Kurs für Anfänger
DESCRIPTION:Kosten: 1 €/Tag \n  \nReferentin: Hanne Breinig\, pensionierte Lehrerin \n 
URL:https://faz-hochrhein.de/veranstaltung/der-die-das-kurs-fuer-anfaenger/2026-04-22/
LOCATION:Familienzentrum Hochrhein\, Bertold-Schmidt-Platz 7\, Lauchringen\, 79787
CATEGORIES:Erwachsene & Senioren
GEO:47.629312;8.3022713
X-APPLE-STRUCTURED-LOCATION;VALUE=URI;X-ADDRESS=Familienzentrum Hochrhein Bertold-Schmidt-Platz 7 Lauchringen 79787;X-APPLE-RADIUS=500;X-TITLE=Bertold-Schmidt-Platz 7:geo:8.3022713,47.629312
END:VEVENT
BEGIN:VEVENT
DTSTART;TZID=Europe/Berlin:20260422T093000
DTEND;TZID=Europe/Berlin:20260422T110000
DTSTAMP:20260422T142404
CREATED:20260225T074017Z
LAST-MODIFIED:20260225T074017Z
UID:10010594-1776850200-1776855600@faz-hochrhein.de
SUMMARY:FrühstückPlus - eine Seminarreihe für neue Eltern
DESCRIPTION:
URL:https://faz-hochrhein.de/veranstaltung/fruehstueckplus-eine-seminarreihe-fuer-neue-eltern/2026-04-22/
LOCATION:Familienzentrum Hochrhein\, Bertold-Schmidt-Platz 7\, Lauchringen\, 79787
CATEGORIES:Erwachsene & Senioren
GEO:47.629312;8.3022713
X-APPLE-STRUCTURED-LOCATION;VALUE=URI;X-ADDRESS=Familienzentrum Hochrhein Bertold-Schmidt-Platz 7 Lauchringen 79787;X-APPLE-RADIUS=500;X-TITLE=Bertold-Schmidt-Platz 7:geo:8.3022713,47.629312
END:VEVENT
END:VCALENDAR