BEGIN:VCALENDAR
VERSION:2.0
PRODID:-//Familienzentrum Hochrhein - ECPv6.15.16//NONSGML v1.0//EN
CALSCALE:GREGORIAN
METHOD:PUBLISH
X-WR-CALNAME:Familienzentrum Hochrhein
X-ORIGINAL-URL:https://faz-hochrhein.de
X-WR-CALDESC:Veranstaltungen für Familienzentrum Hochrhein
REFRESH-INTERVAL;VALUE=DURATION:PT1H
X-Robots-Tag:noindex
X-PUBLISHED-TTL:PT1H
BEGIN:VTIMEZONE
TZID:Europe/Berlin
BEGIN:DAYLIGHT
TZOFFSETFROM:+0100
TZOFFSETTO:+0200
TZNAME:CEST
DTSTART:20250330T010000
END:DAYLIGHT
BEGIN:STANDARD
TZOFFSETFROM:+0200
TZOFFSETTO:+0100
TZNAME:CET
DTSTART:20251026T010000
END:STANDARD
BEGIN:DAYLIGHT
TZOFFSETFROM:+0100
TZOFFSETTO:+0200
TZNAME:CEST
DTSTART:20260329T010000
END:DAYLIGHT
BEGIN:STANDARD
TZOFFSETFROM:+0200
TZOFFSETTO:+0100
TZNAME:CET
DTSTART:20261025T010000
END:STANDARD
BEGIN:DAYLIGHT
TZOFFSETFROM:+0100
TZOFFSETTO:+0200
TZNAME:CEST
DTSTART:20270328T010000
END:DAYLIGHT
BEGIN:STANDARD
TZOFFSETFROM:+0200
TZOFFSETTO:+0100
TZNAME:CET
DTSTART:20271031T010000
END:STANDARD
END:VTIMEZONE
BEGIN:VEVENT
DTSTART;TZID=Europe/Berlin:20260429T160000
DTEND;TZID=Europe/Berlin:20260429T170000
DTSTAMP:20260425T135734
CREATED:20260421T084612Z
LAST-MODIFIED:20260421T084709Z
UID:10010650-1777478400-1777482000@faz-hochrhein.de
SUMMARY:Englisch-Anfänger-Kurs
DESCRIPTION:mit Trish \nkostenlos\, Anmeldung im FaZ
URL:https://faz-hochrhein.de/veranstaltung/englisch-anfaenger-kurs/2026-04-29/
LOCATION:Familienzentrum Hochrhein\, Bertold-Schmidt-Platz 7\, Lauchringen\, 79787
CATEGORIES:Caféteria
GEO:47.629312;8.3022713
X-APPLE-STRUCTURED-LOCATION;VALUE=URI;X-ADDRESS=Familienzentrum Hochrhein Bertold-Schmidt-Platz 7 Lauchringen 79787;X-APPLE-RADIUS=500;X-TITLE=Bertold-Schmidt-Platz 7:geo:8.3022713,47.629312
END:VEVENT
BEGIN:VEVENT
DTSTART;TZID=Europe/Berlin:20260506T160000
DTEND;TZID=Europe/Berlin:20260506T170000
DTSTAMP:20260425T135734
CREATED:20260421T084612Z
LAST-MODIFIED:20260421T084709Z
UID:10010651-1778083200-1778086800@faz-hochrhein.de
SUMMARY:Englisch-Anfänger-Kurs
DESCRIPTION:mit Trish \nkostenlos\, Anmeldung im FaZ
URL:https://faz-hochrhein.de/veranstaltung/englisch-anfaenger-kurs/2026-05-06/
LOCATION:Familienzentrum Hochrhein\, Bertold-Schmidt-Platz 7\, Lauchringen\, 79787
CATEGORIES:Caféteria
GEO:47.629312;8.3022713
X-APPLE-STRUCTURED-LOCATION;VALUE=URI;X-ADDRESS=Familienzentrum Hochrhein Bertold-Schmidt-Platz 7 Lauchringen 79787;X-APPLE-RADIUS=500;X-TITLE=Bertold-Schmidt-Platz 7:geo:8.3022713,47.629312
END:VEVENT
BEGIN:VEVENT
DTSTART;TZID=Europe/Berlin:20260513T160000
DTEND;TZID=Europe/Berlin:20260513T170000
DTSTAMP:20260425T135734
CREATED:20260421T084612Z
LAST-MODIFIED:20260421T084709Z
UID:10010652-1778688000-1778691600@faz-hochrhein.de
SUMMARY:Englisch-Anfänger-Kurs
DESCRIPTION:mit Trish \nkostenlos\, Anmeldung im FaZ
URL:https://faz-hochrhein.de/veranstaltung/englisch-anfaenger-kurs/2026-05-13/
LOCATION:Familienzentrum Hochrhein\, Bertold-Schmidt-Platz 7\, Lauchringen\, 79787
CATEGORIES:Caféteria
GEO:47.629312;8.3022713
X-APPLE-STRUCTURED-LOCATION;VALUE=URI;X-ADDRESS=Familienzentrum Hochrhein Bertold-Schmidt-Platz 7 Lauchringen 79787;X-APPLE-RADIUS=500;X-TITLE=Bertold-Schmidt-Platz 7:geo:8.3022713,47.629312
END:VEVENT
BEGIN:VEVENT
DTSTART;TZID=Europe/Berlin:20260520T160000
DTEND;TZID=Europe/Berlin:20260520T170000
DTSTAMP:20260425T135734
CREATED:20260421T084612Z
LAST-MODIFIED:20260421T084709Z
UID:10010653-1779292800-1779296400@faz-hochrhein.de
SUMMARY:Englisch-Anfänger-Kurs
DESCRIPTION:mit Trish \nkostenlos\, Anmeldung im FaZ
URL:https://faz-hochrhein.de/veranstaltung/englisch-anfaenger-kurs/2026-05-20/
LOCATION:Familienzentrum Hochrhein\, Bertold-Schmidt-Platz 7\, Lauchringen\, 79787
CATEGORIES:Caféteria
GEO:47.629312;8.3022713
X-APPLE-STRUCTURED-LOCATION;VALUE=URI;X-ADDRESS=Familienzentrum Hochrhein Bertold-Schmidt-Platz 7 Lauchringen 79787;X-APPLE-RADIUS=500;X-TITLE=Bertold-Schmidt-Platz 7:geo:8.3022713,47.629312
END:VEVENT
BEGIN:VEVENT
DTSTART;TZID=Europe/Berlin:20260527T160000
DTEND;TZID=Europe/Berlin:20260527T170000
DTSTAMP:20260425T135734
CREATED:20260421T084612Z
LAST-MODIFIED:20260421T084709Z
UID:10010654-1779897600-1779901200@faz-hochrhein.de
SUMMARY:Englisch-Anfänger-Kurs
DESCRIPTION:mit Trish \nkostenlos\, Anmeldung im FaZ
URL:https://faz-hochrhein.de/veranstaltung/englisch-anfaenger-kurs/2026-05-27/
LOCATION:Familienzentrum Hochrhein\, Bertold-Schmidt-Platz 7\, Lauchringen\, 79787
CATEGORIES:Caféteria
GEO:47.629312;8.3022713
X-APPLE-STRUCTURED-LOCATION;VALUE=URI;X-ADDRESS=Familienzentrum Hochrhein Bertold-Schmidt-Platz 7 Lauchringen 79787;X-APPLE-RADIUS=500;X-TITLE=Bertold-Schmidt-Platz 7:geo:8.3022713,47.629312
END:VEVENT
END:VCALENDAR