BEGIN:VCALENDAR
VERSION:2.0
PRODID:-//Familienzentrum Hochrhein - ECPv6.15.16//NONSGML v1.0//EN
CALSCALE:GREGORIAN
METHOD:PUBLISH
X-WR-CALNAME:Familienzentrum Hochrhein
X-ORIGINAL-URL:https://faz-hochrhein.de
X-WR-CALDESC:Veranstaltungen für Familienzentrum Hochrhein
REFRESH-INTERVAL;VALUE=DURATION:PT1H
X-Robots-Tag:noindex
X-PUBLISHED-TTL:PT1H
BEGIN:VTIMEZONE
TZID:Europe/Berlin
BEGIN:DAYLIGHT
TZOFFSETFROM:+0100
TZOFFSETTO:+0200
TZNAME:CEST
DTSTART:20250330T010000
END:DAYLIGHT
BEGIN:STANDARD
TZOFFSETFROM:+0200
TZOFFSETTO:+0100
TZNAME:CET
DTSTART:20251026T010000
END:STANDARD
BEGIN:DAYLIGHT
TZOFFSETFROM:+0100
TZOFFSETTO:+0200
TZNAME:CEST
DTSTART:20260329T010000
END:DAYLIGHT
BEGIN:STANDARD
TZOFFSETFROM:+0200
TZOFFSETTO:+0100
TZNAME:CET
DTSTART:20261025T010000
END:STANDARD
BEGIN:DAYLIGHT
TZOFFSETFROM:+0100
TZOFFSETTO:+0200
TZNAME:CEST
DTSTART:20270328T010000
END:DAYLIGHT
BEGIN:STANDARD
TZOFFSETFROM:+0200
TZOFFSETTO:+0100
TZNAME:CET
DTSTART:20271031T010000
END:STANDARD
END:VTIMEZONE
BEGIN:VEVENT
DTSTART;TZID=Europe/Berlin:20260423T093000
DTEND;TZID=Europe/Berlin:20260423T110000
DTSTAMP:20260419T151833
CREATED:20260206T083940Z
LAST-MODIFIED:20260211T094246Z
UID:10009924-1776936600-1776942000@faz-hochrhein.de
SUMMARY:Eltern-Treff für Kinder von 1 - 3 Jahre im Abenteuerland
DESCRIPTION:pädagogisch geleitete Eltern-Kind-Gruppe \nWir bitten jeweils um eine Spende von 3 Euro \nInformationen: Marion Dickmann\, m.dickmann@dw-hochrhein.de\, Tel. 07751–83040
URL:https://faz-hochrhein.de/veranstaltung/eltern-treff-fuer-kinder-von-1-3-jahre-im-abenteuerland/2026-04-23/
LOCATION:Familienzentrum Hochrhein\, Bertold-Schmidt-Platz 7\, Lauchringen\, 79787
CATEGORIES:Kleinkinder
GEO:47.629312;8.3022713
X-APPLE-STRUCTURED-LOCATION;VALUE=URI;X-ADDRESS=Familienzentrum Hochrhein Bertold-Schmidt-Platz 7 Lauchringen 79787;X-APPLE-RADIUS=500;X-TITLE=Bertold-Schmidt-Platz 7:geo:8.3022713,47.629312
END:VEVENT
BEGIN:VEVENT
DTSTART;TZID=Europe/Berlin:20260430T093000
DTEND;TZID=Europe/Berlin:20260430T110000
DTSTAMP:20260419T151833
CREATED:20260206T083940Z
LAST-MODIFIED:20260211T094246Z
UID:10009925-1777541400-1777546800@faz-hochrhein.de
SUMMARY:Eltern-Treff für Kinder von 1 - 3 Jahre im Abenteuerland
DESCRIPTION:pädagogisch geleitete Eltern-Kind-Gruppe \nWir bitten jeweils um eine Spende von 3 Euro \nInformationen: Marion Dickmann\, m.dickmann@dw-hochrhein.de\, Tel. 07751–83040
URL:https://faz-hochrhein.de/veranstaltung/eltern-treff-fuer-kinder-von-1-3-jahre-im-abenteuerland/2026-04-30/
LOCATION:Familienzentrum Hochrhein\, Bertold-Schmidt-Platz 7\, Lauchringen\, 79787
CATEGORIES:Kleinkinder
GEO:47.629312;8.3022713
X-APPLE-STRUCTURED-LOCATION;VALUE=URI;X-ADDRESS=Familienzentrum Hochrhein Bertold-Schmidt-Platz 7 Lauchringen 79787;X-APPLE-RADIUS=500;X-TITLE=Bertold-Schmidt-Platz 7:geo:8.3022713,47.629312
END:VEVENT
BEGIN:VEVENT
DTSTART;TZID=Europe/Berlin:20260507T093000
DTEND;TZID=Europe/Berlin:20260507T110000
DTSTAMP:20260419T151833
CREATED:20260206T083940Z
LAST-MODIFIED:20260211T094246Z
UID:10009926-1778146200-1778151600@faz-hochrhein.de
SUMMARY:Eltern-Treff für Kinder von 1 - 3 Jahre im Abenteuerland
DESCRIPTION:pädagogisch geleitete Eltern-Kind-Gruppe \nWir bitten jeweils um eine Spende von 3 Euro \nInformationen: Marion Dickmann\, m.dickmann@dw-hochrhein.de\, Tel. 07751–83040
URL:https://faz-hochrhein.de/veranstaltung/eltern-treff-fuer-kinder-von-1-3-jahre-im-abenteuerland/2026-05-07/
LOCATION:Familienzentrum Hochrhein\, Bertold-Schmidt-Platz 7\, Lauchringen\, 79787
CATEGORIES:Kleinkinder
GEO:47.629312;8.3022713
X-APPLE-STRUCTURED-LOCATION;VALUE=URI;X-ADDRESS=Familienzentrum Hochrhein Bertold-Schmidt-Platz 7 Lauchringen 79787;X-APPLE-RADIUS=500;X-TITLE=Bertold-Schmidt-Platz 7:geo:8.3022713,47.629312
END:VEVENT
BEGIN:VEVENT
DTSTART;TZID=Europe/Berlin:20260521T093000
DTEND;TZID=Europe/Berlin:20260521T110000
DTSTAMP:20260419T151833
CREATED:20260206T083940Z
LAST-MODIFIED:20260211T094246Z
UID:10009927-1779355800-1779361200@faz-hochrhein.de
SUMMARY:Eltern-Treff für Kinder von 1 - 3 Jahre im Abenteuerland
DESCRIPTION:pädagogisch geleitete Eltern-Kind-Gruppe \nWir bitten jeweils um eine Spende von 3 Euro \nInformationen: Marion Dickmann\, m.dickmann@dw-hochrhein.de\, Tel. 07751–83040
URL:https://faz-hochrhein.de/veranstaltung/eltern-treff-fuer-kinder-von-1-3-jahre-im-abenteuerland/2026-05-21/
LOCATION:Familienzentrum Hochrhein\, Bertold-Schmidt-Platz 7\, Lauchringen\, 79787
CATEGORIES:Kleinkinder
GEO:47.629312;8.3022713
X-APPLE-STRUCTURED-LOCATION;VALUE=URI;X-ADDRESS=Familienzentrum Hochrhein Bertold-Schmidt-Platz 7 Lauchringen 79787;X-APPLE-RADIUS=500;X-TITLE=Bertold-Schmidt-Platz 7:geo:8.3022713,47.629312
END:VEVENT
BEGIN:VEVENT
DTSTART;TZID=Europe/Berlin:20260611T093000
DTEND;TZID=Europe/Berlin:20260611T110000
DTSTAMP:20260419T151833
CREATED:20260206T083940Z
LAST-MODIFIED:20260211T094246Z
UID:10009928-1781170200-1781175600@faz-hochrhein.de
SUMMARY:Eltern-Treff für Kinder von 1 - 3 Jahre im Abenteuerland
DESCRIPTION:pädagogisch geleitete Eltern-Kind-Gruppe \nWir bitten jeweils um eine Spende von 3 Euro \nInformationen: Marion Dickmann\, m.dickmann@dw-hochrhein.de\, Tel. 07751–83040
URL:https://faz-hochrhein.de/veranstaltung/eltern-treff-fuer-kinder-von-1-3-jahre-im-abenteuerland/2026-06-11/
LOCATION:Familienzentrum Hochrhein\, Bertold-Schmidt-Platz 7\, Lauchringen\, 79787
CATEGORIES:Kleinkinder
GEO:47.629312;8.3022713
X-APPLE-STRUCTURED-LOCATION;VALUE=URI;X-ADDRESS=Familienzentrum Hochrhein Bertold-Schmidt-Platz 7 Lauchringen 79787;X-APPLE-RADIUS=500;X-TITLE=Bertold-Schmidt-Platz 7:geo:8.3022713,47.629312
END:VEVENT
BEGIN:VEVENT
DTSTART;TZID=Europe/Berlin:20260618T093000
DTEND;TZID=Europe/Berlin:20260618T110000
DTSTAMP:20260419T151833
CREATED:20260206T083940Z
LAST-MODIFIED:20260211T094246Z
UID:10009929-1781775000-1781780400@faz-hochrhein.de
SUMMARY:Eltern-Treff für Kinder von 1 - 3 Jahre im Abenteuerland
DESCRIPTION:pädagogisch geleitete Eltern-Kind-Gruppe \nWir bitten jeweils um eine Spende von 3 Euro \nInformationen: Marion Dickmann\, m.dickmann@dw-hochrhein.de\, Tel. 07751–83040
URL:https://faz-hochrhein.de/veranstaltung/eltern-treff-fuer-kinder-von-1-3-jahre-im-abenteuerland/2026-06-18/
LOCATION:Familienzentrum Hochrhein\, Bertold-Schmidt-Platz 7\, Lauchringen\, 79787
CATEGORIES:Kleinkinder
GEO:47.629312;8.3022713
X-APPLE-STRUCTURED-LOCATION;VALUE=URI;X-ADDRESS=Familienzentrum Hochrhein Bertold-Schmidt-Platz 7 Lauchringen 79787;X-APPLE-RADIUS=500;X-TITLE=Bertold-Schmidt-Platz 7:geo:8.3022713,47.629312
END:VEVENT
BEGIN:VEVENT
DTSTART;TZID=Europe/Berlin:20260625T093000
DTEND;TZID=Europe/Berlin:20260625T110000
DTSTAMP:20260419T151833
CREATED:20260206T083940Z
LAST-MODIFIED:20260211T094246Z
UID:10009930-1782379800-1782385200@faz-hochrhein.de
SUMMARY:Eltern-Treff für Kinder von 1 - 3 Jahre im Abenteuerland
DESCRIPTION:pädagogisch geleitete Eltern-Kind-Gruppe \nWir bitten jeweils um eine Spende von 3 Euro \nInformationen: Marion Dickmann\, m.dickmann@dw-hochrhein.de\, Tel. 07751–83040
URL:https://faz-hochrhein.de/veranstaltung/eltern-treff-fuer-kinder-von-1-3-jahre-im-abenteuerland/2026-06-25/
LOCATION:Familienzentrum Hochrhein\, Bertold-Schmidt-Platz 7\, Lauchringen\, 79787
CATEGORIES:Kleinkinder
GEO:47.629312;8.3022713
X-APPLE-STRUCTURED-LOCATION;VALUE=URI;X-ADDRESS=Familienzentrum Hochrhein Bertold-Schmidt-Platz 7 Lauchringen 79787;X-APPLE-RADIUS=500;X-TITLE=Bertold-Schmidt-Platz 7:geo:8.3022713,47.629312
END:VEVENT
BEGIN:VEVENT
DTSTART;TZID=Europe/Berlin:20260702T093000
DTEND;TZID=Europe/Berlin:20260702T110000
DTSTAMP:20260419T151833
CREATED:20260206T083940Z
LAST-MODIFIED:20260211T094246Z
UID:10009931-1782984600-1782990000@faz-hochrhein.de
SUMMARY:Eltern-Treff für Kinder von 1 - 3 Jahre im Abenteuerland
DESCRIPTION:pädagogisch geleitete Eltern-Kind-Gruppe \nWir bitten jeweils um eine Spende von 3 Euro \nInformationen: Marion Dickmann\, m.dickmann@dw-hochrhein.de\, Tel. 07751–83040
URL:https://faz-hochrhein.de/veranstaltung/eltern-treff-fuer-kinder-von-1-3-jahre-im-abenteuerland/2026-07-02/
LOCATION:Familienzentrum Hochrhein\, Bertold-Schmidt-Platz 7\, Lauchringen\, 79787
CATEGORIES:Kleinkinder
GEO:47.629312;8.3022713
X-APPLE-STRUCTURED-LOCATION;VALUE=URI;X-ADDRESS=Familienzentrum Hochrhein Bertold-Schmidt-Platz 7 Lauchringen 79787;X-APPLE-RADIUS=500;X-TITLE=Bertold-Schmidt-Platz 7:geo:8.3022713,47.629312
END:VEVENT
BEGIN:VEVENT
DTSTART;TZID=Europe/Berlin:20260709T093000
DTEND;TZID=Europe/Berlin:20260709T110000
DTSTAMP:20260419T151833
CREATED:20260206T083940Z
LAST-MODIFIED:20260211T094246Z
UID:10009932-1783589400-1783594800@faz-hochrhein.de
SUMMARY:Eltern-Treff für Kinder von 1 - 3 Jahre im Abenteuerland
DESCRIPTION:pädagogisch geleitete Eltern-Kind-Gruppe \nWir bitten jeweils um eine Spende von 3 Euro \nInformationen: Marion Dickmann\, m.dickmann@dw-hochrhein.de\, Tel. 07751–83040
URL:https://faz-hochrhein.de/veranstaltung/eltern-treff-fuer-kinder-von-1-3-jahre-im-abenteuerland/2026-07-09/
LOCATION:Familienzentrum Hochrhein\, Bertold-Schmidt-Platz 7\, Lauchringen\, 79787
CATEGORIES:Kleinkinder
GEO:47.629312;8.3022713
X-APPLE-STRUCTURED-LOCATION;VALUE=URI;X-ADDRESS=Familienzentrum Hochrhein Bertold-Schmidt-Platz 7 Lauchringen 79787;X-APPLE-RADIUS=500;X-TITLE=Bertold-Schmidt-Platz 7:geo:8.3022713,47.629312
END:VEVENT
BEGIN:VEVENT
DTSTART;TZID=Europe/Berlin:20260716T093000
DTEND;TZID=Europe/Berlin:20260716T110000
DTSTAMP:20260419T151833
CREATED:20260206T083940Z
LAST-MODIFIED:20260211T094246Z
UID:10009933-1784194200-1784199600@faz-hochrhein.de
SUMMARY:Eltern-Treff für Kinder von 1 - 3 Jahre im Abenteuerland
DESCRIPTION:pädagogisch geleitete Eltern-Kind-Gruppe \nWir bitten jeweils um eine Spende von 3 Euro \nInformationen: Marion Dickmann\, m.dickmann@dw-hochrhein.de\, Tel. 07751–83040
URL:https://faz-hochrhein.de/veranstaltung/eltern-treff-fuer-kinder-von-1-3-jahre-im-abenteuerland/2026-07-16/
LOCATION:Familienzentrum Hochrhein\, Bertold-Schmidt-Platz 7\, Lauchringen\, 79787
CATEGORIES:Kleinkinder
GEO:47.629312;8.3022713
X-APPLE-STRUCTURED-LOCATION;VALUE=URI;X-ADDRESS=Familienzentrum Hochrhein Bertold-Schmidt-Platz 7 Lauchringen 79787;X-APPLE-RADIUS=500;X-TITLE=Bertold-Schmidt-Platz 7:geo:8.3022713,47.629312
END:VEVENT
BEGIN:VEVENT
DTSTART;TZID=Europe/Berlin:20260723T093000
DTEND;TZID=Europe/Berlin:20260723T110000
DTSTAMP:20260419T151833
CREATED:20260206T083940Z
LAST-MODIFIED:20260211T094246Z
UID:10009934-1784799000-1784804400@faz-hochrhein.de
SUMMARY:Eltern-Treff für Kinder von 1 - 3 Jahre im Abenteuerland
DESCRIPTION:pädagogisch geleitete Eltern-Kind-Gruppe \nWir bitten jeweils um eine Spende von 3 Euro \nInformationen: Marion Dickmann\, m.dickmann@dw-hochrhein.de\, Tel. 07751–83040
URL:https://faz-hochrhein.de/veranstaltung/eltern-treff-fuer-kinder-von-1-3-jahre-im-abenteuerland/2026-07-23/
LOCATION:Familienzentrum Hochrhein\, Bertold-Schmidt-Platz 7\, Lauchringen\, 79787
CATEGORIES:Kleinkinder
GEO:47.629312;8.3022713
X-APPLE-STRUCTURED-LOCATION;VALUE=URI;X-ADDRESS=Familienzentrum Hochrhein Bertold-Schmidt-Platz 7 Lauchringen 79787;X-APPLE-RADIUS=500;X-TITLE=Bertold-Schmidt-Platz 7:geo:8.3022713,47.629312
END:VEVENT
BEGIN:VEVENT
DTSTART;TZID=Europe/Berlin:20260917T093000
DTEND;TZID=Europe/Berlin:20260917T110000
DTSTAMP:20260419T151833
CREATED:20260206T083940Z
LAST-MODIFIED:20260211T094246Z
UID:10009935-1789637400-1789642800@faz-hochrhein.de
SUMMARY:Eltern-Treff für Kinder von 1 - 3 Jahre im Abenteuerland
DESCRIPTION:pädagogisch geleitete Eltern-Kind-Gruppe \nWir bitten jeweils um eine Spende von 3 Euro \nInformationen: Marion Dickmann\, m.dickmann@dw-hochrhein.de\, Tel. 07751–83040
URL:https://faz-hochrhein.de/veranstaltung/eltern-treff-fuer-kinder-von-1-3-jahre-im-abenteuerland/2026-09-17/
LOCATION:Familienzentrum Hochrhein\, Bertold-Schmidt-Platz 7\, Lauchringen\, 79787
CATEGORIES:Kleinkinder
GEO:47.629312;8.3022713
X-APPLE-STRUCTURED-LOCATION;VALUE=URI;X-ADDRESS=Familienzentrum Hochrhein Bertold-Schmidt-Platz 7 Lauchringen 79787;X-APPLE-RADIUS=500;X-TITLE=Bertold-Schmidt-Platz 7:geo:8.3022713,47.629312
END:VEVENT
BEGIN:VEVENT
DTSTART;TZID=Europe/Berlin:20260924T093000
DTEND;TZID=Europe/Berlin:20260924T110000
DTSTAMP:20260419T151833
CREATED:20260206T083940Z
LAST-MODIFIED:20260211T094246Z
UID:10009936-1790242200-1790247600@faz-hochrhein.de
SUMMARY:Eltern-Treff für Kinder von 1 - 3 Jahre im Abenteuerland
DESCRIPTION:pädagogisch geleitete Eltern-Kind-Gruppe \nWir bitten jeweils um eine Spende von 3 Euro \nInformationen: Marion Dickmann\, m.dickmann@dw-hochrhein.de\, Tel. 07751–83040
URL:https://faz-hochrhein.de/veranstaltung/eltern-treff-fuer-kinder-von-1-3-jahre-im-abenteuerland/2026-09-24/
LOCATION:Familienzentrum Hochrhein\, Bertold-Schmidt-Platz 7\, Lauchringen\, 79787
CATEGORIES:Kleinkinder
GEO:47.629312;8.3022713
X-APPLE-STRUCTURED-LOCATION;VALUE=URI;X-ADDRESS=Familienzentrum Hochrhein Bertold-Schmidt-Platz 7 Lauchringen 79787;X-APPLE-RADIUS=500;X-TITLE=Bertold-Schmidt-Platz 7:geo:8.3022713,47.629312
END:VEVENT
BEGIN:VEVENT
DTSTART;TZID=Europe/Berlin:20261001T093000
DTEND;TZID=Europe/Berlin:20261001T110000
DTSTAMP:20260419T151833
CREATED:20260206T083940Z
LAST-MODIFIED:20260211T094246Z
UID:10009937-1790847000-1790852400@faz-hochrhein.de
SUMMARY:Eltern-Treff für Kinder von 1 - 3 Jahre im Abenteuerland
DESCRIPTION:pädagogisch geleitete Eltern-Kind-Gruppe \nWir bitten jeweils um eine Spende von 3 Euro \nInformationen: Marion Dickmann\, m.dickmann@dw-hochrhein.de\, Tel. 07751–83040
URL:https://faz-hochrhein.de/veranstaltung/eltern-treff-fuer-kinder-von-1-3-jahre-im-abenteuerland/2026-10-01/
LOCATION:Familienzentrum Hochrhein\, Bertold-Schmidt-Platz 7\, Lauchringen\, 79787
CATEGORIES:Kleinkinder
GEO:47.629312;8.3022713
X-APPLE-STRUCTURED-LOCATION;VALUE=URI;X-ADDRESS=Familienzentrum Hochrhein Bertold-Schmidt-Platz 7 Lauchringen 79787;X-APPLE-RADIUS=500;X-TITLE=Bertold-Schmidt-Platz 7:geo:8.3022713,47.629312
END:VEVENT
BEGIN:VEVENT
DTSTART;TZID=Europe/Berlin:20261008T093000
DTEND;TZID=Europe/Berlin:20261008T110000
DTSTAMP:20260419T151833
CREATED:20260206T083940Z
LAST-MODIFIED:20260211T094246Z
UID:10009938-1791451800-1791457200@faz-hochrhein.de
SUMMARY:Eltern-Treff für Kinder von 1 - 3 Jahre im Abenteuerland
DESCRIPTION:pädagogisch geleitete Eltern-Kind-Gruppe \nWir bitten jeweils um eine Spende von 3 Euro \nInformationen: Marion Dickmann\, m.dickmann@dw-hochrhein.de\, Tel. 07751–83040
URL:https://faz-hochrhein.de/veranstaltung/eltern-treff-fuer-kinder-von-1-3-jahre-im-abenteuerland/2026-10-08/
LOCATION:Familienzentrum Hochrhein\, Bertold-Schmidt-Platz 7\, Lauchringen\, 79787
CATEGORIES:Kleinkinder
GEO:47.629312;8.3022713
X-APPLE-STRUCTURED-LOCATION;VALUE=URI;X-ADDRESS=Familienzentrum Hochrhein Bertold-Schmidt-Platz 7 Lauchringen 79787;X-APPLE-RADIUS=500;X-TITLE=Bertold-Schmidt-Platz 7:geo:8.3022713,47.629312
END:VEVENT
BEGIN:VEVENT
DTSTART;TZID=Europe/Berlin:20261015T093000
DTEND;TZID=Europe/Berlin:20261015T110000
DTSTAMP:20260419T151833
CREATED:20260206T083940Z
LAST-MODIFIED:20260211T094246Z
UID:10009939-1792056600-1792062000@faz-hochrhein.de
SUMMARY:Eltern-Treff für Kinder von 1 - 3 Jahre im Abenteuerland
DESCRIPTION:pädagogisch geleitete Eltern-Kind-Gruppe \nWir bitten jeweils um eine Spende von 3 Euro \nInformationen: Marion Dickmann\, m.dickmann@dw-hochrhein.de\, Tel. 07751–83040
URL:https://faz-hochrhein.de/veranstaltung/eltern-treff-fuer-kinder-von-1-3-jahre-im-abenteuerland/2026-10-15/
LOCATION:Familienzentrum Hochrhein\, Bertold-Schmidt-Platz 7\, Lauchringen\, 79787
CATEGORIES:Kleinkinder
GEO:47.629312;8.3022713
X-APPLE-STRUCTURED-LOCATION;VALUE=URI;X-ADDRESS=Familienzentrum Hochrhein Bertold-Schmidt-Platz 7 Lauchringen 79787;X-APPLE-RADIUS=500;X-TITLE=Bertold-Schmidt-Platz 7:geo:8.3022713,47.629312
END:VEVENT
BEGIN:VEVENT
DTSTART;TZID=Europe/Berlin:20261022T093000
DTEND;TZID=Europe/Berlin:20261022T110000
DTSTAMP:20260419T151833
CREATED:20260206T083940Z
LAST-MODIFIED:20260211T094246Z
UID:10009940-1792661400-1792666800@faz-hochrhein.de
SUMMARY:Eltern-Treff für Kinder von 1 - 3 Jahre im Abenteuerland
DESCRIPTION:pädagogisch geleitete Eltern-Kind-Gruppe \nWir bitten jeweils um eine Spende von 3 Euro \nInformationen: Marion Dickmann\, m.dickmann@dw-hochrhein.de\, Tel. 07751–83040
URL:https://faz-hochrhein.de/veranstaltung/eltern-treff-fuer-kinder-von-1-3-jahre-im-abenteuerland/2026-10-22/
LOCATION:Familienzentrum Hochrhein\, Bertold-Schmidt-Platz 7\, Lauchringen\, 79787
CATEGORIES:Kleinkinder
GEO:47.629312;8.3022713
X-APPLE-STRUCTURED-LOCATION;VALUE=URI;X-ADDRESS=Familienzentrum Hochrhein Bertold-Schmidt-Platz 7 Lauchringen 79787;X-APPLE-RADIUS=500;X-TITLE=Bertold-Schmidt-Platz 7:geo:8.3022713,47.629312
END:VEVENT
BEGIN:VEVENT
DTSTART;TZID=Europe/Berlin:20261029T093000
DTEND;TZID=Europe/Berlin:20261029T110000
DTSTAMP:20260419T151833
CREATED:20260206T083940Z
LAST-MODIFIED:20260211T094246Z
UID:10009949-1793266200-1793271600@faz-hochrhein.de
SUMMARY:Eltern-Treff für Kinder von 1 - 3 Jahre im Abenteuerland
DESCRIPTION:pädagogisch geleitete Eltern-Kind-Gruppe \nWir bitten jeweils um eine Spende von 3 Euro \nInformationen: Marion Dickmann\, m.dickmann@dw-hochrhein.de\, Tel. 07751–83040
URL:https://faz-hochrhein.de/veranstaltung/eltern-treff-fuer-kinder-von-1-3-jahre-im-abenteuerland/2026-10-29/
LOCATION:Familienzentrum Hochrhein\, Bertold-Schmidt-Platz 7\, Lauchringen\, 79787
CATEGORIES:Kleinkinder
GEO:47.629312;8.3022713
X-APPLE-STRUCTURED-LOCATION;VALUE=URI;X-ADDRESS=Familienzentrum Hochrhein Bertold-Schmidt-Platz 7 Lauchringen 79787;X-APPLE-RADIUS=500;X-TITLE=Bertold-Schmidt-Platz 7:geo:8.3022713,47.629312
END:VEVENT
BEGIN:VEVENT
DTSTART;TZID=Europe/Berlin:20261105T093000
DTEND;TZID=Europe/Berlin:20261105T110000
DTSTAMP:20260419T151833
CREATED:20260206T083940Z
LAST-MODIFIED:20260211T094246Z
UID:10009941-1793871000-1793876400@faz-hochrhein.de
SUMMARY:Eltern-Treff für Kinder von 1 - 3 Jahre im Abenteuerland
DESCRIPTION:pädagogisch geleitete Eltern-Kind-Gruppe \nWir bitten jeweils um eine Spende von 3 Euro \nInformationen: Marion Dickmann\, m.dickmann@dw-hochrhein.de\, Tel. 07751–83040
URL:https://faz-hochrhein.de/veranstaltung/eltern-treff-fuer-kinder-von-1-3-jahre-im-abenteuerland/2026-11-05/
LOCATION:Familienzentrum Hochrhein\, Bertold-Schmidt-Platz 7\, Lauchringen\, 79787
CATEGORIES:Kleinkinder
GEO:47.629312;8.3022713
X-APPLE-STRUCTURED-LOCATION;VALUE=URI;X-ADDRESS=Familienzentrum Hochrhein Bertold-Schmidt-Platz 7 Lauchringen 79787;X-APPLE-RADIUS=500;X-TITLE=Bertold-Schmidt-Platz 7:geo:8.3022713,47.629312
END:VEVENT
BEGIN:VEVENT
DTSTART;TZID=Europe/Berlin:20261112T093000
DTEND;TZID=Europe/Berlin:20261112T110000
DTSTAMP:20260419T151833
CREATED:20260206T083940Z
LAST-MODIFIED:20260211T094246Z
UID:10009942-1794475800-1794481200@faz-hochrhein.de
SUMMARY:Eltern-Treff für Kinder von 1 - 3 Jahre im Abenteuerland
DESCRIPTION:pädagogisch geleitete Eltern-Kind-Gruppe \nWir bitten jeweils um eine Spende von 3 Euro \nInformationen: Marion Dickmann\, m.dickmann@dw-hochrhein.de\, Tel. 07751–83040
URL:https://faz-hochrhein.de/veranstaltung/eltern-treff-fuer-kinder-von-1-3-jahre-im-abenteuerland/2026-11-12/
LOCATION:Familienzentrum Hochrhein\, Bertold-Schmidt-Platz 7\, Lauchringen\, 79787
CATEGORIES:Kleinkinder
GEO:47.629312;8.3022713
X-APPLE-STRUCTURED-LOCATION;VALUE=URI;X-ADDRESS=Familienzentrum Hochrhein Bertold-Schmidt-Platz 7 Lauchringen 79787;X-APPLE-RADIUS=500;X-TITLE=Bertold-Schmidt-Platz 7:geo:8.3022713,47.629312
END:VEVENT
BEGIN:VEVENT
DTSTART;TZID=Europe/Berlin:20261119T093000
DTEND;TZID=Europe/Berlin:20261119T110000
DTSTAMP:20260419T151833
CREATED:20260206T083940Z
LAST-MODIFIED:20260211T094246Z
UID:10009943-1795080600-1795086000@faz-hochrhein.de
SUMMARY:Eltern-Treff für Kinder von 1 - 3 Jahre im Abenteuerland
DESCRIPTION:pädagogisch geleitete Eltern-Kind-Gruppe \nWir bitten jeweils um eine Spende von 3 Euro \nInformationen: Marion Dickmann\, m.dickmann@dw-hochrhein.de\, Tel. 07751–83040
URL:https://faz-hochrhein.de/veranstaltung/eltern-treff-fuer-kinder-von-1-3-jahre-im-abenteuerland/2026-11-19/
LOCATION:Familienzentrum Hochrhein\, Bertold-Schmidt-Platz 7\, Lauchringen\, 79787
CATEGORIES:Kleinkinder
GEO:47.629312;8.3022713
X-APPLE-STRUCTURED-LOCATION;VALUE=URI;X-ADDRESS=Familienzentrum Hochrhein Bertold-Schmidt-Platz 7 Lauchringen 79787;X-APPLE-RADIUS=500;X-TITLE=Bertold-Schmidt-Platz 7:geo:8.3022713,47.629312
END:VEVENT
BEGIN:VEVENT
DTSTART;TZID=Europe/Berlin:20261126T093000
DTEND;TZID=Europe/Berlin:20261126T110000
DTSTAMP:20260419T151833
CREATED:20260206T083940Z
LAST-MODIFIED:20260211T094246Z
UID:10009944-1795685400-1795690800@faz-hochrhein.de
SUMMARY:Eltern-Treff für Kinder von 1 - 3 Jahre im Abenteuerland
DESCRIPTION:pädagogisch geleitete Eltern-Kind-Gruppe \nWir bitten jeweils um eine Spende von 3 Euro \nInformationen: Marion Dickmann\, m.dickmann@dw-hochrhein.de\, Tel. 07751–83040
URL:https://faz-hochrhein.de/veranstaltung/eltern-treff-fuer-kinder-von-1-3-jahre-im-abenteuerland/2026-11-26/
LOCATION:Familienzentrum Hochrhein\, Bertold-Schmidt-Platz 7\, Lauchringen\, 79787
CATEGORIES:Kleinkinder
GEO:47.629312;8.3022713
X-APPLE-STRUCTURED-LOCATION;VALUE=URI;X-ADDRESS=Familienzentrum Hochrhein Bertold-Schmidt-Platz 7 Lauchringen 79787;X-APPLE-RADIUS=500;X-TITLE=Bertold-Schmidt-Platz 7:geo:8.3022713,47.629312
END:VEVENT
BEGIN:VEVENT
DTSTART;TZID=Europe/Berlin:20261203T093000
DTEND;TZID=Europe/Berlin:20261203T110000
DTSTAMP:20260419T151833
CREATED:20260206T083940Z
LAST-MODIFIED:20260211T094246Z
UID:10009945-1796290200-1796295600@faz-hochrhein.de
SUMMARY:Eltern-Treff für Kinder von 1 - 3 Jahre im Abenteuerland
DESCRIPTION:pädagogisch geleitete Eltern-Kind-Gruppe \nWir bitten jeweils um eine Spende von 3 Euro \nInformationen: Marion Dickmann\, m.dickmann@dw-hochrhein.de\, Tel. 07751–83040
URL:https://faz-hochrhein.de/veranstaltung/eltern-treff-fuer-kinder-von-1-3-jahre-im-abenteuerland/2026-12-03/
LOCATION:Familienzentrum Hochrhein\, Bertold-Schmidt-Platz 7\, Lauchringen\, 79787
CATEGORIES:Kleinkinder
GEO:47.629312;8.3022713
X-APPLE-STRUCTURED-LOCATION;VALUE=URI;X-ADDRESS=Familienzentrum Hochrhein Bertold-Schmidt-Platz 7 Lauchringen 79787;X-APPLE-RADIUS=500;X-TITLE=Bertold-Schmidt-Platz 7:geo:8.3022713,47.629312
END:VEVENT
BEGIN:VEVENT
DTSTART;TZID=Europe/Berlin:20261210T093000
DTEND;TZID=Europe/Berlin:20261210T110000
DTSTAMP:20260419T151833
CREATED:20260206T083940Z
LAST-MODIFIED:20260211T094246Z
UID:10009946-1796895000-1796900400@faz-hochrhein.de
SUMMARY:Eltern-Treff für Kinder von 1 - 3 Jahre im Abenteuerland
DESCRIPTION:pädagogisch geleitete Eltern-Kind-Gruppe \nWir bitten jeweils um eine Spende von 3 Euro \nInformationen: Marion Dickmann\, m.dickmann@dw-hochrhein.de\, Tel. 07751–83040
URL:https://faz-hochrhein.de/veranstaltung/eltern-treff-fuer-kinder-von-1-3-jahre-im-abenteuerland/2026-12-10/
LOCATION:Familienzentrum Hochrhein\, Bertold-Schmidt-Platz 7\, Lauchringen\, 79787
CATEGORIES:Kleinkinder
GEO:47.629312;8.3022713
X-APPLE-STRUCTURED-LOCATION;VALUE=URI;X-ADDRESS=Familienzentrum Hochrhein Bertold-Schmidt-Platz 7 Lauchringen 79787;X-APPLE-RADIUS=500;X-TITLE=Bertold-Schmidt-Platz 7:geo:8.3022713,47.629312
END:VEVENT
BEGIN:VEVENT
DTSTART;TZID=Europe/Berlin:20261217T093000
DTEND;TZID=Europe/Berlin:20261217T110000
DTSTAMP:20260419T151833
CREATED:20260206T083940Z
LAST-MODIFIED:20260211T094246Z
UID:10009947-1797499800-1797505200@faz-hochrhein.de
SUMMARY:Eltern-Treff für Kinder von 1 - 3 Jahre im Abenteuerland
DESCRIPTION:pädagogisch geleitete Eltern-Kind-Gruppe \nWir bitten jeweils um eine Spende von 3 Euro \nInformationen: Marion Dickmann\, m.dickmann@dw-hochrhein.de\, Tel. 07751–83040
URL:https://faz-hochrhein.de/veranstaltung/eltern-treff-fuer-kinder-von-1-3-jahre-im-abenteuerland/2026-12-17/
LOCATION:Familienzentrum Hochrhein\, Bertold-Schmidt-Platz 7\, Lauchringen\, 79787
CATEGORIES:Kleinkinder
GEO:47.629312;8.3022713
X-APPLE-STRUCTURED-LOCATION;VALUE=URI;X-ADDRESS=Familienzentrum Hochrhein Bertold-Schmidt-Platz 7 Lauchringen 79787;X-APPLE-RADIUS=500;X-TITLE=Bertold-Schmidt-Platz 7:geo:8.3022713,47.629312
END:VEVENT
BEGIN:VEVENT
DTSTART;TZID=Europe/Berlin:20261224T093000
DTEND;TZID=Europe/Berlin:20261224T110000
DTSTAMP:20260419T151833
CREATED:20260206T083940Z
LAST-MODIFIED:20260211T094246Z
UID:10009950-1798104600-1798110000@faz-hochrhein.de
SUMMARY:Eltern-Treff für Kinder von 1 - 3 Jahre im Abenteuerland
DESCRIPTION:pädagogisch geleitete Eltern-Kind-Gruppe \nWir bitten jeweils um eine Spende von 3 Euro \nInformationen: Marion Dickmann\, m.dickmann@dw-hochrhein.de\, Tel. 07751–83040
URL:https://faz-hochrhein.de/veranstaltung/eltern-treff-fuer-kinder-von-1-3-jahre-im-abenteuerland/2026-12-24/
LOCATION:Familienzentrum Hochrhein\, Bertold-Schmidt-Platz 7\, Lauchringen\, 79787
CATEGORIES:Kleinkinder
GEO:47.629312;8.3022713
X-APPLE-STRUCTURED-LOCATION;VALUE=URI;X-ADDRESS=Familienzentrum Hochrhein Bertold-Schmidt-Platz 7 Lauchringen 79787;X-APPLE-RADIUS=500;X-TITLE=Bertold-Schmidt-Platz 7:geo:8.3022713,47.629312
END:VEVENT
BEGIN:VEVENT
DTSTART;TZID=Europe/Berlin:20261231T093000
DTEND;TZID=Europe/Berlin:20261231T110000
DTSTAMP:20260419T151833
CREATED:20260206T083940Z
LAST-MODIFIED:20260211T094246Z
UID:10009951-1798709400-1798714800@faz-hochrhein.de
SUMMARY:Eltern-Treff für Kinder von 1 - 3 Jahre im Abenteuerland
DESCRIPTION:pädagogisch geleitete Eltern-Kind-Gruppe \nWir bitten jeweils um eine Spende von 3 Euro \nInformationen: Marion Dickmann\, m.dickmann@dw-hochrhein.de\, Tel. 07751–83040
URL:https://faz-hochrhein.de/veranstaltung/eltern-treff-fuer-kinder-von-1-3-jahre-im-abenteuerland/2026-12-31/
LOCATION:Familienzentrum Hochrhein\, Bertold-Schmidt-Platz 7\, Lauchringen\, 79787
CATEGORIES:Kleinkinder
GEO:47.629312;8.3022713
X-APPLE-STRUCTURED-LOCATION;VALUE=URI;X-ADDRESS=Familienzentrum Hochrhein Bertold-Schmidt-Platz 7 Lauchringen 79787;X-APPLE-RADIUS=500;X-TITLE=Bertold-Schmidt-Platz 7:geo:8.3022713,47.629312
END:VEVENT
END:VCALENDAR